BEGIN:VCALENDAR
VERSION:2.0
PRODID:-//Prairie Communications, LLC - ECPv6.15.20//NONSGML v1.0//EN
CALSCALE:GREGORIAN
METHOD:PUBLISH
X-ORIGINAL-URL:https://977wmoi.com
X-WR-CALDESC:Events for Prairie Communications, LLC
REFRESH-INTERVAL;VALUE=DURATION:PT1H
X-Robots-Tag:noindex
X-PUBLISHED-TTL:PT1H
BEGIN:VTIMEZONE
TZID:UTC
BEGIN:STANDARD
TZOFFSETFROM:+0000
TZOFFSETTO:+0000
TZNAME:UTC
DTSTART:20180101T000000
END:STANDARD
END:VTIMEZONE
BEGIN:VEVENT
DTSTART;VALUE=DATE:20190506
DTEND;VALUE=DATE:20190511
DTSTAMP:20260424T104147
CREATED:20190403T222530Z
LAST-MODIFIED:20190403T222530Z
UID:365338-1557100800-1557532799@977wmoi.com
SUMMARY:Clean-Up Week in Monmouth
DESCRIPTION:No paint. No tires. No electronics. No concrete. Items must be 50 pounds or less\, less than 8 feet in length\, tied together\, or placed in bags. All items need to be on boulevard before regular pick-up day.
URL:https://977wmoi.com/event/clean-up-week-in-monmouth/
END:VEVENT
BEGIN:VEVENT
DTSTART;TZID=UTC:20190509T153000
DTEND;TZID=UTC:20190509T170000
DTSTAMP:20260424T104147
CREATED:20190418T202257Z
LAST-MODIFIED:20190418T202257Z
UID:365572-1557415800-1557421200@977wmoi.com
SUMMARY:United School District Early Childhood Screenings
DESCRIPTION:West Elementary – 734-8513. For Kindergarten. Birth certificate must be presented at time of screening. Children must be 5 year’s old by September 1st in order to screen for Kindergarten.
URL:https://977wmoi.com/event/united-school-district-early-childhood-screenings-2/
END:VEVENT
END:VCALENDAR