BEGIN:VCALENDAR
VERSION:2.0
PRODID:-//Prairie Communications, LLC - ECPv6.15.20//NONSGML v1.0//EN
CALSCALE:GREGORIAN
METHOD:PUBLISH
X-ORIGINAL-URL:https://977wmoi.com
X-WR-CALDESC:Events for Prairie Communications, LLC
REFRESH-INTERVAL;VALUE=DURATION:PT1H
X-Robots-Tag:noindex
X-PUBLISHED-TTL:PT1H
BEGIN:VTIMEZONE
TZID:UTC
BEGIN:STANDARD
TZOFFSETFROM:+0000
TZOFFSETTO:+0000
TZNAME:UTC
DTSTART:20180101T000000
END:STANDARD
END:VTIMEZONE
BEGIN:VEVENT
DTSTART;TZID=UTC:20190513T113000
DTEND;TZID=UTC:20190513T133000
DTSTAMP:20260425T095857
CREATED:20190415T181002Z
LAST-MODIFIED:20190415T181002Z
UID:365474-1557747000-1557754200@977wmoi.com
SUMMARY:Galesburg Chamber Local Elected Official Luncheon
DESCRIPTION:Hear from local elected officials on city and county issues. Following the presentation\, enjoy a roundtable conversation over lunch with Galesburg Alderman and Knox County Board Members. Event will be held at Discovery Depot 2nd Floor. $20 for members. $30 for non-members.
URL:https://977wmoi.com/event/galesburg-chamber-local-elected-official-luncheon/
END:VEVENT
BEGIN:VEVENT
DTSTART;TZID=UTC:20190513T160000
DTEND;TZID=UTC:20190513T160000
DTSTAMP:20260425T095857
CREATED:20190418T205034Z
LAST-MODIFIED:20190418T205034Z
UID:365584-1557763200-1557763200@977wmoi.com
SUMMARY:Parkinson's Support Group
DESCRIPTION:In the Warren County YMCA Rock Steady Workout Room. Contact Marcia Parrish for more information at 309-221-7907.
URL:https://977wmoi.com/event/parkinsons-support-group-2/
END:VEVENT
BEGIN:VEVENT
DTSTART;TZID=UTC:20190513T160000
DTEND;TZID=UTC:20190513T170000
DTSTAMP:20260425T095857
CREATED:20190403T223332Z
LAST-MODIFIED:20190403T223332Z
UID:365340-1557763200-1557766800@977wmoi.com
SUMMARY:Parkinson's Support Group
DESCRIPTION:This is a wonderful opportunity to learn about Parkinson’s as well as gain support from other participants. Lead by Marcia Parrish. In the Warren County YMCA Rock Steady Room.
URL:https://977wmoi.com/event/parkinsons-support-group/
END:VEVENT
END:VCALENDAR