BEGIN:VCALENDAR
VERSION:2.0
PRODID:-//Prairie Communications, LLC - ECPv6.15.20//NONSGML v1.0//EN
CALSCALE:GREGORIAN
METHOD:PUBLISH
X-WR-CALNAME:Prairie Communications, LLC
X-ORIGINAL-URL:https://977wmoi.com
X-WR-CALDESC:Events for Prairie Communications, LLC
REFRESH-INTERVAL;VALUE=DURATION:PT1H
X-Robots-Tag:noindex
X-PUBLISHED-TTL:PT1H
BEGIN:VTIMEZONE
TZID:UTC
BEGIN:STANDARD
TZOFFSETFROM:+0000
TZOFFSETTO:+0000
TZNAME:UTC
DTSTART:20180101T000000
END:STANDARD
END:VTIMEZONE
BEGIN:VEVENT
DTSTART;TZID=UTC:20190516T120000
DTEND;TZID=UTC:20190516T120000
DTSTAMP:20260424T183331
CREATED:20190417T204852Z
LAST-MODIFIED:20190417T204852Z
UID:365552-1558008000-1558008000@977wmoi.com
SUMMARY:Monmouth College Associates
DESCRIPTION:Join professors Ken Cramer and Trudi Peterson for a taste of what the students experienced in and around the beautiful and vibrant host city\, Merida\, in the Yucatan peninsula of Mexico. Will be held in the Highlander Room at the Stockdale Student Center. Tickets are $10. RSVP by May 14th to alumni@monmouthcollege.edu or call 309-457-2231.
URL:https://977wmoi.com/event/monmouth-college-associates/
END:VEVENT
END:VCALENDAR