BEGIN:VCALENDAR
VERSION:2.0
PRODID:-//Prairie Communications, LLC - ECPv6.15.20//NONSGML v1.0//EN
CALSCALE:GREGORIAN
METHOD:PUBLISH
X-ORIGINAL-URL:https://977wmoi.com
X-WR-CALDESC:Events for Prairie Communications, LLC
REFRESH-INTERVAL;VALUE=DURATION:PT1H
X-Robots-Tag:noindex
X-PUBLISHED-TTL:PT1H
BEGIN:VTIMEZONE
TZID:UTC
BEGIN:STANDARD
TZOFFSETFROM:+0000
TZOFFSETTO:+0000
TZNAME:UTC
DTSTART:20180101T000000
END:STANDARD
END:VTIMEZONE
BEGIN:VEVENT
DTSTART;TZID=UTC:20190716T113000
DTEND;TZID=UTC:20190716T173000
DTSTAMP:20260424T191407
CREATED:20190624T184303Z
LAST-MODIFIED:20190624T184303Z
UID:366649-1563276600-1563298200@977wmoi.com
SUMMARY:Blood Drive
DESCRIPTION:At the Aledo VFW Hall\, 106 SW 3rd Ave.
URL:https://977wmoi.com/event/blood-drive-12/
END:VEVENT
BEGIN:VEVENT
DTSTART;TZID=UTC:20190716T130000
DTEND;TZID=UTC:20190716T130000
DTSTAMP:20260424T191407
CREATED:20190629T000106Z
LAST-MODIFIED:20190629T000106Z
UID:366811-1563282000-1563282000@977wmoi.com
SUMMARY:Warren County Fair
DESCRIPTION:-4-H CAT CARE – 1PM\n-4-H DOG CARE – 1:30PM
URL:https://977wmoi.com/event/warren-county-fair-3/
END:VEVENT
END:VCALENDAR