BEGIN:VCALENDAR
VERSION:2.0
PRODID:-//Prairie Communications, LLC - ECPv6.15.20//NONSGML v1.0//EN
CALSCALE:GREGORIAN
METHOD:PUBLISH
X-WR-CALNAME:Prairie Communications, LLC
X-ORIGINAL-URL:https://977wmoi.com
X-WR-CALDESC:Events for Prairie Communications, LLC
REFRESH-INTERVAL;VALUE=DURATION:PT1H
X-Robots-Tag:noindex
X-PUBLISHED-TTL:PT1H
BEGIN:VTIMEZONE
TZID:UTC
BEGIN:STANDARD
TZOFFSETFROM:+0000
TZOFFSETTO:+0000
TZNAME:UTC
DTSTART:20180101T000000
END:STANDARD
END:VTIMEZONE
BEGIN:VEVENT
DTSTART;VALUE=DATE:20190724
DTEND;VALUE=DATE:20190725
DTSTAMP:20260424T183245
CREATED:20190624T212141Z
LAST-MODIFIED:20190624T212141Z
UID:366671-1563926400-1564012799@977wmoi.com
SUMMARY:Henderson County Fair
DESCRIPTION:FARMER’S BREAKFAST – 6:30AM\nOPEN SHOW GENERAL PROJECTS – 9AM\nSHEEP SHOW THEN GOAT SHOW – 9AM\nFAMILY NIGHT – 6:30PM
URL:https://977wmoi.com/event/henderson-county-fair-4/
END:VEVENT
BEGIN:VEVENT
DTSTART;TZID=UTC:20190724T130000
DTEND;TZID=UTC:20190724T150000
DTSTAMP:20260424T183245
CREATED:20190701T210638Z
LAST-MODIFIED:20190701T210638Z
UID:366882-1563973200-1563980400@977wmoi.com
SUMMARY:BINGO at Henderson Senior Center
DESCRIPTION:Located at Schuler Street in Oquawka. Snacks and drink will be served. No charge to play 4 cards. Additional cards are 25 cents each.
URL:https://977wmoi.com/event/bingo-at-henderson-senior-center-2/
END:VEVENT
BEGIN:VEVENT
DTSTART;TZID=UTC:20190724T130000
DTEND;TZID=UTC:20190724T180000
DTSTAMP:20260424T183245
CREATED:20190624T184128Z
LAST-MODIFIED:20190624T184148Z
UID:366646-1563973200-1563991200@977wmoi.com
SUMMARY:Blood Drive
DESCRIPTION:At the Knox Agri Center\, 180 S Soangetaha Road in Galesburg.
URL:https://977wmoi.com/event/bloo-drive/
END:VEVENT
BEGIN:VEVENT
DTSTART;TZID=UTC:20190724T140000
DTEND;TZID=UTC:20190724T180000
DTSTAMP:20260424T183245
CREATED:20190624T183455Z
LAST-MODIFIED:20190624T183455Z
UID:366634-1563976800-1563991200@977wmoi.com
SUMMARY:Blood Drive
DESCRIPTION:At the First Christian Church\, 105 Dwight Street in Kewanee.
URL:https://977wmoi.com/event/blood-drive-6/
END:VEVENT
END:VCALENDAR