BEGIN:VCALENDAR
VERSION:2.0
PRODID:-//Prairie Communications, LLC - ECPv6.15.20//NONSGML v1.0//EN
CALSCALE:GREGORIAN
METHOD:PUBLISH
X-ORIGINAL-URL:https://977wmoi.com
X-WR-CALDESC:Events for Prairie Communications, LLC
REFRESH-INTERVAL;VALUE=DURATION:PT1H
X-Robots-Tag:noindex
X-PUBLISHED-TTL:PT1H
BEGIN:VTIMEZONE
TZID:UTC
BEGIN:STANDARD
TZOFFSETFROM:+0000
TZOFFSETTO:+0000
TZNAME:UTC
DTSTART:20180101T000000
END:STANDARD
END:VTIMEZONE
BEGIN:VEVENT
DTSTART;VALUE=DATE:20190725
DTEND;VALUE=DATE:20190726
DTSTAMP:20260424T093933
CREATED:20190624T212233Z
LAST-MODIFIED:20190624T212233Z
UID:366673-1564012800-1564099199@977wmoi.com
SUMMARY:Henderson County Fair
DESCRIPTION:BEEF SHOW – 9AM\nBUCKET CALF – 1PM\n4-H FASHION REVUE – 6:30PM\nTRACTOR PULL – 6:30PM (ADULTS – $6)
URL:https://977wmoi.com/event/henderson-county-fair-5/
END:VEVENT
BEGIN:VEVENT
DTSTART;TZID=UTC:20190725T140000
DTEND;TZID=UTC:20190725T180000
DTSTAMP:20260424T093933
CREATED:20190624T182931Z
LAST-MODIFIED:20190624T182931Z
UID:366624-1564063200-1564077600@977wmoi.com
SUMMARY:Blood Drive
DESCRIPTION:At St John’s Vianney Church\, 313 S West Street in Cambridge.
URL:https://977wmoi.com/event/blood-drive/
END:VEVENT
BEGIN:VEVENT
DTSTART;TZID=UTC:20190725T140000
DTEND;TZID=UTC:20190725T180000
DTSTAMP:20260424T093933
CREATED:20190624T183212Z
LAST-MODIFIED:20190624T183212Z
UID:366628-1564063200-1564077600@977wmoi.com
SUMMARY:Blood Drive
DESCRIPTION:At the Geneseo First Presbyterian Church\, 133 E North Street in Geneseo.
URL:https://977wmoi.com/event/blood-drive-3/
END:VEVENT
BEGIN:VEVENT
DTSTART;TZID=UTC:20190725T190000
DTEND;TZID=UTC:20190725T190000
DTSTAMP:20260424T093933
CREATED:20190710T021709Z
LAST-MODIFIED:20190710T021709Z
UID:367097-1564081200-1564081200@977wmoi.com
SUMMARY:From Sheep to Shawl
DESCRIPTION:Wool Working in Ancient Greece and Rome. Join the Warren County History Museum for a presentation on the history of wool working and weaving during the Ancient Greek and Roman periods\, followed by a demonstration on a working loom. The presentation will be given by Dr. Adrienne Hagen from Monmouth College. The event is free to attend.
URL:https://977wmoi.com/event/from-sheep-to-shawl/
END:VEVENT
END:VCALENDAR