BEGIN:VCALENDAR
VERSION:2.0
PRODID:-//Prairie Communications, LLC - ECPv6.15.20//NONSGML v1.0//EN
CALSCALE:GREGORIAN
METHOD:PUBLISH
X-WR-CALNAME:Prairie Communications, LLC
X-ORIGINAL-URL:https://977wmoi.com
X-WR-CALDESC:Events for Prairie Communications, LLC
REFRESH-INTERVAL;VALUE=DURATION:PT1H
X-Robots-Tag:noindex
X-PUBLISHED-TTL:PT1H
BEGIN:VTIMEZONE
TZID:UTC
BEGIN:STANDARD
TZOFFSETFROM:+0000
TZOFFSETTO:+0000
TZNAME:UTC
DTSTART:20180101T000000
END:STANDARD
END:VTIMEZONE
BEGIN:VEVENT
DTSTART;VALUE=DATE:20190726
DTEND;VALUE=DATE:20190729
DTSTAMP:20260422T060640
CREATED:20190612T005142Z
LAST-MODIFIED:20190612T005142Z
UID:366494-1564099200-1564358399@977wmoi.com
SUMMARY:The Great Balloon Race
DESCRIPTION:At Lake Storey Park in Galesburg. Events include kids crafts on Saturday\, kids parachute races\, night glows at dusk\, and a motorcycle show. All events are free and open to the public. Launch times will be held at 6pm on Friday\, 6am and 6pm on Saturday\, and 6am on Sunday. For more information\, visit http://galesburgballoonrace.com.
URL:https://977wmoi.com/event/the-great-balloon-race/
END:VEVENT
BEGIN:VEVENT
DTSTART;VALUE=DATE:20190726
DTEND;VALUE=DATE:20190727
DTSTAMP:20260422T060640
CREATED:20190624T212335Z
LAST-MODIFIED:20190624T212335Z
UID:366675-1564099200-1564185599@977wmoi.com
SUMMARY:Henderson County Fair
DESCRIPTION:SWINE SHOW – 9AM\nJR EXHIBITOR AUCTION – 6PM\nKIDS POWER WHEELS & LAWN MOWER – 7PM\nFIGURE 8 RACE – 7:30PM (ADULTS – $8)
URL:https://977wmoi.com/event/henderson-county-fair-6/
END:VEVENT
BEGIN:VEVENT
DTSTART;TZID=UTC:20190726T193000
DTEND;TZID=UTC:20190726T193000
DTSTAMP:20260422T060640
CREATED:20190521T191149Z
LAST-MODIFIED:20190521T191149Z
UID:365825-1564169400-1564169400@977wmoi.com
SUMMARY:Movie Night on the Plaza
DESCRIPTION:Buchanan Center for the Arts celebrating 30 years of the arts in Warren County. Join them for a viewing of Field of Dreams in the Pattee Plaza. Dinner will be at 7:30pm and movie at dusk. Feel free to bring your own lawn chair. Event is free and open to the public.
URL:https://977wmoi.com/event/movie-night-on-the-plaza/
END:VEVENT
END:VCALENDAR