BEGIN:VCALENDAR
VERSION:2.0
PRODID:-//Prairie Communications, LLC - ECPv6.15.20//NONSGML v1.0//EN
CALSCALE:GREGORIAN
METHOD:PUBLISH
X-ORIGINAL-URL:https://977wmoi.com
X-WR-CALDESC:Events for Prairie Communications, LLC
REFRESH-INTERVAL;VALUE=DURATION:PT1H
X-Robots-Tag:noindex
X-PUBLISHED-TTL:PT1H
BEGIN:VTIMEZONE
TZID:UTC
BEGIN:STANDARD
TZOFFSETFROM:+0000
TZOFFSETTO:+0000
TZNAME:UTC
DTSTART:20180101T000000
END:STANDARD
END:VTIMEZONE
BEGIN:VEVENT
DTSTART;VALUE=DATE:20190726
DTEND;VALUE=DATE:20190729
DTSTAMP:20260424T073500
CREATED:20190612T005142Z
LAST-MODIFIED:20190612T005142Z
UID:366494-1564099200-1564358399@977wmoi.com
SUMMARY:The Great Balloon Race
DESCRIPTION:At Lake Storey Park in Galesburg. Events include kids crafts on Saturday\, kids parachute races\, night glows at dusk\, and a motorcycle show. All events are free and open to the public. Launch times will be held at 6pm on Friday\, 6am and 6pm on Saturday\, and 6am on Sunday. For more information\, visit http://galesburgballoonrace.com.
URL:https://977wmoi.com/event/the-great-balloon-race/
END:VEVENT
END:VCALENDAR