BEGIN:VCALENDAR
VERSION:2.0
PRODID:-//Prairie Communications, LLC - ECPv6.15.20//NONSGML v1.0//EN
CALSCALE:GREGORIAN
METHOD:PUBLISH
X-WR-CALNAME:Prairie Communications, LLC
X-ORIGINAL-URL:https://977wmoi.com
X-WR-CALDESC:Events for Prairie Communications, LLC
REFRESH-INTERVAL;VALUE=DURATION:PT1H
X-Robots-Tag:noindex
X-PUBLISHED-TTL:PT1H
BEGIN:VTIMEZONE
TZID:UTC
BEGIN:STANDARD
TZOFFSETFROM:+0000
TZOFFSETTO:+0000
TZNAME:UTC
DTSTART:20180101T000000
END:STANDARD
END:VTIMEZONE
BEGIN:VEVENT
DTSTART;TZID=UTC:20190731T170000
DTEND;TZID=UTC:20190731T180000
DTSTAMP:20260422T025742
CREATED:20190723T235925Z
LAST-MODIFIED:20190724T000221Z
UID:367810-1564592400-1564596000@977wmoi.com
SUMMARY:Yoga in the BCA Gallery
DESCRIPTION:$10 a session. Participants need to bring their own yoga mat.
URL:https://977wmoi.com/event/yoga-in-the-bca-gallery/
END:VEVENT
END:VCALENDAR