BEGIN:VCALENDAR
VERSION:2.0
PRODID:-//Prairie Communications, LLC - ECPv6.15.20//NONSGML v1.0//EN
CALSCALE:GREGORIAN
METHOD:PUBLISH
X-ORIGINAL-URL:https://977wmoi.com
X-WR-CALDESC:Events for Prairie Communications, LLC
REFRESH-INTERVAL;VALUE=DURATION:PT1H
X-Robots-Tag:noindex
X-PUBLISHED-TTL:PT1H
BEGIN:VTIMEZONE
TZID:UTC
BEGIN:STANDARD
TZOFFSETFROM:+0000
TZOFFSETTO:+0000
TZNAME:UTC
DTSTART:20180101T000000
END:STANDARD
END:VTIMEZONE
BEGIN:VEVENT
DTSTART;TZID=UTC:20190803T083000
DTEND;TZID=UTC:20190803T183000
DTSTAMP:20260424T202844
CREATED:20190729T182357Z
LAST-MODIFIED:20190729T182357Z
UID:367931-1564821000-1564857000@977wmoi.com
SUMMARY:Stuff the Bus
DESCRIPTION:The Salvation Army and Walmart are stuffing the bus the donate school supplies for students across Knox County. Event will take place at 659 Knox Square Drive in Galesburg.
URL:https://977wmoi.com/event/stuff-the-bus/
END:VEVENT
BEGIN:VEVENT
DTSTART;TZID=UTC:20190803T090000
DTEND;TZID=UTC:20190803T110000
DTSTAMP:20260424T202844
CREATED:20190722T202024Z
LAST-MODIFIED:20190722T202024Z
UID:367754-1564822800-1564830000@977wmoi.com
SUMMARY:Annual Baby Shower/Open House
DESCRIPTION:At The Women’s Pregnancy Center\, 1252 W Fremont in Galesburg.
URL:https://977wmoi.com/event/annual-baby-shower-open-house/
END:VEVENT
END:VCALENDAR