BEGIN:VCALENDAR
VERSION:2.0
PRODID:-//Prairie Communications, LLC - ECPv6.15.20//NONSGML v1.0//EN
CALSCALE:GREGORIAN
METHOD:PUBLISH
X-ORIGINAL-URL:https://977wmoi.com
X-WR-CALDESC:Events for Prairie Communications, LLC
REFRESH-INTERVAL;VALUE=DURATION:PT1H
X-Robots-Tag:noindex
X-PUBLISHED-TTL:PT1H
BEGIN:VTIMEZONE
TZID:America/Chicago
BEGIN:DAYLIGHT
TZOFFSETFROM:-0600
TZOFFSETTO:-0500
TZNAME:CDT
DTSTART:20190310T080000
END:DAYLIGHT
BEGIN:STANDARD
TZOFFSETFROM:-0500
TZOFFSETTO:-0600
TZNAME:CST
DTSTART:20191103T070000
END:STANDARD
BEGIN:DAYLIGHT
TZOFFSETFROM:-0600
TZOFFSETTO:-0500
TZNAME:CDT
DTSTART:20200308T080000
END:DAYLIGHT
BEGIN:STANDARD
TZOFFSETFROM:-0500
TZOFFSETTO:-0600
TZNAME:CST
DTSTART:20201101T070000
END:STANDARD
BEGIN:DAYLIGHT
TZOFFSETFROM:-0600
TZOFFSETTO:-0500
TZNAME:CDT
DTSTART:20210314T080000
END:DAYLIGHT
BEGIN:STANDARD
TZOFFSETFROM:-0500
TZOFFSETTO:-0600
TZNAME:CST
DTSTART:20211107T070000
END:STANDARD
END:VTIMEZONE
BEGIN:VEVENT
DTSTART;VALUE=DATE:20200414
DTEND;VALUE=DATE:20200503
DTSTAMP:20260425T154904
CREATED:20200410T143918Z
LAST-MODIFIED:20200414T131708Z
UID:376843-1586822400-1588463999@977wmoi.com
SUMMARY:CURB-SIDE CARE and COVID-19 Testing with Eagle View in Oquawka
DESCRIPTION:New patients are welcome! Beginning April 13 th Patients will be seen CURB-SIDE by an Eagle View provider and may be tested for COVID-19\, influenza\, Strep throat\, mono\, or RSV depending on your symptoms. If you are sick\, call 309-867-2202 to schedule an appointment for a CURB-SIDE visit between the hours of 9:00 a.m. to 11:00 a.m. and 3:00 p.m. to 5:00 p.m. Monday-Friday. LOCATION: Slagel’s Fruit Stand\, directly across from Eagle View Oquawka location at 1204 highway 164E Oquawka\, IL Most insurances accepted. Telehealth is also now available. Call today for more information.
URL:https://977wmoi.com/event/curb-side-care-and-covid-19-testing-with-eagle-view-in-oquawka/
END:VEVENT
BEGIN:VEVENT
DTSTART;VALUE=DATE:20200414
DTEND;VALUE=DATE:20200507
DTSTAMP:20260425T154904
CREATED:20200413T130048Z
LAST-MODIFIED:20200414T131741Z
UID:376800-1586822400-1588809599@977wmoi.com
SUMMARY:Jamieson Community Center Food Pantry is Open
DESCRIPTION:11:30 AM – 3:30 PM\, Tuesday-Friday\n10 AM – 2 PM\, 2nd and 4th Saturdays each month
URL:https://977wmoi.com/event/jamieson-community-center-food-pantry-is-open/
END:VEVENT
BEGIN:VEVENT
DTSTART;VALUE=DATE:20200414
DTEND;VALUE=DATE:20200507
DTSTAMP:20260425T154904
CREATED:20200413T130217Z
LAST-MODIFIED:20200414T131813Z
UID:376802-1586822400-1588809599@977wmoi.com
SUMMARY:Roseville Helping Hands Food Pantry is Open
DESCRIPTION:Mondays 9 a.m.-12 p.m. \nThursdays 3 p.m.-6 p.m. \nThe Pantry will be CLOSED on the following days in 2020:\n​*****\nMonday\, April 13 Easter Holiday\nMonday\, May 25 Memorial Day\nMonday\, September 7 Labor Day\nThursday\, November 26 Thanksgiving Day\nThursday\, December 24 Christmas Eve\nThursday\, December 31 New Year’s Eve
URL:https://977wmoi.com/event/roseville-helping-hands-food-pantry-is-open-2/
END:VEVENT
BEGIN:VEVENT
DTSTART;VALUE=DATE:20200420
DTEND;VALUE=DATE:20200504
DTSTAMP:20260425T154904
CREATED:20200420T172137Z
LAST-MODIFIED:20200420T172137Z
UID:377122-1587340800-1588550399@977wmoi.com
SUMMARY:Blessing Box on South 3rd in Monmouth
DESCRIPTION:Local Monmouth resident Karla Wallace is finding a way to give back to our community.  You may know Wallace from her annual School Park Backpack program and now she is adding a Blessing Box to her philanthropic endeavors.  The Blessing Box is located at 821 South 3rd Street and is for anyone that may need any of the products she is providing free of charge.  She also has a box for donations if people want to support the Blessing Box cause.  Wallace says she will soon add meat to to box that currently contains can goods\, raisins\, beans\, cereal and paper goods. Wallace adds that her philosophy is “Life is better with a friend”.
URL:https://977wmoi.com/event/blessing-box-on-south-3rd-in-monmouth/
END:VEVENT
END:VCALENDAR