BEGIN:VCALENDAR
VERSION:2.0
PRODID:-//Prairie Communications, LLC - ECPv6.15.20//NONSGML v1.0//EN
CALSCALE:GREGORIAN
METHOD:PUBLISH
X-ORIGINAL-URL:https://977wmoi.com
X-WR-CALDESC:Events for Prairie Communications, LLC
REFRESH-INTERVAL;VALUE=DURATION:PT1H
X-Robots-Tag:noindex
X-PUBLISHED-TTL:PT1H
BEGIN:VTIMEZONE
TZID:America/Chicago
BEGIN:DAYLIGHT
TZOFFSETFROM:-0600
TZOFFSETTO:-0500
TZNAME:CDT
DTSTART:20190310T080000
END:DAYLIGHT
BEGIN:STANDARD
TZOFFSETFROM:-0500
TZOFFSETTO:-0600
TZNAME:CST
DTSTART:20191103T070000
END:STANDARD
BEGIN:DAYLIGHT
TZOFFSETFROM:-0600
TZOFFSETTO:-0500
TZNAME:CDT
DTSTART:20200308T080000
END:DAYLIGHT
BEGIN:STANDARD
TZOFFSETFROM:-0500
TZOFFSETTO:-0600
TZNAME:CST
DTSTART:20201101T070000
END:STANDARD
BEGIN:DAYLIGHT
TZOFFSETFROM:-0600
TZOFFSETTO:-0500
TZNAME:CDT
DTSTART:20210314T080000
END:DAYLIGHT
BEGIN:STANDARD
TZOFFSETFROM:-0500
TZOFFSETTO:-0600
TZNAME:CST
DTSTART:20211107T070000
END:STANDARD
END:VTIMEZONE
BEGIN:VEVENT
DTSTART;VALUE=DATE:20200520
DTEND;VALUE=DATE:20200601
DTSTAMP:20260425T224847
CREATED:20200520T123642Z
LAST-MODIFIED:20200520T123642Z
UID:378048-1589932800-1590969599@977wmoi.com
SUMMARY:Distribution of Holy Communion at Corpus Christi Catholic Church
DESCRIPTION:Distribution of Holy Communion is now permitted.  Holy Communion will be distributed each Wednesday and Sunday beginning on 5/20/2020 until further notice.  Distribution of Holy Communion will take place at Corpus Christi Catholic Church (273 S. Prairie St | Galesburg) after the 8:00 AM Mass on Wednesdays (c. 8:30 AM – c. 8:45 AM)\, and after the 10:00 AM Mass on Sundays (c. 11:00 AM – 11:30 AM).  A walk-up communion station and drive-thru communion station will be available during all time slots\, as well as sanitizing options before receiving Holy Communion.\n\nA collection drop-off for all parishes will be available at the Sunday time slots. Please either use your parish envelope or write the intended parish on an envelope if you wish to track your contribution for tax purposes. Envelopes will be sorted to intended parishes after each collection.
URL:https://977wmoi.com/event/distribution-of-holy-communion-at-corpus-christi-catholic-church/
END:VEVENT
BEGIN:VEVENT
DTSTART;VALUE=DATE:20200529
DTEND;VALUE=DATE:20200530
DTSTAMP:20260425T224847
CREATED:20200527T154933Z
LAST-MODIFIED:20200527T154933Z
UID:378269-1590710400-1590796799@977wmoi.com
SUMMARY:Historic Bishop Hill is Reopening
DESCRIPTION:Experiencing cabin fever?  Looking for a relaxing day trip?  How about a picnic in a park? Then visit historic Bishop Hill.  Bishop Hill’s stores\, restaurants\, and museums will be reopening May 29.  The Colony Store\, VASA National Archives\, Sweet Annie’s Primitives\, Prairie Arts Center\, Entwined\, Twisted by Design\, and the Krans Kafe are just some of the places that will be open this Friday.  Our four restaurants have either curbside delivery or outside seating available.  Escape the 21st century and step back into the 19th century by experiencing this Utopia on the Prairie.   Please call 309 927-3899\, email bhha@mymctc.net\, or visit https://www.visitbishophill.com/ for more information about Bishop Hill.
URL:https://977wmoi.com/event/historic-bishop-hill-is-reopening/
END:VEVENT
END:VCALENDAR