BEGIN:VCALENDAR
VERSION:2.0
PRODID:-//Prairie Communications, LLC - ECPv6.15.20//NONSGML v1.0//EN
CALSCALE:GREGORIAN
METHOD:PUBLISH
X-WR-CALNAME:Prairie Communications, LLC
X-ORIGINAL-URL:https://977wmoi.com
X-WR-CALDESC:Events for Prairie Communications, LLC
REFRESH-INTERVAL;VALUE=DURATION:PT1H
X-Robots-Tag:noindex
X-PUBLISHED-TTL:PT1H
BEGIN:VTIMEZONE
TZID:America/Chicago
BEGIN:DAYLIGHT
TZOFFSETFROM:-0600
TZOFFSETTO:-0500
TZNAME:CDT
DTSTART:20190310T080000
END:DAYLIGHT
BEGIN:STANDARD
TZOFFSETFROM:-0500
TZOFFSETTO:-0600
TZNAME:CST
DTSTART:20191103T070000
END:STANDARD
BEGIN:DAYLIGHT
TZOFFSETFROM:-0600
TZOFFSETTO:-0500
TZNAME:CDT
DTSTART:20200308T080000
END:DAYLIGHT
BEGIN:STANDARD
TZOFFSETFROM:-0500
TZOFFSETTO:-0600
TZNAME:CST
DTSTART:20201101T070000
END:STANDARD
BEGIN:DAYLIGHT
TZOFFSETFROM:-0600
TZOFFSETTO:-0500
TZNAME:CDT
DTSTART:20210314T080000
END:DAYLIGHT
BEGIN:STANDARD
TZOFFSETFROM:-0500
TZOFFSETTO:-0600
TZNAME:CST
DTSTART:20211107T070000
END:STANDARD
END:VTIMEZONE
BEGIN:VEVENT
DTSTART;VALUE=DATE:20200603
DTEND;VALUE=DATE:20200703
DTSTAMP:20260425T081149
CREATED:20200603T130443Z
LAST-MODIFIED:20200603T130443Z
UID:378514-1591142400-1593734399@977wmoi.com
SUMMARY:Hot Ice at the BCA
DESCRIPTION:On view June 2-August 14\, Michael Godsil and Harlow Blum come together with a collection of work reflecting Godsil’s 30-year photographic study and retrospective of glaciers juxtaposed with Blum’s mixed media work paralleling the same subject matter. Additional information on the exhibit and artist statements may be found on our website at: bcaarts.org. \nThe BCA gallery will practice social distancing throughout the exhibition; the wearing of masks is required at all times while in the gallery.
URL:https://977wmoi.com/event/hot-ice-at-the-bca/
END:VEVENT
BEGIN:VEVENT
DTSTART;VALUE=DATE:20200608
DTEND;VALUE=DATE:20200701
DTSTAMP:20260425T081149
CREATED:20200608T131010Z
LAST-MODIFIED:20200608T131010Z
UID:378660-1591574400-1593561599@977wmoi.com
SUMMARY:United 304: PreK Screenings
DESCRIPTION:Contact United North at maggie..wallace@u304.org or United West at patrick.coate@u304.org. to receive a screening application. Current United Pre-K students do not need to screen. All applications are due on July 1.
URL:https://977wmoi.com/event/united-304-prek-screenings/
END:VEVENT
BEGIN:VEVENT
DTSTART;VALUE=DATE:20200613
DTEND;VALUE=DATE:20200614
DTSTAMP:20260425T081149
CREATED:20200609T192244Z
LAST-MODIFIED:20200609T192244Z
UID:378777-1592006400-1592092799@977wmoi.com
SUMMARY:Re-imagine the Arts Live Music on the Plaza Saturday\, June 13
DESCRIPTION:During the summer months\, the Buchanan Center will host a series of artists\, musicians\, and singers who will perform on the Pattee Plaza or in front of the BCA building on the public Square. Artists will be on site during the days the BCA is open. This is part of our effort to reimagine the arts – together while apart. \nEach week — times will vary like a “pop-up” museum — the Buchanan Center will bring new and different forms of art to you. \nWe kick off the summer series with live music on the Plaza Saturday\, June 13. Singer and guitarist King Neptune performs the up-tempo Piedmont blues of Blind Boy Fuller and Blind Blake\, as well as original arrangements of songs by Bessie Smith. Focusing on the music of the 1920s and 30s\, he is an accomplished musician and storyteller\, performing acoustic pre-war blues for over 20 years.\n#ArtKeepsGoing\n#ArtsForAll
URL:https://977wmoi.com/event/re-imagine-the-arts-live-music-on-the-plaza-saturday-june-13/
END:VEVENT
END:VCALENDAR