BEGIN:VCALENDAR
VERSION:2.0
PRODID:-//Prairie Communications, LLC - ECPv6.15.20//NONSGML v1.0//EN
CALSCALE:GREGORIAN
METHOD:PUBLISH
X-WR-CALNAME:Prairie Communications, LLC
X-ORIGINAL-URL:https://977wmoi.com
X-WR-CALDESC:Events for Prairie Communications, LLC
REFRESH-INTERVAL;VALUE=DURATION:PT1H
X-Robots-Tag:noindex
X-PUBLISHED-TTL:PT1H
BEGIN:VTIMEZONE
TZID:America/Chicago
BEGIN:DAYLIGHT
TZOFFSETFROM:-0600
TZOFFSETTO:-0500
TZNAME:CDT
DTSTART:20190310T080000
END:DAYLIGHT
BEGIN:STANDARD
TZOFFSETFROM:-0500
TZOFFSETTO:-0600
TZNAME:CST
DTSTART:20191103T070000
END:STANDARD
BEGIN:DAYLIGHT
TZOFFSETFROM:-0600
TZOFFSETTO:-0500
TZNAME:CDT
DTSTART:20200308T080000
END:DAYLIGHT
BEGIN:STANDARD
TZOFFSETFROM:-0500
TZOFFSETTO:-0600
TZNAME:CST
DTSTART:20201101T070000
END:STANDARD
BEGIN:DAYLIGHT
TZOFFSETFROM:-0600
TZOFFSETTO:-0500
TZNAME:CDT
DTSTART:20210314T080000
END:DAYLIGHT
BEGIN:STANDARD
TZOFFSETFROM:-0500
TZOFFSETTO:-0600
TZNAME:CST
DTSTART:20211107T070000
END:STANDARD
END:VTIMEZONE
BEGIN:VEVENT
DTSTART;VALUE=DATE:20200701
DTEND;VALUE=DATE:20200802
DTSTAMP:20260423T221111
CREATED:20200630T202451Z
LAST-MODIFIED:20200630T202451Z
UID:379596-1593561600-1596326399@977wmoi.com
SUMMARY:BCA Selfie-Art Scavenger Hunt
DESCRIPTION:Want to get off the couch and find something fun to do? Buchanan Center board member Mary Osborne\, pictured in her version of “Life Imitates Art\,” has the perfect solution for you— a Selfie-Art Scavenger Hunt during the month of July. Each week we will post clues on the SELFIE-ART SCAVENGER HUNT Facebook event page throughout the month of July. There are 10 clues total. When you think you’ve cracked the clue\, go to the place where the public art is located and take a picture of yourself with the artwork. Submit all ten photos with your name and phone number to: buchanancenter@mtcnow.net. All who submit the correct answers to the 10 clues will be placed in a drawing for a $100 cash prize and a BCA membership. The winner will be drawn on July 31.
URL:https://977wmoi.com/event/bca-selfie-art-scavenger-hunt/
END:VEVENT
BEGIN:VEVENT
DTSTART;VALUE=DATE:20200731
DTEND;VALUE=DATE:20200801
DTSTAMP:20260423T221111
CREATED:20200511T125824Z
LAST-MODIFIED:20200511T125824Z
UID:377754-1596153600-1596239999@977wmoi.com
SUMMARY:Monmouth Maple City Cruise Night has been Cancelled
DESCRIPTION:
URL:https://977wmoi.com/event/monmouth-maple-city-cruise-night-has-been-cancelled/
END:VEVENT
BEGIN:VEVENT
DTSTART;TZID=America/Chicago:20200731T173000
DTEND;TZID=America/Chicago:20200731T190000
DTSTAMP:20260423T221111
CREATED:20200715T195509Z
LAST-MODIFIED:20200715T195509Z
UID:380091-1596216600-1596222000@977wmoi.com
SUMMARY:Monmouth Knights of Columbus Fish Fry
DESCRIPTION:Serving 250 from: 5:30-7:00 p.m. Carry Out Service Only. $11.50 Catfish Dinner Dinner Includes: Our Delicious Fried Whole Catfish\, Baked Potato\, Our Famous Homemade Cole Slaw\, Baked Beans\, & Bread. KC Club of Monmouth 120 South Sunny Lane 734-3258. Support Enables the Knight’s to Continue their Community Contributions.
URL:https://977wmoi.com/event/monmouth-knights-of-columbus-fish-fry/
END:VEVENT
END:VCALENDAR