BEGIN:VCALENDAR
VERSION:2.0
PRODID:-//Prairie Communications, LLC - ECPv6.15.20//NONSGML v1.0//EN
CALSCALE:GREGORIAN
METHOD:PUBLISH
X-ORIGINAL-URL:https://977wmoi.com
X-WR-CALDESC:Events for Prairie Communications, LLC
REFRESH-INTERVAL;VALUE=DURATION:PT1H
X-Robots-Tag:noindex
X-PUBLISHED-TTL:PT1H
BEGIN:VTIMEZONE
TZID:America/Chicago
BEGIN:DAYLIGHT
TZOFFSETFROM:-0600
TZOFFSETTO:-0500
TZNAME:CDT
DTSTART:20200308T080000
END:DAYLIGHT
BEGIN:STANDARD
TZOFFSETFROM:-0500
TZOFFSETTO:-0600
TZNAME:CST
DTSTART:20201101T070000
END:STANDARD
BEGIN:DAYLIGHT
TZOFFSETFROM:-0600
TZOFFSETTO:-0500
TZNAME:CDT
DTSTART:20210314T080000
END:DAYLIGHT
BEGIN:STANDARD
TZOFFSETFROM:-0500
TZOFFSETTO:-0600
TZNAME:CST
DTSTART:20211107T070000
END:STANDARD
BEGIN:DAYLIGHT
TZOFFSETFROM:-0600
TZOFFSETTO:-0500
TZNAME:CDT
DTSTART:20220313T080000
END:DAYLIGHT
BEGIN:STANDARD
TZOFFSETFROM:-0500
TZOFFSETTO:-0600
TZNAME:CST
DTSTART:20221106T070000
END:STANDARD
END:VTIMEZONE
BEGIN:VEVENT
DTSTART;VALUE=DATE:20210920
DTEND;VALUE=DATE:20210925
DTSTAMP:20260425T130127
CREATED:20210909T132258Z
LAST-MODIFIED:20210909T132258Z
UID:397405-1632096000-1632527999@977wmoi.com
SUMMARY:City of Galesburg Fall Clean Up
DESCRIPTION:Items are collected only on resident’s normal recycling pick-up day.
URL:https://977wmoi.com/event/city-of-galesburg-fall-clean-up/
END:VEVENT
BEGIN:VEVENT
DTSTART;TZID=America/Chicago:20210922T080000
DTEND;TZID=America/Chicago:20210922T100000
DTSTAMP:20260425T130127
CREATED:20210913T145615Z
LAST-MODIFIED:20210913T145615Z
UID:397522-1632297600-1632304800@977wmoi.com
SUMMARY:Henderson County Health Department COVID-19 Vaccine Clinic
DESCRIPTION:COVID 19 Vaccine Clinic every Wednesday from 8am- 10am. \nJohnson & Johnson\, Pfizer  and Moderna vaccine will be available. \nhttps://www.hendersoncountyhealthdepartmentillinois.org
URL:https://977wmoi.com/event/henderson-county-health-department-covid-19-vaccine-clinic-2/
END:VEVENT
BEGIN:VEVENT
DTSTART;TZID=America/Chicago:20210922T130000
DTEND;TZID=America/Chicago:20210922T150000
DTSTAMP:20260425T130127
CREATED:20210902T194101Z
LAST-MODIFIED:20210902T194101Z
UID:397118-1632315600-1632322800@977wmoi.com
SUMMARY:Oquawka Strom Center BINGO
DESCRIPTION:Held at the Oquawka Senior Center. Each person is allowed up to 4 free cards and each additional card is 25 cents each. Refreshments are served during the afternoon. You may also bring your own lunch at 12:15 to enjoy beforehand.
URL:https://977wmoi.com/event/oquawka-strom-center-bingo-4/
END:VEVENT
BEGIN:VEVENT
DTSTART;TZID=America/Chicago:20210922T133000
DTEND;TZID=America/Chicago:20210922T160000
DTSTAMP:20260425T130127
CREATED:20210826T134015Z
LAST-MODIFIED:20210826T134015Z
UID:396733-1632317400-1632326400@977wmoi.com
SUMMARY:WCHD First or Second Dose COVID Vaccine Clinic
DESCRIPTION:Pfizer\, Moderna\, and Johnson & Johnson will be available by appointment only. Call 309-734-0823 during regular business hours. Clinic will be held at the Warren County Health Department in Monmouth.
URL:https://977wmoi.com/event/wchd-first-or-second-dose-covid-vaccine-clinic-4/
END:VEVENT
BEGIN:VEVENT
DTSTART;TZID=America/Chicago:20210922T180000
DTEND;TZID=America/Chicago:20210922T200000
DTSTAMP:20260425T130127
CREATED:20210921T175528Z
LAST-MODIFIED:20210921T175528Z
UID:397944-1632333600-1632340800@977wmoi.com
SUMMARY:ROE #33 & MRHS Fall Fun Night
DESCRIPTION:Bring your family and enjoy a night of games\, food\, prizes\, and more at Sunny Lane Field in Monmouth following a short COVID safety presentation at 6 pm.
URL:https://977wmoi.com/event/roe-33-mrhs-fall-fun-night/
END:VEVENT
END:VCALENDAR