BEGIN:VCALENDAR
VERSION:2.0
PRODID:-//Prairie Communications, LLC - ECPv6.15.20//NONSGML v1.0//EN
CALSCALE:GREGORIAN
METHOD:PUBLISH
X-WR-CALNAME:Prairie Communications, LLC
X-ORIGINAL-URL:https://977wmoi.com
X-WR-CALDESC:Events for Prairie Communications, LLC
REFRESH-INTERVAL;VALUE=DURATION:PT1H
X-Robots-Tag:noindex
X-PUBLISHED-TTL:PT1H
BEGIN:VTIMEZONE
TZID:America/Chicago
BEGIN:DAYLIGHT
TZOFFSETFROM:-0600
TZOFFSETTO:-0500
TZNAME:CDT
DTSTART:20200308T080000
END:DAYLIGHT
BEGIN:STANDARD
TZOFFSETFROM:-0500
TZOFFSETTO:-0600
TZNAME:CST
DTSTART:20201101T070000
END:STANDARD
BEGIN:DAYLIGHT
TZOFFSETFROM:-0600
TZOFFSETTO:-0500
TZNAME:CDT
DTSTART:20210314T080000
END:DAYLIGHT
BEGIN:STANDARD
TZOFFSETFROM:-0500
TZOFFSETTO:-0600
TZNAME:CST
DTSTART:20211107T070000
END:STANDARD
BEGIN:DAYLIGHT
TZOFFSETFROM:-0600
TZOFFSETTO:-0500
TZNAME:CDT
DTSTART:20220313T080000
END:DAYLIGHT
BEGIN:STANDARD
TZOFFSETFROM:-0500
TZOFFSETTO:-0600
TZNAME:CST
DTSTART:20221106T070000
END:STANDARD
END:VTIMEZONE
BEGIN:VEVENT
DTSTART;VALUE=DATE:20210920
DTEND;VALUE=DATE:20210925
DTSTAMP:20260424T090643
CREATED:20210909T132258Z
LAST-MODIFIED:20210909T132258Z
UID:397405-1632096000-1632527999@977wmoi.com
SUMMARY:City of Galesburg Fall Clean Up
DESCRIPTION:Items are collected only on resident’s normal recycling pick-up day.
URL:https://977wmoi.com/event/city-of-galesburg-fall-clean-up/
END:VEVENT
BEGIN:VEVENT
DTSTART;TZID=America/Chicago:20210923T083000
DTEND;TZID=America/Chicago:20210923T103000
DTSTAMP:20260424T090643
CREATED:20210922T130633Z
LAST-MODIFIED:20210922T130633Z
UID:397959-1632385800-1632393000@977wmoi.com
SUMMARY:Knox County COVID-19 Vaccine Clinic
DESCRIPTION:At the Unified Command Vaccine Center 8:30am-10:30am Moderna & Janssen
URL:https://977wmoi.com/event/knox-county-covid-19-vaccine-clinic-10/
END:VEVENT
BEGIN:VEVENT
DTSTART;TZID=America/Chicago:20210923T100000
DTEND;TZID=America/Chicago:20210923T120000
DTSTAMP:20260424T090643
CREATED:20210922T130746Z
LAST-MODIFIED:20210922T130746Z
UID:397961-1632391200-1632398400@977wmoi.com
SUMMARY:Knox County COVID-19 Vaccine Clinic
DESCRIPTION:At the Knox County Nursing Home\, Knoxville 10:00am-12:00pm Moderna\, Pfizer\, & Janssen
URL:https://977wmoi.com/event/knox-county-covid-19-vaccine-clinic-11/
END:VEVENT
BEGIN:VEVENT
DTSTART;TZID=America/Chicago:20210923T173000
DTEND;TZID=America/Chicago:20210923T173000
DTSTAMP:20260424T090643
CREATED:20210804T184709Z
LAST-MODIFIED:20210804T184709Z
UID:395844-1632418200-1632418200@977wmoi.com
SUMMARY:GriefShare Support Group
DESCRIPTION:Meets each Thursday at 5:30 pm at the Christian Church of Abingdon\, 409 South Main. This community outreach ministry is offered to anyone in need of help and encouragement after the death of a spouse\, family member\, or friend. Anyone and everyone is welcome. For more information\, call the church and ask for Pastor Will Brown at 309-462-3344.
URL:https://977wmoi.com/event/griefshare-support-group-4/
END:VEVENT
END:VCALENDAR