BEGIN:VCALENDAR
VERSION:2.0
PRODID:-//Prairie Communications, LLC - ECPv6.15.20//NONSGML v1.0//EN
CALSCALE:GREGORIAN
METHOD:PUBLISH
X-WR-CALNAME:Prairie Communications, LLC
X-ORIGINAL-URL:https://977wmoi.com
X-WR-CALDESC:Events for Prairie Communications, LLC
REFRESH-INTERVAL;VALUE=DURATION:PT1H
X-Robots-Tag:noindex
X-PUBLISHED-TTL:PT1H
BEGIN:VTIMEZONE
TZID:America/Chicago
BEGIN:DAYLIGHT
TZOFFSETFROM:-0600
TZOFFSETTO:-0500
TZNAME:CDT
DTSTART:20200308T080000
END:DAYLIGHT
BEGIN:STANDARD
TZOFFSETFROM:-0500
TZOFFSETTO:-0600
TZNAME:CST
DTSTART:20201101T070000
END:STANDARD
BEGIN:DAYLIGHT
TZOFFSETFROM:-0600
TZOFFSETTO:-0500
TZNAME:CDT
DTSTART:20210314T080000
END:DAYLIGHT
BEGIN:STANDARD
TZOFFSETFROM:-0500
TZOFFSETTO:-0600
TZNAME:CST
DTSTART:20211107T070000
END:STANDARD
BEGIN:DAYLIGHT
TZOFFSETFROM:-0600
TZOFFSETTO:-0500
TZNAME:CDT
DTSTART:20220313T080000
END:DAYLIGHT
BEGIN:STANDARD
TZOFFSETFROM:-0500
TZOFFSETTO:-0600
TZNAME:CST
DTSTART:20221106T070000
END:STANDARD
END:VTIMEZONE
BEGIN:VEVENT
DTSTART;TZID=America/Chicago:20210929T080000
DTEND;TZID=America/Chicago:20210929T100000
DTSTAMP:20260420T081856
CREATED:20210913T145806Z
LAST-MODIFIED:20210927T165932Z
UID:397524-1632902400-1632909600@977wmoi.com
SUMMARY:*CANCELED THIS WEEK ONLY* Henderson County Health Department COVID-19 Vaccine Clinic
DESCRIPTION:COVID 19 Vaccine Clinic every Wednesday from 8am- 10am. \nJohnson & Johnson\, Pfizer  and Moderna vaccine will be available. \nhttps://www.hendersoncountyhealthdepartmentillinois.org
URL:https://977wmoi.com/event/henderson-county-health-department-covid-19-vaccine-clinic-3/
END:VEVENT
BEGIN:VEVENT
DTSTART;TZID=America/Chicago:20210929T133000
DTEND;TZID=America/Chicago:20210929T160000
DTSTAMP:20260420T081856
CREATED:20210826T134617Z
LAST-MODIFIED:20210826T134617Z
UID:396735-1632922200-1632931200@977wmoi.com
SUMMARY:WCHD First or Second Dose COVID Vaccine Clinic
DESCRIPTION:Pfizer\, Moderna\, and Johnson & Johnson will be available by appointment only. Call 309-734-0823 during regular business hours. Clinic will be held at the Warren County Health Department in Monmouth.
URL:https://977wmoi.com/event/wchd-first-or-second-dose-covid-vaccine-clinic-5/
END:VEVENT
BEGIN:VEVENT
DTSTART;TZID=America/Chicago:20210929T180000
DTEND;TZID=America/Chicago:20210929T210000
DTSTAMP:20260420T081856
CREATED:20210902T195613Z
LAST-MODIFIED:20210902T195613Z
UID:397134-1632938400-1632949200@977wmoi.com
SUMMARY:Relay for Life Painting Party
DESCRIPTION:Participants can choose any design from Pinned It Creations in Monmouth from their Facebook page or create their own design. Price will vary based on design. BYOB. Light snacks will be provided. Contact Dina to reserve your spot at 309-221-2795. All proceeds benefit Relay for Life of Warren and Henderson County.
URL:https://977wmoi.com/event/relay-for-life-painting-party/
END:VEVENT
END:VCALENDAR