BEGIN:VCALENDAR
VERSION:2.0
PRODID:-//Prairie Communications, LLC - ECPv6.15.20//NONSGML v1.0//EN
CALSCALE:GREGORIAN
METHOD:PUBLISH
X-ORIGINAL-URL:https://977wmoi.com
X-WR-CALDESC:Events for Prairie Communications, LLC
REFRESH-INTERVAL;VALUE=DURATION:PT1H
X-Robots-Tag:noindex
X-PUBLISHED-TTL:PT1H
BEGIN:VTIMEZONE
TZID:America/Chicago
BEGIN:DAYLIGHT
TZOFFSETFROM:-0600
TZOFFSETTO:-0500
TZNAME:CDT
DTSTART:20200308T080000
END:DAYLIGHT
BEGIN:STANDARD
TZOFFSETFROM:-0500
TZOFFSETTO:-0600
TZNAME:CST
DTSTART:20201101T070000
END:STANDARD
BEGIN:DAYLIGHT
TZOFFSETFROM:-0600
TZOFFSETTO:-0500
TZNAME:CDT
DTSTART:20210314T080000
END:DAYLIGHT
BEGIN:STANDARD
TZOFFSETFROM:-0500
TZOFFSETTO:-0600
TZNAME:CST
DTSTART:20211107T070000
END:STANDARD
BEGIN:DAYLIGHT
TZOFFSETFROM:-0600
TZOFFSETTO:-0500
TZNAME:CDT
DTSTART:20220313T080000
END:DAYLIGHT
BEGIN:STANDARD
TZOFFSETFROM:-0500
TZOFFSETTO:-0600
TZNAME:CST
DTSTART:20221106T070000
END:STANDARD
END:VTIMEZONE
BEGIN:VEVENT
DTSTART;VALUE=DATE:20211001
DTEND;VALUE=DATE:20211002
DTSTAMP:20260421T054038
CREATED:20210901T145644Z
LAST-MODIFIED:20210901T145644Z
UID:397031-1633046400-1633132799@977wmoi.com
SUMMARY:Village of Stronghurst Fall Clean Up
DESCRIPTION:Reminder that yard waste\, liquids\, hazardous waste\, tires\, batteries\, electronics\, and large auto-truck parts are not included in the clean up per Waste Management.
URL:https://977wmoi.com/event/village-of-stronghurst-fall-clean-up/
END:VEVENT
BEGIN:VEVENT
DTSTART;VALUE=DATE:20211001
DTEND;VALUE=DATE:20211018
DTSTAMP:20260421T054038
CREATED:20210920T203955Z
LAST-MODIFIED:20210920T203955Z
UID:397898-1633046400-1634515199@977wmoi.com
SUMMARY:Adult Volleyball Fall/Winter League
DESCRIPTION:Begins November 3rd and runs through February 23\, 2022. No games will be held November 24th\, December 29th\, or January 5th. 11 games and a double elimination tournament in competitive and non-competitive teams will be played at the Hawthorne gym and Lakeside Recreation Center. Early bird registration before October 3rd is $350\, but after cost is $390 per team. Registration ends October 17th. For more information\, contact the Galesburg Parks and Rec at 309-345-3683.
URL:https://977wmoi.com/event/adult-volleyball-fall-winter-league/
END:VEVENT
BEGIN:VEVENT
DTSTART;TZID=America/Chicago:20211001T170000
DTEND;TZID=America/Chicago:20211001T190000
DTSTAMP:20260421T054038
CREATED:20210924T131232Z
LAST-MODIFIED:20210924T131333Z
UID:398080-1633107600-1633114800@977wmoi.com
SUMMARY:Downtown Monmouth Farmer's Market
DESCRIPTION:Held in the Fortress Bank Parking lot\, next to Dairy Queen and Save-A-Lot on North Main Street.
URL:https://977wmoi.com/event/downtown-monmouth-farmers-market-15/
END:VEVENT
END:VCALENDAR