BEGIN:VCALENDAR
VERSION:2.0
PRODID:-//Prairie Communications, LLC - ECPv6.15.20//NONSGML v1.0//EN
CALSCALE:GREGORIAN
METHOD:PUBLISH
X-ORIGINAL-URL:https://977wmoi.com
X-WR-CALDESC:Events for Prairie Communications, LLC
REFRESH-INTERVAL;VALUE=DURATION:PT1H
X-Robots-Tag:noindex
X-PUBLISHED-TTL:PT1H
BEGIN:VTIMEZONE
TZID:America/Chicago
BEGIN:DAYLIGHT
TZOFFSETFROM:-0600
TZOFFSETTO:-0500
TZNAME:CDT
DTSTART:20200308T080000
END:DAYLIGHT
BEGIN:STANDARD
TZOFFSETFROM:-0500
TZOFFSETTO:-0600
TZNAME:CST
DTSTART:20201101T070000
END:STANDARD
BEGIN:DAYLIGHT
TZOFFSETFROM:-0600
TZOFFSETTO:-0500
TZNAME:CDT
DTSTART:20210314T080000
END:DAYLIGHT
BEGIN:STANDARD
TZOFFSETFROM:-0500
TZOFFSETTO:-0600
TZNAME:CST
DTSTART:20211107T070000
END:STANDARD
BEGIN:DAYLIGHT
TZOFFSETFROM:-0600
TZOFFSETTO:-0500
TZNAME:CDT
DTSTART:20220313T080000
END:DAYLIGHT
BEGIN:STANDARD
TZOFFSETFROM:-0500
TZOFFSETTO:-0600
TZNAME:CST
DTSTART:20221106T070000
END:STANDARD
END:VTIMEZONE
BEGIN:VEVENT
DTSTART;VALUE=DATE:20211001
DTEND;VALUE=DATE:20211018
DTSTAMP:20260420T134713
CREATED:20210920T203955Z
LAST-MODIFIED:20210920T203955Z
UID:397898-1633046400-1634515199@977wmoi.com
SUMMARY:Adult Volleyball Fall/Winter League
DESCRIPTION:Begins November 3rd and runs through February 23\, 2022. No games will be held November 24th\, December 29th\, or January 5th. 11 games and a double elimination tournament in competitive and non-competitive teams will be played at the Hawthorne gym and Lakeside Recreation Center. Early bird registration before October 3rd is $350\, but after cost is $390 per team. Registration ends October 17th. For more information\, contact the Galesburg Parks and Rec at 309-345-3683.
URL:https://977wmoi.com/event/adult-volleyball-fall-winter-league/
END:VEVENT
BEGIN:VEVENT
DTSTART;VALUE=DATE:20211004
DTEND;VALUE=DATE:20211009
DTSTAMP:20260420T134713
CREATED:20210908T151308Z
LAST-MODIFIED:20210908T151308Z
UID:397358-1633305600-1633737599@977wmoi.com
SUMMARY:City of Monmouth Fall Clean-Up Week
DESCRIPTION:Fall clean-up will be picked up on residents regular scheduled garbage day.
URL:https://977wmoi.com/event/city-of-monmouth-fall-clean-up-week/
END:VEVENT
BEGIN:VEVENT
DTSTART;VALUE=DATE:20211007
DTEND;VALUE=DATE:20211027
DTSTAMP:20260420T134713
CREATED:20210920T203607Z
LAST-MODIFIED:20210920T203607Z
UID:397896-1633564800-1635292799@977wmoi.com
SUMMARY:Galesburg Parks & Rec Swim Lessons
DESCRIPTION:Learn to swim with private or semi-private swim lessons for all ages at the Hawthorne Pool on Tuesdays and Thursdays during October beginning October 7th through October 26th. Times for the lessons are 4:30 pm to 5 pm or 7 pm to 7:30 pm. Semi-private lessons are $79 plus $33 for each additional. Private lessons are $79 a session. Privately scheduled lessons for 6 sessions are 30 minutes each with one instructor and 1 to 3 students. A parent or guardian must be in the water for children ages 3 and under.
URL:https://977wmoi.com/event/galesburg-parks-rec-swim-lessons/
END:VEVENT
BEGIN:VEVENT
DTSTART;TZID=America/Chicago:20211008T170000
DTEND;TZID=America/Chicago:20211008T190000
DTSTAMP:20260420T134713
CREATED:20210924T131405Z
LAST-MODIFIED:20210924T131405Z
UID:398083-1633712400-1633719600@977wmoi.com
SUMMARY:Downtown Monmouth Farmer's Market
DESCRIPTION:Held in the Fortress Bank Parking lot\, next to Dairy Queen and Save-A-Lot on North Main Street.
URL:https://977wmoi.com/event/downtown-monmouth-farmers-market-17/
END:VEVENT
END:VCALENDAR