BEGIN:VCALENDAR
VERSION:2.0
PRODID:-//Prairie Communications, LLC - ECPv6.15.20//NONSGML v1.0//EN
CALSCALE:GREGORIAN
METHOD:PUBLISH
X-WR-CALNAME:Prairie Communications, LLC
X-ORIGINAL-URL:https://977wmoi.com
X-WR-CALDESC:Events for Prairie Communications, LLC
REFRESH-INTERVAL;VALUE=DURATION:PT1H
X-Robots-Tag:noindex
X-PUBLISHED-TTL:PT1H
BEGIN:VTIMEZONE
TZID:America/Chicago
BEGIN:DAYLIGHT
TZOFFSETFROM:-0600
TZOFFSETTO:-0500
TZNAME:CDT
DTSTART:20200308T080000
END:DAYLIGHT
BEGIN:STANDARD
TZOFFSETFROM:-0500
TZOFFSETTO:-0600
TZNAME:CST
DTSTART:20201101T070000
END:STANDARD
BEGIN:DAYLIGHT
TZOFFSETFROM:-0600
TZOFFSETTO:-0500
TZNAME:CDT
DTSTART:20210314T080000
END:DAYLIGHT
BEGIN:STANDARD
TZOFFSETFROM:-0500
TZOFFSETTO:-0600
TZNAME:CST
DTSTART:20211107T070000
END:STANDARD
BEGIN:DAYLIGHT
TZOFFSETFROM:-0600
TZOFFSETTO:-0500
TZNAME:CDT
DTSTART:20220313T080000
END:DAYLIGHT
BEGIN:STANDARD
TZOFFSETFROM:-0500
TZOFFSETTO:-0600
TZNAME:CST
DTSTART:20221106T070000
END:STANDARD
END:VTIMEZONE
BEGIN:VEVENT
DTSTART;VALUE=DATE:20211001
DTEND;VALUE=DATE:20211018
DTSTAMP:20260420T100938
CREATED:20210920T203955Z
LAST-MODIFIED:20210920T203955Z
UID:397898-1633046400-1634515199@977wmoi.com
SUMMARY:Adult Volleyball Fall/Winter League
DESCRIPTION:Begins November 3rd and runs through February 23\, 2022. No games will be held November 24th\, December 29th\, or January 5th. 11 games and a double elimination tournament in competitive and non-competitive teams will be played at the Hawthorne gym and Lakeside Recreation Center. Early bird registration before October 3rd is $350\, but after cost is $390 per team. Registration ends October 17th. For more information\, contact the Galesburg Parks and Rec at 309-345-3683.
URL:https://977wmoi.com/event/adult-volleyball-fall-winter-league/
END:VEVENT
BEGIN:VEVENT
DTSTART;VALUE=DATE:20211007
DTEND;VALUE=DATE:20211027
DTSTAMP:20260420T100938
CREATED:20210920T203607Z
LAST-MODIFIED:20210920T203607Z
UID:397896-1633564800-1635292799@977wmoi.com
SUMMARY:Galesburg Parks & Rec Swim Lessons
DESCRIPTION:Learn to swim with private or semi-private swim lessons for all ages at the Hawthorne Pool on Tuesdays and Thursdays during October beginning October 7th through October 26th. Times for the lessons are 4:30 pm to 5 pm or 7 pm to 7:30 pm. Semi-private lessons are $79 plus $33 for each additional. Private lessons are $79 a session. Privately scheduled lessons for 6 sessions are 30 minutes each with one instructor and 1 to 3 students. A parent or guardian must be in the water for children ages 3 and under.
URL:https://977wmoi.com/event/galesburg-parks-rec-swim-lessons/
END:VEVENT
BEGIN:VEVENT
DTSTART;VALUE=DATE:20211015
DTEND;VALUE=DATE:20211018
DTSTAMP:20260420T100938
CREATED:20210924T130307Z
LAST-MODIFIED:20210924T130307Z
UID:398077-1634256000-1634515199@977wmoi.com
SUMMARY:2021 National Cornhusking Contest
DESCRIPTION:The 2021 Oakley Corn Festival will be held the third weekend in October (10-15 thru 10-17) and includes Saturday night entertainment and on Sunday the National Cornhusking Championship.\nMore information at Cornhusking.com
URL:https://977wmoi.com/event/2021-national-cornhusking-contest/
END:VEVENT
BEGIN:VEVENT
DTSTART;TZID=America/Chicago:20211015T170000
DTEND;TZID=America/Chicago:20211015T190000
DTSTAMP:20260420T100938
CREATED:20210924T131505Z
LAST-MODIFIED:20210924T131505Z
UID:398086-1634317200-1634324400@977wmoi.com
SUMMARY:Downtown Monmouth Farmer's Market
DESCRIPTION:Held in the Fortress Bank Parking lot\, next to Dairy Queen and Save-A-Lot on North Main Street.
URL:https://977wmoi.com/event/downtown-monmouth-farmers-market-21/
END:VEVENT
BEGIN:VEVENT
DTSTART;TZID=America/Chicago:20211015T190000
DTEND;TZID=America/Chicago:20211015T220000
DTSTAMP:20260420T100938
CREATED:20211007T132716Z
LAST-MODIFIED:20211007T132716Z
UID:398711-1634324400-1634335200@977wmoi.com
SUMMARY:Friday Night Fever Dance
DESCRIPTION:The Historic Ellisville Restoration Organization (H.E.R.O.) is inviting the public to attend the Friday Night Fever dance upstairs at the Ellisville Opera House on Main St.\, Ellisville IL\, Friday\, October 15 from 7:45 to 10:00 p.m.  Hustle dance lessons will precede the main event from 7:00 to 7:45 pm. by Jon Young of Young Dance\, Inc. \nDeck yourself in your finest 70s attire hustle the night away!  The cost is $10 for singles and $15 for couples payable at the door.  Bottled water\, pop\, and chips will be available for purchase. \nThis is a non-profit (501c3) organization\, so all proceeds and donations are tax-deductible and will benefit the Historic Ellisville Restoration Organization (H.E.R.O.) Opera House Lift Project. The dance is hosted by Young Dance\, Inc.
URL:https://977wmoi.com/event/friday-night-fever-dance/
END:VEVENT
END:VCALENDAR