BEGIN:VCALENDAR
VERSION:2.0
PRODID:-//Prairie Communications, LLC - ECPv6.15.20//NONSGML v1.0//EN
CALSCALE:GREGORIAN
METHOD:PUBLISH
X-ORIGINAL-URL:https://977wmoi.com
X-WR-CALDESC:Events for Prairie Communications, LLC
REFRESH-INTERVAL;VALUE=DURATION:PT1H
X-Robots-Tag:noindex
X-PUBLISHED-TTL:PT1H
BEGIN:VTIMEZONE
TZID:America/Chicago
BEGIN:DAYLIGHT
TZOFFSETFROM:-0600
TZOFFSETTO:-0500
TZNAME:CDT
DTSTART:20200308T080000
END:DAYLIGHT
BEGIN:STANDARD
TZOFFSETFROM:-0500
TZOFFSETTO:-0600
TZNAME:CST
DTSTART:20201101T070000
END:STANDARD
BEGIN:DAYLIGHT
TZOFFSETFROM:-0600
TZOFFSETTO:-0500
TZNAME:CDT
DTSTART:20210314T080000
END:DAYLIGHT
BEGIN:STANDARD
TZOFFSETFROM:-0500
TZOFFSETTO:-0600
TZNAME:CST
DTSTART:20211107T070000
END:STANDARD
BEGIN:DAYLIGHT
TZOFFSETFROM:-0600
TZOFFSETTO:-0500
TZNAME:CDT
DTSTART:20220313T080000
END:DAYLIGHT
BEGIN:STANDARD
TZOFFSETFROM:-0500
TZOFFSETTO:-0600
TZNAME:CST
DTSTART:20221106T070000
END:STANDARD
END:VTIMEZONE
BEGIN:VEVENT
DTSTART;VALUE=DATE:20211007
DTEND;VALUE=DATE:20211027
DTSTAMP:20260421T132041
CREATED:20210920T203607Z
LAST-MODIFIED:20210920T203607Z
UID:397896-1633564800-1635292799@977wmoi.com
SUMMARY:Galesburg Parks & Rec Swim Lessons
DESCRIPTION:Learn to swim with private or semi-private swim lessons for all ages at the Hawthorne Pool on Tuesdays and Thursdays during October beginning October 7th through October 26th. Times for the lessons are 4:30 pm to 5 pm or 7 pm to 7:30 pm. Semi-private lessons are $79 plus $33 for each additional. Private lessons are $79 a session. Privately scheduled lessons for 6 sessions are 30 minutes each with one instructor and 1 to 3 students. A parent or guardian must be in the water for children ages 3 and under.
URL:https://977wmoi.com/event/galesburg-parks-rec-swim-lessons/
END:VEVENT
BEGIN:VEVENT
DTSTART;TZID=America/Chicago:20211019T160000
DTEND;TZID=America/Chicago:20211019T183000
DTSTAMP:20260421T132041
CREATED:20210628T185736Z
LAST-MODIFIED:20210628T185736Z
UID:394328-1634659200-1634668200@977wmoi.com
SUMMARY:Alexis Farmer's Market
DESCRIPTION:Every Tuesday from May  through Oct\n4:00-6:30\nIn the Alexis Park\nRain or Shine\nVendors take Cash or Checks. Some Use Square\nHas a Variety of Crafters with their Own Unique Style\nThe only market where you’ll find Amish Baked Goods from Lee’s Bakery\nPlus many Other Vendors
URL:https://977wmoi.com/event/alexis-farmers-market-24/
END:VEVENT
BEGIN:VEVENT
DTSTART;TZID=America/Chicago:20211019T170000
DTEND;TZID=America/Chicago:20211019T190000
DTSTAMP:20260421T132041
CREATED:20210927T130811Z
LAST-MODIFIED:20210927T130811Z
UID:398159-1634662800-1634670000@977wmoi.com
SUMMARY:WIRC Free Budgeting Class in Galesburg
DESCRIPTION:During the two-hour class\, attendees will learn about basic money management\, how to design a budget\, and how to track their progress. Instruction for each class will be provided by Tessa Hobbs-Curley\, who is an experienced Family Life Extension Educator at University of Illinois Extension. \nThe Galesburg class will be held on Tuesday\, October 19\, 2021 from 5:00 – 7:00 p.m. at Knox County United Way Meeting Room\, 1215 Monmouth Boulevard. The follow-up class will be held at the same time and location on Thursday\, January 20\, 2022.
URL:https://977wmoi.com/event/wirc-free-budgeting-class-in-galesburg/
END:VEVENT
END:VCALENDAR