BEGIN:VCALENDAR
VERSION:2.0
PRODID:-//Prairie Communications, LLC - ECPv6.15.20//NONSGML v1.0//EN
CALSCALE:GREGORIAN
METHOD:PUBLISH
X-WR-CALNAME:Prairie Communications, LLC
X-ORIGINAL-URL:https://977wmoi.com
X-WR-CALDESC:Events for Prairie Communications, LLC
REFRESH-INTERVAL;VALUE=DURATION:PT1H
X-Robots-Tag:noindex
X-PUBLISHED-TTL:PT1H
BEGIN:VTIMEZONE
TZID:America/Chicago
BEGIN:DAYLIGHT
TZOFFSETFROM:-0600
TZOFFSETTO:-0500
TZNAME:CDT
DTSTART:20200308T080000
END:DAYLIGHT
BEGIN:STANDARD
TZOFFSETFROM:-0500
TZOFFSETTO:-0600
TZNAME:CST
DTSTART:20201101T070000
END:STANDARD
BEGIN:DAYLIGHT
TZOFFSETFROM:-0600
TZOFFSETTO:-0500
TZNAME:CDT
DTSTART:20210314T080000
END:DAYLIGHT
BEGIN:STANDARD
TZOFFSETFROM:-0500
TZOFFSETTO:-0600
TZNAME:CST
DTSTART:20211107T070000
END:STANDARD
BEGIN:DAYLIGHT
TZOFFSETFROM:-0600
TZOFFSETTO:-0500
TZNAME:CDT
DTSTART:20220313T080000
END:DAYLIGHT
BEGIN:STANDARD
TZOFFSETFROM:-0500
TZOFFSETTO:-0600
TZNAME:CST
DTSTART:20221106T070000
END:STANDARD
END:VTIMEZONE
BEGIN:VEVENT
DTSTART;VALUE=DATE:20211007
DTEND;VALUE=DATE:20211027
DTSTAMP:20260421T013453
CREATED:20210920T203607Z
LAST-MODIFIED:20210920T203607Z
UID:397896-1633564800-1635292799@977wmoi.com
SUMMARY:Galesburg Parks & Rec Swim Lessons
DESCRIPTION:Learn to swim with private or semi-private swim lessons for all ages at the Hawthorne Pool on Tuesdays and Thursdays during October beginning October 7th through October 26th. Times for the lessons are 4:30 pm to 5 pm or 7 pm to 7:30 pm. Semi-private lessons are $79 plus $33 for each additional. Private lessons are $79 a session. Privately scheduled lessons for 6 sessions are 30 minutes each with one instructor and 1 to 3 students. A parent or guardian must be in the water for children ages 3 and under.
URL:https://977wmoi.com/event/galesburg-parks-rec-swim-lessons/
END:VEVENT
BEGIN:VEVENT
DTSTART;TZID=America/Chicago:20211021T130000
DTEND;TZID=America/Chicago:20211021T150000
DTSTAMP:20260421T013453
CREATED:20210930T205046Z
LAST-MODIFIED:20210930T205046Z
UID:398390-1634821200-1634828400@977wmoi.com
SUMMARY:Medicare Informational Meeting at the Oquawka Strom Center
DESCRIPTION:Staff will discuss and present the Medicare D Prescription Drug Plan for the 2022 year.
URL:https://977wmoi.com/event/medicare-informational-meeting-at-the-oquawka-strom-center/
END:VEVENT
BEGIN:VEVENT
DTSTART;TZID=America/Chicago:20211021T133000
DTEND;TZID=America/Chicago:20211021T150000
DTSTAMP:20260421T013453
CREATED:20210930T204255Z
LAST-MODIFIED:20210930T204255Z
UID:398380-1634823000-1634828400@977wmoi.com
SUMMARY:Medicare Informational Meeting at Strom Center in Monmouth
DESCRIPTION:Staff will discuss and introduce the 2022 Medicare D plans as well as Medicare updates. Sign up is not required but appreciated to ensure there are enough handout. Call 309-734-5677 to sign up.
URL:https://977wmoi.com/event/medicare-informational-meeting-at-strom-center-in-monmouth-2/
END:VEVENT
BEGIN:VEVENT
DTSTART;TZID=America/Chicago:20211021T170000
DTEND;TZID=America/Chicago:20211021T190000
DTSTAMP:20260421T013453
CREATED:20211014T172550Z
LAST-MODIFIED:20211014T172550Z
UID:399035-1634835600-1634842800@977wmoi.com
SUMMARY:Knox-Warren Transition Planning Committee Agency Fair
DESCRIPTION:The Knox-Warren Transition Planning Committee agency fair will be held at Carl Sandburg College\, Crist Center Building B on October 21st from 5:00 to 7:00 p.m for parents of students with disabilities.
URL:https://977wmoi.com/event/knox-warren-transition-planning-committee-agency-fair-2/
END:VEVENT
END:VCALENDAR