BEGIN:VCALENDAR
VERSION:2.0
PRODID:-//Prairie Communications, LLC - ECPv6.15.20//NONSGML v1.0//EN
CALSCALE:GREGORIAN
METHOD:PUBLISH
X-ORIGINAL-URL:https://977wmoi.com
X-WR-CALDESC:Events for Prairie Communications, LLC
REFRESH-INTERVAL;VALUE=DURATION:PT1H
X-Robots-Tag:noindex
X-PUBLISHED-TTL:PT1H
BEGIN:VTIMEZONE
TZID:America/Chicago
BEGIN:DAYLIGHT
TZOFFSETFROM:-0600
TZOFFSETTO:-0500
TZNAME:CDT
DTSTART:20200308T080000
END:DAYLIGHT
BEGIN:STANDARD
TZOFFSETFROM:-0500
TZOFFSETTO:-0600
TZNAME:CST
DTSTART:20201101T070000
END:STANDARD
BEGIN:DAYLIGHT
TZOFFSETFROM:-0600
TZOFFSETTO:-0500
TZNAME:CDT
DTSTART:20210314T080000
END:DAYLIGHT
BEGIN:STANDARD
TZOFFSETFROM:-0500
TZOFFSETTO:-0600
TZNAME:CST
DTSTART:20211107T070000
END:STANDARD
BEGIN:DAYLIGHT
TZOFFSETFROM:-0600
TZOFFSETTO:-0500
TZNAME:CDT
DTSTART:20220313T080000
END:DAYLIGHT
BEGIN:STANDARD
TZOFFSETFROM:-0500
TZOFFSETTO:-0600
TZNAME:CST
DTSTART:20221106T070000
END:STANDARD
END:VTIMEZONE
BEGIN:VEVENT
DTSTART;VALUE=DATE:20211026
DTEND;VALUE=DATE:20211028
DTSTAMP:20260421T021435
CREATED:20211008T200011Z
LAST-MODIFIED:20211008T200011Z
UID:398804-1635206400-1635379199@977wmoi.com
SUMMARY:Ellisville Opera House Folk Arts Festival
DESCRIPTION:October 26 & 27th in Ellisville\, IL the Ellisville Opera House and Historic Ellisville Restoration Organization invites the public to their first annual Ellisville Opera House Folk Arts Festival. There is some space available for vendors of quality craftsmanship to set up their wares for the weekend outside or in the Opera House. If you can demonstrate your craft\, great\, please contact a H.E.R.O. member.\n\nThere will be Artisans offering well-crafted wares and musicians performing either on stage upstairs in the Opera House or on the street. Please contact Paula Helle\, or other H.E.R.O. members: Sheila Blout or Kelvin or Linda Sampson via Messager or text for additional information.”
URL:https://977wmoi.com/event/ellisville-opera-house-folk-arts-festival/
END:VEVENT
BEGIN:VEVENT
DTSTART;TZID=America/Chicago:20211027T080000
DTEND;TZID=America/Chicago:20211027T100000
DTSTAMP:20260421T021435
CREATED:20210913T150813Z
LAST-MODIFIED:20210913T150813Z
UID:397534-1635321600-1635328800@977wmoi.com
SUMMARY:Henderson County Health Department COVID-19 Vaccine Clinic
DESCRIPTION:COVID 19 Vaccine Clinic every Wednesday from 8am- 10am. \nJohnson & Johnson\, Pfizer  and Moderna vaccine will be available. \nhttps://www.hendersoncountyhealthdepartmentillinois.org
URL:https://977wmoi.com/event/henderson-county-health-department-covid-19-vaccine-clinic-7/
END:VEVENT
BEGIN:VEVENT
DTSTART;TZID=America/Chicago:20211027T080000
DTEND;TZID=America/Chicago:20211027T100000
DTSTAMP:20260421T021435
CREATED:20211018T204445Z
LAST-MODIFIED:20211018T204445Z
UID:399179-1635321600-1635328800@977wmoi.com
SUMMARY:Henderson County Health Department Flu Vaccine Clinic
DESCRIPTION:It will be a walk-in clinic from 8-10am every Wednesday morning through December.\n\n\nPlease bring your Medicare or Medicaid card with you.\n\n\nWith out insurance\, it will be $35 for regular Flublock and $55 for the over age 65 Fluzone HD.
URL:https://977wmoi.com/event/henderson-county-health-department-flu-vaccine-clinic-2/
END:VEVENT
BEGIN:VEVENT
DTSTART;TZID=America/Chicago:20211027T130000
DTEND;TZID=America/Chicago:20211027T150000
DTSTAMP:20260421T021435
CREATED:20210930T205451Z
LAST-MODIFIED:20210930T205451Z
UID:398398-1635339600-1635346800@977wmoi.com
SUMMARY:BINGO at the Oquawka Senior Center
DESCRIPTION:Each person is allowed up to 4 cards free and each additional card is 25 cents each. Refreshments will be served during the afternoon. Feel free to bring your own lunch to enjoy beforehand at 12:15.
URL:https://977wmoi.com/event/bingo-at-the-oquawka-senior-center-2/
END:VEVENT
BEGIN:VEVENT
DTSTART;TZID=America/Chicago:20211027T133000
DTEND;TZID=America/Chicago:20211027T160000
DTSTAMP:20260421T021435
CREATED:20210923T160851Z
LAST-MODIFIED:20210923T160851Z
UID:398056-1635341400-1635350400@977wmoi.com
SUMMARY:Warren County Health Department COVID-19 Vaccination Clinic
DESCRIPTION:Held at the WCHD\, 240 South Main Street in Monmouth. Pfizer\, Moderna\, and Johnson & Johnson vaccines will all be available. Appointments must be scheduled prior to receiving  vaccine by calling 309-734-0823 during regular business hours.
URL:https://977wmoi.com/event/warren-county-health-department-covid-19-vaccination-clinic-4/
END:VEVENT
END:VCALENDAR