BEGIN:VCALENDAR
VERSION:2.0
PRODID:-//Prairie Communications, LLC - ECPv6.15.20//NONSGML v1.0//EN
CALSCALE:GREGORIAN
METHOD:PUBLISH
X-ORIGINAL-URL:https://977wmoi.com
X-WR-CALDESC:Events for Prairie Communications, LLC
REFRESH-INTERVAL;VALUE=DURATION:PT1H
X-Robots-Tag:noindex
X-PUBLISHED-TTL:PT1H
BEGIN:VTIMEZONE
TZID:America/Chicago
BEGIN:DAYLIGHT
TZOFFSETFROM:-0600
TZOFFSETTO:-0500
TZNAME:CDT
DTSTART:20200308T080000
END:DAYLIGHT
BEGIN:STANDARD
TZOFFSETFROM:-0500
TZOFFSETTO:-0600
TZNAME:CST
DTSTART:20201101T070000
END:STANDARD
BEGIN:DAYLIGHT
TZOFFSETFROM:-0600
TZOFFSETTO:-0500
TZNAME:CDT
DTSTART:20210314T080000
END:DAYLIGHT
BEGIN:STANDARD
TZOFFSETFROM:-0500
TZOFFSETTO:-0600
TZNAME:CST
DTSTART:20211107T070000
END:STANDARD
BEGIN:DAYLIGHT
TZOFFSETFROM:-0600
TZOFFSETTO:-0500
TZNAME:CDT
DTSTART:20220313T080000
END:DAYLIGHT
BEGIN:STANDARD
TZOFFSETFROM:-0500
TZOFFSETTO:-0600
TZNAME:CST
DTSTART:20221106T070000
END:STANDARD
END:VTIMEZONE
BEGIN:VEVENT
DTSTART;TZID=America/Chicago:20211029T073000
DTEND;TZID=America/Chicago:20211029T160000
DTSTAMP:20260420T065332
CREATED:20211022T155334Z
LAST-MODIFIED:20211022T155334Z
UID:399433-1635492600-1635523200@977wmoi.com
SUMMARY:Galesburg Rescue Mission Garage Sale
DESCRIPTION:This will be the last garage sale of 2021. Sale will be held in the Mission Addition Building\, 435 East Third Street across from Hi-Lo Grocery. Over 12\,000 square feet of merchandise; household items\, personal items\, furniture\, and Christmas items. The sale is sponsored by the Rescue Mission.
URL:https://977wmoi.com/event/galesburg-rescue-mission-garage-sale/
END:VEVENT
BEGIN:VEVENT
DTSTART;TZID=America/Chicago:20211029T090000
DTEND;TZID=America/Chicago:20211029T120000
DTSTAMP:20260420T065332
CREATED:20211014T154229Z
LAST-MODIFIED:20211014T154229Z
UID:399019-1635498000-1635508800@977wmoi.com
SUMMARY:Warren County Health Department COVID Vaccination Clinic
DESCRIPTION:Held at the WCHD\, 240 South Main Street in Monmouth. Pfizer\, Moderna\, and Johnson & Johnson vaccines will all be available. Appointments must be scheduled prior to receiving  vaccine by calling 309-734-0823 during regular business hours.
URL:https://977wmoi.com/event/warren-county-health-department-covid-vaccination-clinic-2/
END:VEVENT
BEGIN:VEVENT
DTSTART;TZID=America/Chicago:20211029T170000
DTEND;TZID=America/Chicago:20211029T190000
DTSTAMP:20260420T065332
CREATED:20210924T131627Z
LAST-MODIFIED:20210924T131627Z
UID:398091-1635526800-1635534000@977wmoi.com
SUMMARY:Downtown Monmouth Farmer's Market
DESCRIPTION:Held in the Fortress Bank Parking lot\, next to Dairy Queen and Save-A-Lot on North Main Street.
URL:https://977wmoi.com/event/downtown-monmouth-farmers-market-23/
END:VEVENT
BEGIN:VEVENT
DTSTART;TZID=America/Chicago:20211029T170000
DTEND;TZID=America/Chicago:20211029T190000
DTSTAMP:20260420T065332
CREATED:20211028T184318Z
LAST-MODIFIED:20211028T184318Z
UID:399893-1635526800-1635534000@977wmoi.com
SUMMARY:Monmouth VFW Baked Potato Bar
DESCRIPTION:
URL:https://977wmoi.com/event/monmouth-vfw-baked-potato-bar/
END:VEVENT
END:VCALENDAR