BEGIN:VCALENDAR
VERSION:2.0
PRODID:-//Prairie Communications, LLC - ECPv6.15.20//NONSGML v1.0//EN
CALSCALE:GREGORIAN
METHOD:PUBLISH
X-WR-CALNAME:Prairie Communications, LLC
X-ORIGINAL-URL:https://977wmoi.com
X-WR-CALDESC:Events for Prairie Communications, LLC
REFRESH-INTERVAL;VALUE=DURATION:PT1H
X-Robots-Tag:noindex
X-PUBLISHED-TTL:PT1H
BEGIN:VTIMEZONE
TZID:America/Chicago
BEGIN:DAYLIGHT
TZOFFSETFROM:-0600
TZOFFSETTO:-0500
TZNAME:CDT
DTSTART:20200308T080000
END:DAYLIGHT
BEGIN:STANDARD
TZOFFSETFROM:-0500
TZOFFSETTO:-0600
TZNAME:CST
DTSTART:20201101T070000
END:STANDARD
BEGIN:DAYLIGHT
TZOFFSETFROM:-0600
TZOFFSETTO:-0500
TZNAME:CDT
DTSTART:20210314T080000
END:DAYLIGHT
BEGIN:STANDARD
TZOFFSETFROM:-0500
TZOFFSETTO:-0600
TZNAME:CST
DTSTART:20211107T070000
END:STANDARD
BEGIN:DAYLIGHT
TZOFFSETFROM:-0600
TZOFFSETTO:-0500
TZNAME:CDT
DTSTART:20220313T080000
END:DAYLIGHT
BEGIN:STANDARD
TZOFFSETFROM:-0500
TZOFFSETTO:-0600
TZNAME:CST
DTSTART:20221106T070000
END:STANDARD
END:VTIMEZONE
BEGIN:VEVENT
DTSTART;VALUE=DATE:20211030
DTEND;VALUE=DATE:20211231
DTSTAMP:20260423T202631
CREATED:20210824T173628Z
LAST-MODIFIED:20210824T173628Z
UID:396633-1635552000-1640908799@977wmoi.com
SUMMARY:40th Annual Security Savings Bank Photography Show
DESCRIPTION:ATTENTION PHOTOGRAPHERS! The Buchanan Center for the Arts invites you to enter our 40th-Annual Security Savings Bank Photography Show November 9 through December 30\, 2021. Categories this year include Agriculture & Farm Life\, Animals & Creatures\, Capturing Light & Shadows\, Faces\, The Four Seasons\, and the Peggy Kuczewski Floral Award (new to this year’s show). Deadline for entry is 2pm Saturday\, October 30. Our juror for this year’s show is Natalie Jackson of Nat Jack Studios in Peoria\, Illinois. Visit http://bcaarts.org for entry details and to download an entry form. To learn more about our juror\, visit https://www.nataliejacksonphotography.com/.
URL:https://977wmoi.com/event/40th-annual-security-savings-bank-photography-show/
END:VEVENT
BEGIN:VEVENT
DTSTART;TZID=America/Chicago:20211109T080000
DTEND;TZID=America/Chicago:20211109T093000
DTSTAMP:20260423T202631
CREATED:20211007T191357Z
LAST-MODIFIED:20211007T191357Z
UID:398746-1636444800-1636450200@977wmoi.com
SUMMARY:Free Children’s Orthopedic Assessment Clinic
DESCRIPTION:Illinois Elks Children’s Care Corporation will sponsor a Free children’s orthopedic assessment clinic on Tuesday\, November 9\, 2021 in Galesburg.   The Clinic is 8:00 AM to 9:30 AM and by appointment only.  To make an appointment call the Illinois Elks Children’s Care office at 1-800-272-0074 between the hours of 9:00 AM to 4:00 PM Monday through Friday.  There are no charges for any services at this clinic. \nThe Elks will hold the clinic at the OSF Galesburg Clinic\, 3315 North Seminary Drive in Galesburg\, IL.   Dr. Steven Potaczek will be the clinician in charge. \nNo medical referral is necessary for the clinic but physicians are welcome to refer patients to the clinic for a specific reason or second opinion.  School nurses are welcome to refer children and families to the clinic. The clinic is an ideal time to have a child reviewed for bone and joint development.
URL:https://977wmoi.com/event/free-childrens-orthopedic-assessment-clinic/
END:VEVENT
BEGIN:VEVENT
DTSTART;TZID=America/Chicago:20211109T120000
DTEND;TZID=America/Chicago:20211109T130000
DTSTAMP:20260423T202631
CREATED:20211101T183605Z
LAST-MODIFIED:20211105T142320Z
UID:400017-1636459200-1636462800@977wmoi.com
SUMMARY:Cyber-Security Forum
DESCRIPTION:Learn how to protect yourself or your business from scams\, identity theft\, malware\, ransomware\, phishing\, and data breaches. Hear the forum on AM 1330/FM 94.1 WRAM or on this website. Just click Listen Live and choose WRAM.
URL:https://977wmoi.com/event/cyber-security-forum/
END:VEVENT
BEGIN:VEVENT
DTSTART;TZID=America/Chicago:20211109T133000
DTEND;TZID=America/Chicago:20211109T153000
DTSTAMP:20260423T202631
CREATED:20211109T141209Z
LAST-MODIFIED:20211109T141209Z
UID:400348-1636464600-1636471800@977wmoi.com
SUMMARY:Knox County COVID-19 Vaccination Clinic
DESCRIPTION:At the Unified Command Vaccine Center 1:30pm-3:30pm Moderna\, Pfizer & Janssen (12 years of age and up)
URL:https://977wmoi.com/event/knox-county-covid-19-vaccination-clinic-5/
END:VEVENT
BEGIN:VEVENT
DTSTART;TZID=America/Chicago:20211109T170000
DTEND;TZID=America/Chicago:20211109T190000
DTSTAMP:20260423T202631
CREATED:20211103T133653Z
LAST-MODIFIED:20211103T133653Z
UID:400104-1636477200-1636484400@977wmoi.com
SUMMARY:Business After Hours
DESCRIPTION:The Galesburg Area Chamber of Commerce’s next Business After Hours will happen at The Hub\, 143 East Main Street in Galesburg. Bring your business card and enjoy the return of networking with other local contacts.
URL:https://977wmoi.com/event/business-after-hours-10/
END:VEVENT
END:VCALENDAR