BEGIN:VCALENDAR
VERSION:2.0
PRODID:-//Prairie Communications, LLC - ECPv6.15.20//NONSGML v1.0//EN
CALSCALE:GREGORIAN
METHOD:PUBLISH
X-WR-CALNAME:Prairie Communications, LLC
X-ORIGINAL-URL:https://977wmoi.com
X-WR-CALDESC:Events for Prairie Communications, LLC
REFRESH-INTERVAL;VALUE=DURATION:PT1H
X-Robots-Tag:noindex
X-PUBLISHED-TTL:PT1H
BEGIN:VTIMEZONE
TZID:America/Chicago
BEGIN:DAYLIGHT
TZOFFSETFROM:-0600
TZOFFSETTO:-0500
TZNAME:CDT
DTSTART:20200308T080000
END:DAYLIGHT
BEGIN:STANDARD
TZOFFSETFROM:-0500
TZOFFSETTO:-0600
TZNAME:CST
DTSTART:20201101T070000
END:STANDARD
BEGIN:DAYLIGHT
TZOFFSETFROM:-0600
TZOFFSETTO:-0500
TZNAME:CDT
DTSTART:20210314T080000
END:DAYLIGHT
BEGIN:STANDARD
TZOFFSETFROM:-0500
TZOFFSETTO:-0600
TZNAME:CST
DTSTART:20211107T070000
END:STANDARD
BEGIN:DAYLIGHT
TZOFFSETFROM:-0600
TZOFFSETTO:-0500
TZNAME:CDT
DTSTART:20220313T080000
END:DAYLIGHT
BEGIN:STANDARD
TZOFFSETFROM:-0500
TZOFFSETTO:-0600
TZNAME:CST
DTSTART:20221106T070000
END:STANDARD
END:VTIMEZONE
BEGIN:VEVENT
DTSTART;VALUE=DATE:20211030
DTEND;VALUE=DATE:20211231
DTSTAMP:20260423T203827
CREATED:20210824T173628Z
LAST-MODIFIED:20210824T173628Z
UID:396633-1635552000-1640908799@977wmoi.com
SUMMARY:40th Annual Security Savings Bank Photography Show
DESCRIPTION:ATTENTION PHOTOGRAPHERS! The Buchanan Center for the Arts invites you to enter our 40th-Annual Security Savings Bank Photography Show November 9 through December 30\, 2021. Categories this year include Agriculture & Farm Life\, Animals & Creatures\, Capturing Light & Shadows\, Faces\, The Four Seasons\, and the Peggy Kuczewski Floral Award (new to this year’s show). Deadline for entry is 2pm Saturday\, October 30. Our juror for this year’s show is Natalie Jackson of Nat Jack Studios in Peoria\, Illinois. Visit http://bcaarts.org for entry details and to download an entry form. To learn more about our juror\, visit https://www.nataliejacksonphotography.com/.
URL:https://977wmoi.com/event/40th-annual-security-savings-bank-photography-show/
END:VEVENT
BEGIN:VEVENT
DTSTART;TZID=America/Chicago:20211110T080000
DTEND;TZID=America/Chicago:20211110T100000
DTSTAMP:20260423T203827
CREATED:20211018T204605Z
LAST-MODIFIED:20211018T204605Z
UID:399183-1636531200-1636538400@977wmoi.com
SUMMARY:Henderson County Health Department Flu Vaccine Clinic
DESCRIPTION:It will be a walk-in clinic from 8-10am every Wednesday morning through December.\n\n\nPlease bring your Medicare or Medicaid card with you.\n\n\nWith out insurance\, it will be $35 for regular Flublock and $55 for the over age 65 Fluzone HD.
URL:https://977wmoi.com/event/henderson-county-health-department-flu-vaccine-clinic-4/
END:VEVENT
BEGIN:VEVENT
DTSTART;TZID=America/Chicago:20211110T083000
DTEND;TZID=America/Chicago:20211110T160000
DTSTAMP:20260423T203827
CREATED:20211022T132735Z
LAST-MODIFIED:20211025T184011Z
UID:399418-1636533000-1636560000@977wmoi.com
SUMMARY:Warren County Health Department COVID Vaccination Clinic
DESCRIPTION:Held at the 1st Christian Church\, 514 North Sunny Lane in Monmouth. Pfizer\, Moderna\, and Johnson & Johnson vaccines will all be available. Boosters are currently available if you have previously received Pfizer or Moderna more than 6 months ago. Johnson & Johnson boosters are available if you received you initial dose at least 2 months ago. Appointments must be scheduled prior to receiving  vaccine by calling 309-734-0823 during regular business hours.
URL:https://977wmoi.com/event/warren-county-health-department-covid-vaccination-clinic-4/
END:VEVENT
BEGIN:VEVENT
DTSTART;TZID=America/Chicago:20211110T090000
DTEND;TZID=America/Chicago:20211110T130000
DTSTAMP:20260423T203827
CREATED:20211028T182428Z
LAST-MODIFIED:20211101T181327Z
UID:399889-1636534800-1636549200@977wmoi.com
SUMMARY:Free A1C Screenings at Strom Center
DESCRIPTION:In conjunction with OSF Holy Family HealthCare\, Diabetes/A1C screenings will be offered for free at Strom Center in Monmouth. Fasting is not required. Registration is not necessary.
URL:https://977wmoi.com/event/free-a1c-screenings-at-strom-center/
END:VEVENT
BEGIN:VEVENT
DTSTART;TZID=America/Chicago:20211110T130000
DTEND;TZID=America/Chicago:20211110T150000
DTSTAMP:20260423T203827
CREATED:20211101T181951Z
LAST-MODIFIED:20211101T181951Z
UID:400006-1636549200-1636556400@977wmoi.com
SUMMARY:Oquawka Strom Center BINGO
DESCRIPTION:Each person is allowed up to 4 cards for free and each additional card is 25 cents. Refreshments will be served during the afternoon. Feel free to bring your own lunch to enjoy before BINGO at 12:15.
URL:https://977wmoi.com/event/oquawka-strom-center-bingo-5/
END:VEVENT
BEGIN:VEVENT
DTSTART;TZID=America/Chicago:20211110T180000
DTEND;TZID=America/Chicago:20211110T190000
DTSTAMP:20260423T203827
CREATED:20211101T131252Z
LAST-MODIFIED:20211101T131252Z
UID:399974-1636567200-1636570800@977wmoi.com
SUMMARY:Digital Safety Education Series Virtual Event
DESCRIPTION:Most teens have various ways to get online\, Smartphones\, tablets\, and laptops all can be used in private. It’s very easy for teens to create and share personal photos and videos of themselves without their parents knowing about it. This webinar discusses the widespread phenomenon of taking and sending explicit images. Suggestions are offered for avoiding these issues and how to stay safe from potential risks.\n\n\nRegistration: https://forms.gle/Awy4j2Utp7zg5okX7 or visit ROE33’s Family Support University (FSU) at www.roe33.net/fsu\n\n\nRegional Office of Education #33 in partnership with ICAC (Internet Crimes Against Children Task Force)
URL:https://977wmoi.com/event/digital-safety-education-series-virtual-event/
END:VEVENT
END:VCALENDAR