BEGIN:VCALENDAR
VERSION:2.0
PRODID:-//Prairie Communications, LLC - ECPv6.15.20//NONSGML v1.0//EN
CALSCALE:GREGORIAN
METHOD:PUBLISH
X-ORIGINAL-URL:https://977wmoi.com
X-WR-CALDESC:Events for Prairie Communications, LLC
REFRESH-INTERVAL;VALUE=DURATION:PT1H
X-Robots-Tag:noindex
X-PUBLISHED-TTL:PT1H
BEGIN:VTIMEZONE
TZID:America/Chicago
BEGIN:DAYLIGHT
TZOFFSETFROM:-0600
TZOFFSETTO:-0500
TZNAME:CDT
DTSTART:20200308T080000
END:DAYLIGHT
BEGIN:STANDARD
TZOFFSETFROM:-0500
TZOFFSETTO:-0600
TZNAME:CST
DTSTART:20201101T070000
END:STANDARD
BEGIN:DAYLIGHT
TZOFFSETFROM:-0600
TZOFFSETTO:-0500
TZNAME:CDT
DTSTART:20210314T080000
END:DAYLIGHT
BEGIN:STANDARD
TZOFFSETFROM:-0500
TZOFFSETTO:-0600
TZNAME:CST
DTSTART:20211107T070000
END:STANDARD
BEGIN:DAYLIGHT
TZOFFSETFROM:-0600
TZOFFSETTO:-0500
TZNAME:CDT
DTSTART:20220313T080000
END:DAYLIGHT
BEGIN:STANDARD
TZOFFSETFROM:-0500
TZOFFSETTO:-0600
TZNAME:CST
DTSTART:20221106T070000
END:STANDARD
END:VTIMEZONE
BEGIN:VEVENT
DTSTART;VALUE=DATE:20211030
DTEND;VALUE=DATE:20211231
DTSTAMP:20260420T015810
CREATED:20210824T173628Z
LAST-MODIFIED:20210824T173628Z
UID:396633-1635552000-1640908799@977wmoi.com
SUMMARY:40th Annual Security Savings Bank Photography Show
DESCRIPTION:ATTENTION PHOTOGRAPHERS! The Buchanan Center for the Arts invites you to enter our 40th-Annual Security Savings Bank Photography Show November 9 through December 30\, 2021. Categories this year include Agriculture & Farm Life\, Animals & Creatures\, Capturing Light & Shadows\, Faces\, The Four Seasons\, and the Peggy Kuczewski Floral Award (new to this year’s show). Deadline for entry is 2pm Saturday\, October 30. Our juror for this year’s show is Natalie Jackson of Nat Jack Studios in Peoria\, Illinois. Visit http://bcaarts.org for entry details and to download an entry form. To learn more about our juror\, visit https://www.nataliejacksonphotography.com/.
URL:https://977wmoi.com/event/40th-annual-security-savings-bank-photography-show/
END:VEVENT
BEGIN:VEVENT
DTSTART;TZID=America/Chicago:20211116T070000
DTEND;TZID=America/Chicago:20211116T113000
DTSTAMP:20260420T015810
CREATED:20211109T141406Z
LAST-MODIFIED:20211109T141406Z
UID:400352-1637046000-1637062200@977wmoi.com
SUMMARY:Knox County COVID-19 Vaccination Clinic
DESCRIPTION:Walk-in Booster Clinic at the Unified Command Vaccine Center 7:00am-11:30am Moderna\, Pfizer & Janssen (12 years of age and up).
URL:https://977wmoi.com/event/knox-county-covid-19-vaccination-clinic-6/
END:VEVENT
BEGIN:VEVENT
DTSTART;TZID=America/Chicago:20211116T133000
DTEND;TZID=America/Chicago:20211116T153000
DTSTAMP:20260420T015810
CREATED:20211109T141450Z
LAST-MODIFIED:20211109T141450Z
UID:400354-1637069400-1637076600@977wmoi.com
SUMMARY:Knox County COVID-19 Vaccination Clinic
DESCRIPTION:At the Unified Command Vaccine Center 1:30pm-3:30pm Moderna\, Pfizer & Janssen (12 years of age and up).
URL:https://977wmoi.com/event/knox-county-covid-19-vaccination-clinic-7/
END:VEVENT
END:VCALENDAR