BEGIN:VCALENDAR
VERSION:2.0
PRODID:-//Prairie Communications, LLC - ECPv6.15.20//NONSGML v1.0//EN
CALSCALE:GREGORIAN
METHOD:PUBLISH
X-WR-CALNAME:Prairie Communications, LLC
X-ORIGINAL-URL:https://977wmoi.com
X-WR-CALDESC:Events for Prairie Communications, LLC
REFRESH-INTERVAL;VALUE=DURATION:PT1H
X-Robots-Tag:noindex
X-PUBLISHED-TTL:PT1H
BEGIN:VTIMEZONE
TZID:America/Chicago
BEGIN:DAYLIGHT
TZOFFSETFROM:-0600
TZOFFSETTO:-0500
TZNAME:CDT
DTSTART:20200308T080000
END:DAYLIGHT
BEGIN:STANDARD
TZOFFSETFROM:-0500
TZOFFSETTO:-0600
TZNAME:CST
DTSTART:20201101T070000
END:STANDARD
BEGIN:DAYLIGHT
TZOFFSETFROM:-0600
TZOFFSETTO:-0500
TZNAME:CDT
DTSTART:20210314T080000
END:DAYLIGHT
BEGIN:STANDARD
TZOFFSETFROM:-0500
TZOFFSETTO:-0600
TZNAME:CST
DTSTART:20211107T070000
END:STANDARD
BEGIN:DAYLIGHT
TZOFFSETFROM:-0600
TZOFFSETTO:-0500
TZNAME:CDT
DTSTART:20220313T080000
END:DAYLIGHT
BEGIN:STANDARD
TZOFFSETFROM:-0500
TZOFFSETTO:-0600
TZNAME:CST
DTSTART:20221106T070000
END:STANDARD
END:VTIMEZONE
BEGIN:VEVENT
DTSTART;VALUE=DATE:20211030
DTEND;VALUE=DATE:20211231
DTSTAMP:20260419T224031
CREATED:20210824T173628Z
LAST-MODIFIED:20210824T173628Z
UID:396633-1635552000-1640908799@977wmoi.com
SUMMARY:40th Annual Security Savings Bank Photography Show
DESCRIPTION:ATTENTION PHOTOGRAPHERS! The Buchanan Center for the Arts invites you to enter our 40th-Annual Security Savings Bank Photography Show November 9 through December 30\, 2021. Categories this year include Agriculture & Farm Life\, Animals & Creatures\, Capturing Light & Shadows\, Faces\, The Four Seasons\, and the Peggy Kuczewski Floral Award (new to this year’s show). Deadline for entry is 2pm Saturday\, October 30. Our juror for this year’s show is Natalie Jackson of Nat Jack Studios in Peoria\, Illinois. Visit http://bcaarts.org for entry details and to download an entry form. To learn more about our juror\, visit https://www.nataliejacksonphotography.com/.
URL:https://977wmoi.com/event/40th-annual-security-savings-bank-photography-show/
END:VEVENT
BEGIN:VEVENT
DTSTART;VALUE=DATE:20211206
DTEND;VALUE=DATE:20211215
DTSTAMP:20260419T224032
CREATED:20211206T141527Z
LAST-MODIFIED:20211206T141527Z
UID:401484-1638748800-1639526399@977wmoi.com
SUMMARY:YMCA's Camp Meskwaki Winter Day Camp
DESCRIPTION:Do you need a place to send your kids during Christmas break? We got you covered! \n\n\nCamp Meskwaki Winter Day Camp registration is now open! You can register online\, come to the YMCA or call the front desk. You must fill out a registration form as well. You can pick up a packet at the front desk or download the packet online – all information about winter camp is on the front page of www.warrencountyymca.org\n\n\nThis camp is for kids who are in Kindergarten-6th grade ONLY\n\n\n This camp has limited spots available so be sure to get signed up ASAP \n\n\nWe have many fun things planned:\n•Swimming\n•Arts&Crafts\n•Field Trips\n•Christmas games\n•& MORE!!\n\n\nRegistration deadline is December 14th.\n\n\nFor any additional questions\, please contact Emily Brooks at emily@warrencountyymcs.org or 309-734-3183.\n\n\nSee you soon Red Foxes!
URL:https://977wmoi.com/event/ymcas-camp-meskwaki-winter-day-camp/
END:VEVENT
BEGIN:VEVENT
DTSTART;TZID=America/Chicago:20211212T140000
DTEND;TZID=America/Chicago:20211212T140000
DTSTAMP:20260419T224032
CREATED:20211101T130605Z
LAST-MODIFIED:20211101T130605Z
UID:399968-1639317600-1639317600@977wmoi.com
SUMMARY:The Outsider Production in Burlington
DESCRIPTION:Players Workshop will open the hilarious political satire The Outsider by Paul Slade Smith on the first weekend in December at Players Workshop Theater\, 1431 Grove St.\, Burlington. \n                The Outsider\, which “skewers politics and celebrates democracy\,” will have audiences rolling as it shares the story of Ned Newley\, possibly the worst candidate to ever run for a political office—unless\, of course\, people are looking for the worst person ever to run for political office! According to its review in Broadway World it is an “insightful\, witty satire about modern American politics. Funny\, timely\, and – dare we say – entirely possible . . . .” \n            The Outsider will be performed on December 3-4 and 9-11 at 7:30 p.m.\, and on Dec. 5 and 12 at 2:00 p.m.  The box office opens at 7:00 p.m.\, except for matinees\, when the box office opens at noon. The play is produced by special arrangement with Playscripts\, Inc. (www.playscripts.com). \n                Masks will be required for audience members entering the theatre\, and social distancing will be maintained as much as possible.  PW highly recommends audience members remain masked for the entirety of the performance. \n                For more information call 753-6623\, go to the Players Workshop Facebook page\, or visit the PW  website at www.playersworkshoptheater.com.  Players Workshop is a 501(c)3 organization.
URL:https://977wmoi.com/event/the-outsider-production-in-burlington-2/
END:VEVENT
END:VCALENDAR