BEGIN:VCALENDAR
VERSION:2.0
PRODID:-//Prairie Communications, LLC - ECPv6.15.20//NONSGML v1.0//EN
CALSCALE:GREGORIAN
METHOD:PUBLISH
X-ORIGINAL-URL:https://977wmoi.com
X-WR-CALDESC:Events for Prairie Communications, LLC
REFRESH-INTERVAL;VALUE=DURATION:PT1H
X-Robots-Tag:noindex
X-PUBLISHED-TTL:PT1H
BEGIN:VTIMEZONE
TZID:America/Chicago
BEGIN:DAYLIGHT
TZOFFSETFROM:-0600
TZOFFSETTO:-0500
TZNAME:CDT
DTSTART:20200308T080000
END:DAYLIGHT
BEGIN:STANDARD
TZOFFSETFROM:-0500
TZOFFSETTO:-0600
TZNAME:CST
DTSTART:20201101T070000
END:STANDARD
BEGIN:DAYLIGHT
TZOFFSETFROM:-0600
TZOFFSETTO:-0500
TZNAME:CDT
DTSTART:20210314T080000
END:DAYLIGHT
BEGIN:STANDARD
TZOFFSETFROM:-0500
TZOFFSETTO:-0600
TZNAME:CST
DTSTART:20211107T070000
END:STANDARD
BEGIN:DAYLIGHT
TZOFFSETFROM:-0600
TZOFFSETTO:-0500
TZNAME:CDT
DTSTART:20220313T080000
END:DAYLIGHT
BEGIN:STANDARD
TZOFFSETFROM:-0500
TZOFFSETTO:-0600
TZNAME:CST
DTSTART:20221106T070000
END:STANDARD
END:VTIMEZONE
BEGIN:VEVENT
DTSTART;VALUE=DATE:20211030
DTEND;VALUE=DATE:20211231
DTSTAMP:20260419T121616
CREATED:20210824T173628Z
LAST-MODIFIED:20210824T173628Z
UID:396633-1635552000-1640908799@977wmoi.com
SUMMARY:40th Annual Security Savings Bank Photography Show
DESCRIPTION:ATTENTION PHOTOGRAPHERS! The Buchanan Center for the Arts invites you to enter our 40th-Annual Security Savings Bank Photography Show November 9 through December 30\, 2021. Categories this year include Agriculture & Farm Life\, Animals & Creatures\, Capturing Light & Shadows\, Faces\, The Four Seasons\, and the Peggy Kuczewski Floral Award (new to this year’s show). Deadline for entry is 2pm Saturday\, October 30. Our juror for this year’s show is Natalie Jackson of Nat Jack Studios in Peoria\, Illinois. Visit http://bcaarts.org for entry details and to download an entry form. To learn more about our juror\, visit https://www.nataliejacksonphotography.com/.
URL:https://977wmoi.com/event/40th-annual-security-savings-bank-photography-show/
END:VEVENT
BEGIN:VEVENT
DTSTART;TZID=America/Chicago:20211215T080000
DTEND;TZID=America/Chicago:20211215T100000
DTSTAMP:20260419T121616
CREATED:20211018T204920Z
LAST-MODIFIED:20211018T204920Z
UID:399193-1639555200-1639562400@977wmoi.com
SUMMARY:Henderson County Health Department Flu Vaccine Clinic
DESCRIPTION:It will be a walk-in clinic from 8-10am every Wednesday morning through December.\n\n\nPlease bring your Medicare or Medicaid card with you.\n\n\nWith out insurance\, it will be $35 for regular Flublock and $55 for the over age 65 Fluzone HD.
URL:https://977wmoi.com/event/henderson-county-health-department-flu-vaccine-clinic-9/
END:VEVENT
BEGIN:VEVENT
DTSTART;TZID=America/Chicago:20211215T100000
DTEND;TZID=America/Chicago:20211215T100000
DTSTAMP:20260419T121616
CREATED:20211208T193804Z
LAST-MODIFIED:20211208T193804Z
UID:401704-1639562400-1639562400@977wmoi.com
SUMMARY:City of Monmouth Townhomes Groundbreaking Ceremony
DESCRIPTION:Located East of 1123 North Main Street in Monmouth.
URL:https://977wmoi.com/event/city-of-monmouth-townhomes-groundbreaking-ceremony/
END:VEVENT
BEGIN:VEVENT
DTSTART;TZID=America/Chicago:20211215T130000
DTEND;TZID=America/Chicago:20211215T150000
DTSTAMP:20260419T121616
CREATED:20211201T203556Z
LAST-MODIFIED:20211201T203556Z
UID:401294-1639573200-1639580400@977wmoi.com
SUMMARY:Oquawka Strom Center BINGO
DESCRIPTION:Each person is allowed up to 4 cards free and each additional card is 25 cents. Refreshments will be served during the afternoon.
URL:https://977wmoi.com/event/oquawka-strom-center-bingo-7/
END:VEVENT
BEGIN:VEVENT
DTSTART;TZID=America/Chicago:20211215T170000
DTEND;TZID=America/Chicago:20211215T190000
DTSTAMP:20260419T121616
CREATED:20211207T140215Z
LAST-MODIFIED:20211207T140215Z
UID:401543-1639587600-1639594800@977wmoi.com
SUMMARY:Knox County Pediatric & Adolescent COVID-19 Vaccination Clinic
DESCRIPTION:At the Unified Command Vaccine Center 5:00pm-7:00pm Pfizer 5–18-year old’s Pediatric and Adolescent Clinic. Registration is required.
URL:https://977wmoi.com/event/knox-county-pediatric-adolescent-covid-19-vaccination-clinic/
END:VEVENT
END:VCALENDAR