BEGIN:VCALENDAR
VERSION:2.0
PRODID:-//Prairie Communications, LLC - ECPv6.15.20//NONSGML v1.0//EN
CALSCALE:GREGORIAN
METHOD:PUBLISH
X-ORIGINAL-URL:https://977wmoi.com
X-WR-CALDESC:Events for Prairie Communications, LLC
REFRESH-INTERVAL;VALUE=DURATION:PT1H
X-Robots-Tag:noindex
X-PUBLISHED-TTL:PT1H
BEGIN:VTIMEZONE
TZID:America/Chicago
BEGIN:DAYLIGHT
TZOFFSETFROM:-0600
TZOFFSETTO:-0500
TZNAME:CDT
DTSTART:20200308T080000
END:DAYLIGHT
BEGIN:STANDARD
TZOFFSETFROM:-0500
TZOFFSETTO:-0600
TZNAME:CST
DTSTART:20201101T070000
END:STANDARD
BEGIN:DAYLIGHT
TZOFFSETFROM:-0600
TZOFFSETTO:-0500
TZNAME:CDT
DTSTART:20210314T080000
END:DAYLIGHT
BEGIN:STANDARD
TZOFFSETFROM:-0500
TZOFFSETTO:-0600
TZNAME:CST
DTSTART:20211107T070000
END:STANDARD
BEGIN:DAYLIGHT
TZOFFSETFROM:-0600
TZOFFSETTO:-0500
TZNAME:CDT
DTSTART:20220313T080000
END:DAYLIGHT
BEGIN:STANDARD
TZOFFSETFROM:-0500
TZOFFSETTO:-0600
TZNAME:CST
DTSTART:20221106T070000
END:STANDARD
END:VTIMEZONE
BEGIN:VEVENT
DTSTART;VALUE=DATE:20211030
DTEND;VALUE=DATE:20211231
DTSTAMP:20260419T155852
CREATED:20210824T173628Z
LAST-MODIFIED:20210824T173628Z
UID:396633-1635552000-1640908799@977wmoi.com
SUMMARY:40th Annual Security Savings Bank Photography Show
DESCRIPTION:ATTENTION PHOTOGRAPHERS! The Buchanan Center for the Arts invites you to enter our 40th-Annual Security Savings Bank Photography Show November 9 through December 30\, 2021. Categories this year include Agriculture & Farm Life\, Animals & Creatures\, Capturing Light & Shadows\, Faces\, The Four Seasons\, and the Peggy Kuczewski Floral Award (new to this year’s show). Deadline for entry is 2pm Saturday\, October 30. Our juror for this year’s show is Natalie Jackson of Nat Jack Studios in Peoria\, Illinois. Visit http://bcaarts.org for entry details and to download an entry form. To learn more about our juror\, visit https://www.nataliejacksonphotography.com/.
URL:https://977wmoi.com/event/40th-annual-security-savings-bank-photography-show/
END:VEVENT
BEGIN:VEVENT
DTSTART;TZID=America/Chicago:20211217T090000
DTEND;TZID=America/Chicago:20211217T120000
DTSTAMP:20260419T155852
CREATED:20211118T215414Z
LAST-MODIFIED:20211214T214915Z
UID:400806-1639731600-1639742400@977wmoi.com
SUMMARY:WCHD 12+ COVID-19 Vaccine Clinic **Clinic is Full**
DESCRIPTION:Held at the Warren County Health Department\, 240 South Main Street in Monmouth. Pfizer\, Moderna\, and Johnson and Johnson will all be available. Pfizer and Moderna booster vaccines are also available. To schedule an appointment\, call 309-734-0823.
URL:https://977wmoi.com/event/wchd-12-covid-19-vaccine-clinic-2/
END:VEVENT
BEGIN:VEVENT
DTSTART;TZID=America/Chicago:20211217T170000
DTEND;TZID=America/Chicago:20211217T220000
DTSTAMP:20260419T155852
CREATED:20211130T203504Z
LAST-MODIFIED:20211130T203504Z
UID:401208-1639760400-1639778400@977wmoi.com
SUMMARY:Galesburg's Young Professionals Network Fa La Holiday Party
DESCRIPTION:Enjoy getting out of the office with all your friends? Jingle and Mingle with YPN! As the Young Professional Network’s first fundraiser\, Fa La Holiday Party will take you around downtown for a bar hop to visit many local businesses. Your ticket includes Pizza and Jimmy’s Pizza\, a free signature drink at each stop\, and a stadium cup to fill up all night!The evening includes FIVE stops in downtown Galesburg (includes a complimentary drink at each stop along with pizza at the 1st stop): \n\n5PM – Jimmy’s Pizza\, 379 E Tompkins St\n6PM – Commerce Center\, 200 E. Main St\n7PM – 156 East\, 156 E Main St\n8PM – The Bar 65\, 65 S Cherry St\n9PM – Cherry Street\, 57 S Cherry St\n\nDon’t miss Carol-oke at Cherry Street where five contestants will perform a carol of their choice to win “Best Carol-oke” at 9:00pm Voting is based on whose stocking has the most donations at the end of the show! Tickets can be purchased at http://galesburgil.chambermaster.com/events/details/fa-la-holiday-party-5589?fbclid=IwAR1mZQPpDORuX7sMvirQPmphU-IyVxekiTrZDnupCLqdwi-ByP_Y9GF1UM0.
URL:https://977wmoi.com/event/galesburgs-young-professionals-network-fa-la-holiday-party/
END:VEVENT
BEGIN:VEVENT
DTSTART;TZID=America/Chicago:20211217T190000
DTEND;TZID=America/Chicago:20211217T203000
DTSTAMP:20260419T155852
CREATED:20211118T213721Z
LAST-MODIFIED:20211118T213721Z
UID:400797-1639767600-1639773000@977wmoi.com
SUMMARY:Nature at Night: Winter Solstice Celebration
DESCRIPTION:Join for a candlelit hike through the woods and hot chocolate and smores around the yule log while learning about the annual event at the Lakeside Nature Center Shelter. Cost is $5 per person. Pre-registration is required.
URL:https://977wmoi.com/event/nature-at-night-winter-solstice-celebration/
END:VEVENT
END:VCALENDAR