BEGIN:VCALENDAR
VERSION:2.0
PRODID:-//Prairie Communications, LLC - ECPv6.15.20//NONSGML v1.0//EN
CALSCALE:GREGORIAN
METHOD:PUBLISH
X-WR-CALNAME:Prairie Communications, LLC
X-ORIGINAL-URL:https://977wmoi.com
X-WR-CALDESC:Events for Prairie Communications, LLC
REFRESH-INTERVAL;VALUE=DURATION:PT1H
X-Robots-Tag:noindex
X-PUBLISHED-TTL:PT1H
BEGIN:VTIMEZONE
TZID:America/Chicago
BEGIN:DAYLIGHT
TZOFFSETFROM:-0600
TZOFFSETTO:-0500
TZNAME:CDT
DTSTART:20200308T080000
END:DAYLIGHT
BEGIN:STANDARD
TZOFFSETFROM:-0500
TZOFFSETTO:-0600
TZNAME:CST
DTSTART:20201101T070000
END:STANDARD
BEGIN:DAYLIGHT
TZOFFSETFROM:-0600
TZOFFSETTO:-0500
TZNAME:CDT
DTSTART:20210314T080000
END:DAYLIGHT
BEGIN:STANDARD
TZOFFSETFROM:-0500
TZOFFSETTO:-0600
TZNAME:CST
DTSTART:20211107T070000
END:STANDARD
BEGIN:DAYLIGHT
TZOFFSETFROM:-0600
TZOFFSETTO:-0500
TZNAME:CDT
DTSTART:20220313T080000
END:DAYLIGHT
BEGIN:STANDARD
TZOFFSETFROM:-0500
TZOFFSETTO:-0600
TZNAME:CST
DTSTART:20221106T070000
END:STANDARD
END:VTIMEZONE
BEGIN:VEVENT
DTSTART;VALUE=DATE:20211030
DTEND;VALUE=DATE:20211231
DTSTAMP:20260422T152210
CREATED:20210824T173628Z
LAST-MODIFIED:20210824T173628Z
UID:396633-1635552000-1640908799@977wmoi.com
SUMMARY:40th Annual Security Savings Bank Photography Show
DESCRIPTION:ATTENTION PHOTOGRAPHERS! The Buchanan Center for the Arts invites you to enter our 40th-Annual Security Savings Bank Photography Show November 9 through December 30\, 2021. Categories this year include Agriculture & Farm Life\, Animals & Creatures\, Capturing Light & Shadows\, Faces\, The Four Seasons\, and the Peggy Kuczewski Floral Award (new to this year’s show). Deadline for entry is 2pm Saturday\, October 30. Our juror for this year’s show is Natalie Jackson of Nat Jack Studios in Peoria\, Illinois. Visit http://bcaarts.org for entry details and to download an entry form. To learn more about our juror\, visit https://www.nataliejacksonphotography.com/.
URL:https://977wmoi.com/event/40th-annual-security-savings-bank-photography-show/
END:VEVENT
BEGIN:VEVENT
DTSTART;TZID=America/Chicago:20211230T083000
DTEND;TZID=America/Chicago:20211230T113000
DTSTAMP:20260422T152210
CREATED:20211228T140525Z
LAST-MODIFIED:20211228T140525Z
UID:402384-1640853000-1640863800@977wmoi.com
SUMMARY:Knox County COVID Vaccination Clinic
DESCRIPTION:At the Vaccine Center 8:30am-11:30am. Clinic offers primary series\, additional doses\, and boosters of Moderna for adults 18 years and up and Pfizer boosters for those 16 years and up. Pfizer primary series is available to those 12 years of age and up.
URL:https://977wmoi.com/event/knox-county-covid-vaccination-clinic-4/
END:VEVENT
END:VCALENDAR