BEGIN:VCALENDAR
VERSION:2.0
PRODID:-//Prairie Communications, LLC - ECPv6.15.20//NONSGML v1.0//EN
CALSCALE:GREGORIAN
METHOD:PUBLISH
X-ORIGINAL-URL:https://977wmoi.com
X-WR-CALDESC:Events for Prairie Communications, LLC
REFRESH-INTERVAL;VALUE=DURATION:PT1H
X-Robots-Tag:noindex
X-PUBLISHED-TTL:PT1H
BEGIN:VTIMEZONE
TZID:America/Chicago
BEGIN:DAYLIGHT
TZOFFSETFROM:-0600
TZOFFSETTO:-0500
TZNAME:CDT
DTSTART:20210314T080000
END:DAYLIGHT
BEGIN:STANDARD
TZOFFSETFROM:-0500
TZOFFSETTO:-0600
TZNAME:CST
DTSTART:20211107T070000
END:STANDARD
BEGIN:DAYLIGHT
TZOFFSETFROM:-0600
TZOFFSETTO:-0500
TZNAME:CDT
DTSTART:20220313T080000
END:DAYLIGHT
BEGIN:STANDARD
TZOFFSETFROM:-0500
TZOFFSETTO:-0600
TZNAME:CST
DTSTART:20221106T070000
END:STANDARD
BEGIN:DAYLIGHT
TZOFFSETFROM:-0600
TZOFFSETTO:-0500
TZNAME:CDT
DTSTART:20230312T080000
END:DAYLIGHT
BEGIN:STANDARD
TZOFFSETFROM:-0500
TZOFFSETTO:-0600
TZNAME:CST
DTSTART:20231105T070000
END:STANDARD
END:VTIMEZONE
BEGIN:VEVENT
DTSTART;VALUE=DATE:20220101
DTEND;VALUE=DATE:20220116
DTSTAMP:20260421T151151
CREATED:20211222T213240Z
LAST-MODIFIED:20211222T213240Z
UID:402274-1640995200-1642291199@977wmoi.com
SUMMARY:Become a CASA Volunteer
DESCRIPTION:Court Appointed Special Advocates\, or CASAs\, are volunteers who play an integral role in protecting children who have been abused and neglected in area communities. Training classes will be held via Zoom January 15th through February 26th on Wednesday from 6-8 pm and Saturdays from 9-11 am. Must be at least 21 years old\, pass a background check\, have internet access and transportation\, and have approximately eight hours a month to volunteer. Sign up at http://tinyurl.com/becomeacasa. For more information\, visit http://casaofwestcentralillinois.org or search them on Facebook. Volunteers are needed in Henderson\, Knox\, McDonough\, and Warren Counties.
URL:https://977wmoi.com/event/become-a-casa-volunteer/
END:VEVENT
END:VCALENDAR