BEGIN:VCALENDAR
VERSION:2.0
PRODID:-//Prairie Communications, LLC - ECPv6.15.20//NONSGML v1.0//EN
CALSCALE:GREGORIAN
METHOD:PUBLISH
X-ORIGINAL-URL:https://977wmoi.com
X-WR-CALDESC:Events for Prairie Communications, LLC
REFRESH-INTERVAL;VALUE=DURATION:PT1H
X-Robots-Tag:noindex
X-PUBLISHED-TTL:PT1H
BEGIN:VTIMEZONE
TZID:America/Chicago
BEGIN:DAYLIGHT
TZOFFSETFROM:-0600
TZOFFSETTO:-0500
TZNAME:CDT
DTSTART:20210314T080000
END:DAYLIGHT
BEGIN:STANDARD
TZOFFSETFROM:-0500
TZOFFSETTO:-0600
TZNAME:CST
DTSTART:20211107T070000
END:STANDARD
BEGIN:DAYLIGHT
TZOFFSETFROM:-0600
TZOFFSETTO:-0500
TZNAME:CDT
DTSTART:20220313T080000
END:DAYLIGHT
BEGIN:STANDARD
TZOFFSETFROM:-0500
TZOFFSETTO:-0600
TZNAME:CST
DTSTART:20221106T070000
END:STANDARD
BEGIN:DAYLIGHT
TZOFFSETFROM:-0600
TZOFFSETTO:-0500
TZNAME:CDT
DTSTART:20230312T080000
END:DAYLIGHT
BEGIN:STANDARD
TZOFFSETFROM:-0500
TZOFFSETTO:-0600
TZNAME:CST
DTSTART:20231105T070000
END:STANDARD
END:VTIMEZONE
BEGIN:VEVENT
DTSTART;VALUE=DATE:20220418
DTEND;VALUE=DATE:20220429
DTSTAMP:20260424T094124
CREATED:20220322T133422Z
LAST-MODIFIED:20220322T133422Z
UID:406118-1650240000-1651190399@977wmoi.com
SUMMARY:WCHD Discounted Lab Draw
DESCRIPTION:$75 lab fee includes: full lipid panel. hemoglobin A1c\, comprehensive metabolic panel\, and complete blood count. PSA screenings are $30. This lab work is by appointment only. Call 309-734-1314 ext. 3. Clients will need to fast for these labs\, so noting except water for 12 hours prior to your appointment.
URL:https://977wmoi.com/event/wchd-discounted-lab-draw-2/
END:VEVENT
BEGIN:VEVENT
DTSTART;TZID=America/Chicago:20220425T163000
DTEND;TZID=America/Chicago:20220425T190000
DTSTAMP:20260424T094124
CREATED:20220412T164508Z
LAST-MODIFIED:20220421T134551Z
UID:407338-1650904200-1650913200@977wmoi.com
SUMMARY:Heritage Bible Church Spring Indian Taco Supper
DESCRIPTION:Drive-thru only. $8 donation for plate size taco with toppings and ice cream. Donation proceeds will benefit Strom Center.
URL:https://977wmoi.com/event/heritage-bible-church-spring-indian-taco-supper/
END:VEVENT
END:VCALENDAR