BEGIN:VCALENDAR
VERSION:2.0
PRODID:-//Prairie Communications, LLC - ECPv6.15.20//NONSGML v1.0//EN
CALSCALE:GREGORIAN
METHOD:PUBLISH
X-ORIGINAL-URL:https://977wmoi.com
X-WR-CALDESC:Events for Prairie Communications, LLC
REFRESH-INTERVAL;VALUE=DURATION:PT1H
X-Robots-Tag:noindex
X-PUBLISHED-TTL:PT1H
BEGIN:VTIMEZONE
TZID:America/Chicago
BEGIN:DAYLIGHT
TZOFFSETFROM:-0600
TZOFFSETTO:-0500
TZNAME:CDT
DTSTART:20210314T080000
END:DAYLIGHT
BEGIN:STANDARD
TZOFFSETFROM:-0500
TZOFFSETTO:-0600
TZNAME:CST
DTSTART:20211107T070000
END:STANDARD
BEGIN:DAYLIGHT
TZOFFSETFROM:-0600
TZOFFSETTO:-0500
TZNAME:CDT
DTSTART:20220313T080000
END:DAYLIGHT
BEGIN:STANDARD
TZOFFSETFROM:-0500
TZOFFSETTO:-0600
TZNAME:CST
DTSTART:20221106T070000
END:STANDARD
BEGIN:DAYLIGHT
TZOFFSETFROM:-0600
TZOFFSETTO:-0500
TZNAME:CDT
DTSTART:20230312T080000
END:DAYLIGHT
BEGIN:STANDARD
TZOFFSETFROM:-0500
TZOFFSETTO:-0600
TZNAME:CST
DTSTART:20231105T070000
END:STANDARD
END:VTIMEZONE
BEGIN:VEVENT
DTSTART;VALUE=DATE:20220608
DTEND;VALUE=DATE:20220610
DTSTAMP:20260420T120136
CREATED:20220504T204001Z
LAST-MODIFIED:20220504T204001Z
UID:408403-1654646400-1654819199@977wmoi.com
SUMMARY:Farm Bureau Summer Ag Institute Days for Area Teachers
DESCRIPTION:Area educators note: On Wednesday\, June 8th (Quad Cities) and Thursday\, June 9th (Peoria)\, “Ag in a Day” teacher workshops will be held\, hosted by Bureau\, Henry\, Knox\, Mercer\, Stark\, and Warren-Henderson county farm bureaus. These workshops and tours are intended to help teachers learn about ag topics and local agricultural products in surrounding counties. Professional development credits will be available to attendees. The workshops are $10/teacher per day\, teachers are invited to attend one or both days; workshops are open to all teachers & educators. \nRegistration opens April 18th: registration numbers will be capped\, be sure to register early! \nClick here for more information and to register.
URL:https://977wmoi.com/event/farm-bureau-summer-ag-institute-days-for-area-teachers/
END:VEVENT
END:VCALENDAR