BEGIN:VCALENDAR
VERSION:2.0
PRODID:-//Prairie Communications, LLC - ECPv6.15.20//NONSGML v1.0//EN
CALSCALE:GREGORIAN
METHOD:PUBLISH
X-ORIGINAL-URL:https://977wmoi.com
X-WR-CALDESC:Events for Prairie Communications, LLC
REFRESH-INTERVAL;VALUE=DURATION:PT1H
X-Robots-Tag:noindex
X-PUBLISHED-TTL:PT1H
BEGIN:VTIMEZONE
TZID:America/Chicago
BEGIN:DAYLIGHT
TZOFFSETFROM:-0600
TZOFFSETTO:-0500
TZNAME:CDT
DTSTART:20210314T080000
END:DAYLIGHT
BEGIN:STANDARD
TZOFFSETFROM:-0500
TZOFFSETTO:-0600
TZNAME:CST
DTSTART:20211107T070000
END:STANDARD
BEGIN:DAYLIGHT
TZOFFSETFROM:-0600
TZOFFSETTO:-0500
TZNAME:CDT
DTSTART:20220313T080000
END:DAYLIGHT
BEGIN:STANDARD
TZOFFSETFROM:-0500
TZOFFSETTO:-0600
TZNAME:CST
DTSTART:20221106T070000
END:STANDARD
BEGIN:DAYLIGHT
TZOFFSETFROM:-0600
TZOFFSETTO:-0500
TZNAME:CDT
DTSTART:20230312T080000
END:DAYLIGHT
BEGIN:STANDARD
TZOFFSETFROM:-0500
TZOFFSETTO:-0600
TZNAME:CST
DTSTART:20231105T070000
END:STANDARD
END:VTIMEZONE
BEGIN:VEVENT
DTSTART;TZID=America/Chicago:20220610T120000
DTEND;TZID=America/Chicago:20220610T120000
DTSTAMP:20260420T203823
CREATED:20220422T130958Z
LAST-MODIFIED:20220422T130958Z
UID:407792-1654862400-1654862400@977wmoi.com
SUMMARY:COSTA Catholic School Golf Outing
DESCRIPTION:Open to all COSTA alumni. Golf outing will be held at Gibson Woods Golf Course. $30 per person for teams of four in a best ball format. Registration begins at noon. Shotgun start at 1:00.
URL:https://977wmoi.com/event/costa-catholic-school-golf-outing/
END:VEVENT
BEGIN:VEVENT
DTSTART;TZID=America/Chicago:20220610T170000
DTEND;TZID=America/Chicago:20220610T190000
DTSTAMP:20260420T203823
CREATED:20220510T210127Z
LAST-MODIFIED:20220511T134639Z
UID:408631-1654880400-1654887600@977wmoi.com
SUMMARY:Monmouth Farmer's Market
DESCRIPTION:Monmouth Area Chamber of Commerce’s Farmer’s Market will be held Fridays in the Fortress Bank Parking Lot\, 300 Block of North Main in Monmouth.
URL:https://977wmoi.com/event/monmouth-farmers-market-4/
END:VEVENT
END:VCALENDAR