BEGIN:VCALENDAR
VERSION:2.0
PRODID:-//Prairie Communications, LLC - ECPv6.15.20//NONSGML v1.0//EN
CALSCALE:GREGORIAN
METHOD:PUBLISH
X-ORIGINAL-URL:https://977wmoi.com
X-WR-CALDESC:Events for Prairie Communications, LLC
REFRESH-INTERVAL;VALUE=DURATION:PT1H
X-Robots-Tag:noindex
X-PUBLISHED-TTL:PT1H
BEGIN:VTIMEZONE
TZID:America/Chicago
BEGIN:DAYLIGHT
TZOFFSETFROM:-0600
TZOFFSETTO:-0500
TZNAME:CDT
DTSTART:20210314T080000
END:DAYLIGHT
BEGIN:STANDARD
TZOFFSETFROM:-0500
TZOFFSETTO:-0600
TZNAME:CST
DTSTART:20211107T070000
END:STANDARD
BEGIN:DAYLIGHT
TZOFFSETFROM:-0600
TZOFFSETTO:-0500
TZNAME:CDT
DTSTART:20220313T080000
END:DAYLIGHT
BEGIN:STANDARD
TZOFFSETFROM:-0500
TZOFFSETTO:-0600
TZNAME:CST
DTSTART:20221106T070000
END:STANDARD
BEGIN:DAYLIGHT
TZOFFSETFROM:-0600
TZOFFSETTO:-0500
TZNAME:CDT
DTSTART:20230312T080000
END:DAYLIGHT
BEGIN:STANDARD
TZOFFSETFROM:-0500
TZOFFSETTO:-0600
TZNAME:CST
DTSTART:20231105T070000
END:STANDARD
END:VTIMEZONE
BEGIN:VEVENT
DTSTART;TZID=America/Chicago:20220704T070000
DTEND;TZID=America/Chicago:20220704T100000
DTSTAMP:20260422T165517
CREATED:20220504T132428Z
LAST-MODIFIED:20220504T132428Z
UID:408355-1656918000-1656928800@977wmoi.com
SUMMARY:Monmouth Flying Club Fly In Breakfast
DESCRIPTION:Breakfast will be a free will donation this year. We will be serving pancakes\, sausage\, milk\, orange juice\, coffee or water.
URL:https://977wmoi.com/event/monmouth-flying-club-fly-in-breakfast/
END:VEVENT
BEGIN:VEVENT
DTSTART;TZID=America/Chicago:20220704T110000
DTEND;TZID=America/Chicago:20220704T130000
DTSTAMP:20260422T165518
CREATED:20220629T132617Z
LAST-MODIFIED:20220629T132617Z
UID:410769-1656932400-1656939600@977wmoi.com
SUMMARY:Henderson County Historical Society 45th Annual BBQ
DESCRIPTION:Held at St. Patrick’s Community Center outside of Raritan. On the menu: grilled chicken and pork chops\, baked beans\, applesauce\, homemade desserts\, and beverages. Dine-in or carry-out. Free will donation.
URL:https://977wmoi.com/event/henderson-county-historical-society-45th-annual-bbq/
END:VEVENT
END:VCALENDAR