BEGIN:VCALENDAR
VERSION:2.0
PRODID:-//Prairie Communications, LLC - ECPv6.15.20//NONSGML v1.0//EN
CALSCALE:GREGORIAN
METHOD:PUBLISH
X-WR-CALNAME:Prairie Communications, LLC
X-ORIGINAL-URL:https://977wmoi.com
X-WR-CALDESC:Events for Prairie Communications, LLC
REFRESH-INTERVAL;VALUE=DURATION:PT1H
X-Robots-Tag:noindex
X-PUBLISHED-TTL:PT1H
BEGIN:VTIMEZONE
TZID:America/Chicago
BEGIN:DAYLIGHT
TZOFFSETFROM:-0600
TZOFFSETTO:-0500
TZNAME:CDT
DTSTART:20210314T080000
END:DAYLIGHT
BEGIN:STANDARD
TZOFFSETFROM:-0500
TZOFFSETTO:-0600
TZNAME:CST
DTSTART:20211107T070000
END:STANDARD
BEGIN:DAYLIGHT
TZOFFSETFROM:-0600
TZOFFSETTO:-0500
TZNAME:CDT
DTSTART:20220313T080000
END:DAYLIGHT
BEGIN:STANDARD
TZOFFSETFROM:-0500
TZOFFSETTO:-0600
TZNAME:CST
DTSTART:20221106T070000
END:STANDARD
BEGIN:DAYLIGHT
TZOFFSETFROM:-0600
TZOFFSETTO:-0500
TZNAME:CDT
DTSTART:20230312T080000
END:DAYLIGHT
BEGIN:STANDARD
TZOFFSETFROM:-0500
TZOFFSETTO:-0600
TZNAME:CST
DTSTART:20231105T070000
END:STANDARD
END:VTIMEZONE
BEGIN:VEVENT
DTSTART;TZID=America/Chicago:20221011T100000
DTEND;TZID=America/Chicago:20221011T100000
DTSTAMP:20260425T081302
CREATED:20220826T213719Z
LAST-MODIFIED:20220826T213719Z
UID:413656-1665482400-1665482400@977wmoi.com
SUMMARY:Mindfulness and Money Webinar
DESCRIPTION:Mindfulness can play an important role in our everyday decision-making. It centers on focused attention\, remaining open\, and practicing acceptance. In this lesson\, we will discuss the relationship between mindfulness and money behaviors. We also will explore practical strategies that can help build positive money habits that have long-term benefits for your health and wellness.
URL:https://977wmoi.com/event/mindfulness-and-money-webinar/
END:VEVENT
BEGIN:VEVENT
DTSTART;TZID=America/Chicago:20221011T113000
DTEND;TZID=America/Chicago:20221011T130000
DTSTAMP:20260425T081302
CREATED:20220919T164452Z
LAST-MODIFIED:20220919T164452Z
UID:415034-1665487800-1665493200@977wmoi.com
SUMMARY:Galesburg Chamber's 2022 State Legislative Luncheon
DESCRIPTION:Event will be held at Knox College in the Lincoln Room. Tables will have 6 seats each instead of 8 at our previous events. Catered by Cafe Bon Appetit. Fees/Admission: $25 Members and $35 Non-members. 2022 State Legislative Luncheon – Oct 11\, 2022 (chambermaster.com)
URL:https://977wmoi.com/event/galesburg-chambers-2022-state-legislative-luncheon/
END:VEVENT
BEGIN:VEVENT
DTSTART;TZID=America/Chicago:20221011T190000
DTEND;TZID=America/Chicago:20221011T190000
DTSTAMP:20260425T081302
CREATED:20220926T144118Z
LAST-MODIFIED:20220926T144118Z
UID:415563-1665514800-1665514800@977wmoi.com
SUMMARY:Knox County Right to Life Meeting
DESCRIPTION:The next regularly scheduled meeting of the Knox County Right to Life will be held on Tuesday\, October 11 at 7:00 PM at First Baptist Church\, 169 S. Cherry St.\, Galesburg. First Baptist Church will host the meeting which will include education and letter writing.
URL:https://977wmoi.com/event/knox-county-right-to-life-meeting-18/
END:VEVENT
END:VCALENDAR