BEGIN:VCALENDAR
VERSION:2.0
PRODID:-//Prairie Communications, LLC - ECPv6.15.20//NONSGML v1.0//EN
CALSCALE:GREGORIAN
METHOD:PUBLISH
X-ORIGINAL-URL:https://977wmoi.com
X-WR-CALDESC:Events for Prairie Communications, LLC
REFRESH-INTERVAL;VALUE=DURATION:PT1H
X-Robots-Tag:noindex
X-PUBLISHED-TTL:PT1H
BEGIN:VTIMEZONE
TZID:America/Chicago
BEGIN:DAYLIGHT
TZOFFSETFROM:-0600
TZOFFSETTO:-0500
TZNAME:CDT
DTSTART:20210314T080000
END:DAYLIGHT
BEGIN:STANDARD
TZOFFSETFROM:-0500
TZOFFSETTO:-0600
TZNAME:CST
DTSTART:20211107T070000
END:STANDARD
BEGIN:DAYLIGHT
TZOFFSETFROM:-0600
TZOFFSETTO:-0500
TZNAME:CDT
DTSTART:20220313T080000
END:DAYLIGHT
BEGIN:STANDARD
TZOFFSETFROM:-0500
TZOFFSETTO:-0600
TZNAME:CST
DTSTART:20221106T070000
END:STANDARD
BEGIN:DAYLIGHT
TZOFFSETFROM:-0600
TZOFFSETTO:-0500
TZNAME:CDT
DTSTART:20230312T080000
END:DAYLIGHT
BEGIN:STANDARD
TZOFFSETFROM:-0500
TZOFFSETTO:-0600
TZNAME:CST
DTSTART:20231105T070000
END:STANDARD
END:VTIMEZONE
BEGIN:VEVENT
DTSTART;VALUE=DATE:20221017
DTEND;VALUE=DATE:20221028
DTSTAMP:20260425T135158
CREATED:20220907T202950Z
LAST-MODIFIED:20220907T202950Z
UID:414410-1665964800-1666915199@977wmoi.com
SUMMARY:Warren County Health Dept. Discounted Labs
DESCRIPTION:$75 lab fee includes: full lipid panel\, hemoglobin A1c\, comprehensive metabolic panel\, and complete blood count. PSA screenings are $30. Vitamin D $40. Vitamin B-12 is $20. Lab work is by appointment only. Call 309-734-1314 ext. 3 to set up an appointment. Fasting is required for these labs\, nothing except water for 12 hours prior to appointment. Cash or check payment. A copy of results will be mailed to you and a copy can be sent to your primary care provider.
URL:https://977wmoi.com/event/warren-county-health-dept-discounted-labs/
END:VEVENT
BEGIN:VEVENT
DTSTART;TZID=America/Chicago:20221022T090000
DTEND;TZID=America/Chicago:20221022T130000
DTSTAMP:20260425T135158
CREATED:20221014T182850Z
LAST-MODIFIED:20221014T182850Z
UID:416695-1666429200-1666443600@977wmoi.com
SUMMARY:St. James A.M.C. Bake Sale
DESCRIPTION:St. James A.M.C. church will be set up at Save A Lot in Monmouth and also the Casey’s on South Main Street for a bake sale open to the entire public.
URL:https://977wmoi.com/event/st-james-a-m-c-bake-sale/
END:VEVENT
BEGIN:VEVENT
DTSTART;TZID=America/Chicago:20221022T110000
DTEND;TZID=America/Chicago:20221022T130000
DTSTAMP:20260425T135158
CREATED:20221019T155248Z
LAST-MODIFIED:20221019T155248Z
UID:416930-1666436400-1666443600@977wmoi.com
SUMMARY:Knox County Humane Society 3rd Annual Doggie Car Ride
DESCRIPTION:Celebrate the love of pets by taking your for a car ride. Drive around the Knox County Humane Society shelter. This year’s theme is Halloween. All pets are welcome.
URL:https://977wmoi.com/event/knox-county-humane-society-3rd-annual-doggie-car-ride/
END:VEVENT
BEGIN:VEVENT
DTSTART;TZID=America/Chicago:20221022T173000
DTEND;TZID=America/Chicago:20221022T173000
DTSTAMP:20260425T135158
CREATED:20220804T192253Z
LAST-MODIFIED:20220804T192253Z
UID:412412-1666459800-1666459800@977wmoi.com
SUMMARY:Name That Tune Trivia Night
DESCRIPTION:Held at the Knights of Columbus Hall on Fremont Street in Galesburg. $10 per person and up to 10 per team. 50/50 drawing. Pre-register at cptfire@comcast.net. All proceeds benefit the Great Balloon Race in Galesburg. Doors open at 5:30 pm. Trivia begins at 7 pm.
URL:https://977wmoi.com/event/name-that-tune-trivia-night/
END:VEVENT
END:VCALENDAR