BEGIN:VCALENDAR
VERSION:2.0
PRODID:-//Prairie Communications, LLC - ECPv6.15.20//NONSGML v1.0//EN
CALSCALE:GREGORIAN
METHOD:PUBLISH
X-ORIGINAL-URL:https://977wmoi.com
X-WR-CALDESC:Events for Prairie Communications, LLC
REFRESH-INTERVAL;VALUE=DURATION:PT1H
X-Robots-Tag:noindex
X-PUBLISHED-TTL:PT1H
BEGIN:VTIMEZONE
TZID:America/Chicago
BEGIN:DAYLIGHT
TZOFFSETFROM:-0600
TZOFFSETTO:-0500
TZNAME:CDT
DTSTART:20210314T080000
END:DAYLIGHT
BEGIN:STANDARD
TZOFFSETFROM:-0500
TZOFFSETTO:-0600
TZNAME:CST
DTSTART:20211107T070000
END:STANDARD
BEGIN:DAYLIGHT
TZOFFSETFROM:-0600
TZOFFSETTO:-0500
TZNAME:CDT
DTSTART:20220313T080000
END:DAYLIGHT
BEGIN:STANDARD
TZOFFSETFROM:-0500
TZOFFSETTO:-0600
TZNAME:CST
DTSTART:20221106T070000
END:STANDARD
BEGIN:DAYLIGHT
TZOFFSETFROM:-0600
TZOFFSETTO:-0500
TZNAME:CDT
DTSTART:20230312T080000
END:DAYLIGHT
BEGIN:STANDARD
TZOFFSETFROM:-0500
TZOFFSETTO:-0600
TZNAME:CST
DTSTART:20231105T070000
END:STANDARD
END:VTIMEZONE
BEGIN:VEVENT
DTSTART;VALUE=DATE:20221101
DTEND;VALUE=DATE:20221114
DTSTAMP:20260425T224056
CREATED:20221026T164909Z
LAST-MODIFIED:20221026T164909Z
UID:417428-1667260800-1668383999@977wmoi.com
SUMMARY:Toy Drive Donation Drop-Off at Legacy Estates in Monmouth
DESCRIPTION:November 1st through December 1st\, new\, unwrapped toys will be collected at Legacy Estates of Monmouth\, 1200 West Broadway\, for the Jamieson Community Center Christmas Store. For more information\, feel free to call 309-734-0909 or Jamieson Center at 309-734-4251.
URL:https://977wmoi.com/event/toy-drive-donation-drop-off-at-legacy-estates-in-monmouth/
END:VEVENT
BEGIN:VEVENT
DTSTART;TZID=America/Chicago:20221110T090000
DTEND;TZID=America/Chicago:20221110T190000
DTSTAMP:20260425T224056
CREATED:20221104T133819Z
LAST-MODIFIED:20221104T133819Z
UID:417973-1668070800-1668106800@977wmoi.com
SUMMARY:OSF Holy Family Gift Shop Christmas Open House
DESCRIPTION:Held at OSF Holy Family\, 1000 West Harlem Avenue in Monmouth.
URL:https://977wmoi.com/event/osf-holy-family-gift-shop-christmas-open-house/
END:VEVENT
BEGIN:VEVENT
DTSTART;TZID=America/Chicago:20221110T100000
DTEND;TZID=America/Chicago:20221110T100000
DTSTAMP:20260425T224056
CREATED:20220826T213809Z
LAST-MODIFIED:20220826T213809Z
UID:413658-1668074400-1668074400@977wmoi.com
SUMMARY:Finding Your Get Up and Go Webinar
DESCRIPTION:Most people find that there are some days when it’s hard to find the motivation to accomplish what needs to be done\, even those things that are important. Will Rogers once said\, “Even if you’re on the right track\, you’ll get run over if you just sit there.” Learning what accounts for the ebb and flow of levels of motivation in life and how to respond can help individuals be more productive. This session is for those times when it just seems hard to “get going” and will help you learn how to give your enthusiasm a boost.
URL:https://977wmoi.com/event/finding-your-get-up-and-go-webinar/
END:VEVENT
BEGIN:VEVENT
DTSTART;TZID=America/Chicago:20221110T173000
DTEND;TZID=America/Chicago:20221110T173000
DTSTAMP:20260425T224056
CREATED:20221007T184226Z
LAST-MODIFIED:20221007T184226Z
UID:416283-1668101400-1668101400@977wmoi.com
SUMMARY:CASA Lip Sync Battle
DESCRIPTION:Featuring Anything Goes! variety show performances in between battles. Tickets are $20 in advance\, $25 at the door. Table of 10 is $180. VIP table of 10 is $250. Doors open at 5:30 pm. Battle begins at 6:30 pm at the Knights of Columbus Hall in Galesburg. Proceeds benefit CASA of West Central Illinois. Tickets can be purchased at http://casaofwestcentralillinois.org/events.
URL:https://977wmoi.com/event/casa-lip-sync-battle-2/
END:VEVENT
END:VCALENDAR