BEGIN:VCALENDAR
VERSION:2.0
PRODID:-//Prairie Communications, LLC - ECPv6.15.20//NONSGML v1.0//EN
CALSCALE:GREGORIAN
METHOD:PUBLISH
X-ORIGINAL-URL:https://977wmoi.com
X-WR-CALDESC:Events for Prairie Communications, LLC
REFRESH-INTERVAL;VALUE=DURATION:PT1H
X-Robots-Tag:noindex
X-PUBLISHED-TTL:PT1H
BEGIN:VTIMEZONE
TZID:America/Chicago
BEGIN:DAYLIGHT
TZOFFSETFROM:-0600
TZOFFSETTO:-0500
TZNAME:CDT
DTSTART:20210314T080000
END:DAYLIGHT
BEGIN:STANDARD
TZOFFSETFROM:-0500
TZOFFSETTO:-0600
TZNAME:CST
DTSTART:20211107T070000
END:STANDARD
BEGIN:DAYLIGHT
TZOFFSETFROM:-0600
TZOFFSETTO:-0500
TZNAME:CDT
DTSTART:20220313T080000
END:DAYLIGHT
BEGIN:STANDARD
TZOFFSETFROM:-0500
TZOFFSETTO:-0600
TZNAME:CST
DTSTART:20221106T070000
END:STANDARD
BEGIN:DAYLIGHT
TZOFFSETFROM:-0600
TZOFFSETTO:-0500
TZNAME:CDT
DTSTART:20230312T080000
END:DAYLIGHT
BEGIN:STANDARD
TZOFFSETFROM:-0500
TZOFFSETTO:-0600
TZNAME:CST
DTSTART:20231105T070000
END:STANDARD
END:VTIMEZONE
BEGIN:VEVENT
DTSTART;VALUE=DATE:20221201
DTEND;VALUE=DATE:20221217
DTSTAMP:20260425T132632
CREATED:20221130T141029Z
LAST-MODIFIED:20221130T141029Z
UID:419239-1669852800-1671235199@977wmoi.com
SUMMARY:"SANTA FOR SENIORS"
DESCRIPTION:Would you like to be a Santa to an area Senior? Strom Center and Security Savings have teamed up again this year for their annual “SANTA FOR SENIORS” program. This is a great opportunity to make Christmas a little brighter for a senior in both Henderson and Warren counties. Stop by Security Savings in Monmouth and select a tag from the “Santa for Seniors” tree and Thank You in advance for helping make the holidays a little brighter for an area senior.
URL:https://977wmoi.com/event/santa-for-seniors-2/
END:VEVENT
BEGIN:VEVENT
DTSTART;VALUE=DATE:20221213
DTEND;VALUE=DATE:20221224
DTSTAMP:20260425T132632
CREATED:20221212T201521Z
LAST-MODIFIED:20221212T201521Z
UID:419956-1670889600-1671839999@977wmoi.com
SUMMARY:Knox County YMCA Socks and Underwear Drive
DESCRIPTION:Through December 23rd\, donate a package of children’s socks and underwear and your join fee will be waived at the Knox County YMCA. This promotion is honored at the Downtown Y location and the Family Y location during staffed hours. All items donated will be distributed to children in need in Knox County.
URL:https://977wmoi.com/event/knox-county-ymca-socks-and-underwear-drive/
END:VEVENT
BEGIN:VEVENT
DTSTART;VALUE=DATE:20221214
DTEND;VALUE=DATE:20221229
DTSTAMP:20260425T132632
CREATED:20221212T201737Z
LAST-MODIFIED:20221212T201737Z
UID:419958-1670976000-1672271999@977wmoi.com
SUMMARY:Knox County YMCA Winter Youth Basketball
DESCRIPTION:Registration is open for co-ed preK\, K-1st\, 2nd-3rd\, 4th-5th\, and 6th-8th grade students for winter basketball. Coaches meeting December 29th at 5:30 pm. Season lasts six weeks and begins January 14th. Register online at http://knoxymca.org.
URL:https://977wmoi.com/event/knox-county-ymca-winter-youth-basketball/
END:VEVENT
BEGIN:VEVENT
DTSTART;VALUE=DATE:20221216
DTEND;VALUE=DATE:20221218
DTSTAMP:20260425T132632
CREATED:20220919T160502Z
LAST-MODIFIED:20220919T160502Z
UID:415024-1671148800-1671321599@977wmoi.com
SUMMARY:Roseville Christmas Spirit of Lights
DESCRIPTION:$5 per vehicle. Put on by Troop 336 at the Warren County Fairgrounds in Roseville.
URL:https://977wmoi.com/event/roseville-christmas-spirit-of-lights-4/
END:VEVENT
BEGIN:VEVENT
DTSTART;TZID=America/Chicago:20221216T130000
DTEND;TZID=America/Chicago:20221216T153000
DTSTAMP:20260425T132632
CREATED:20221212T201949Z
LAST-MODIFIED:20221212T201949Z
UID:419960-1671195600-1671204600@977wmoi.com
SUMMARY:Strom Center's Annual Christmas Party
DESCRIPTION:The day will begin with a screening of A Christmas Story at 9:30 am. Then join for games\, entertainment\, Christmas carols\, a gift exchange\, goodies\, and a drawing for a throw blanket woven by Patty Schwass. This event is free.
URL:https://977wmoi.com/event/strom-centers-annual-christmas-party-3/
END:VEVENT
BEGIN:VEVENT
DTSTART;TZID=America/Chicago:20221216T163000
DTEND;TZID=America/Chicago:20221216T220000
DTSTAMP:20260425T132632
CREATED:20221202T141527Z
LAST-MODIFIED:20221202T141527Z
UID:419450-1671208200-1671228000@977wmoi.com
SUMMARY:Young Professionals Network Fa La Holiday Party
DESCRIPTION:Join us for our Second Annual Fa La Holiday Party! This event is meant to bring community members of all ages (though must be 21) together to celebrate the holiday season. Come for some or all of the stops. Registration is from 4:30-5:30 at Jimmy’s Pizza. We will give you your drink tickets\, let you eat some pizza\, enjoy your first signature cocktail “The Grinch” and be on our way to our other stops! We will visit Jimmy’s Pizza\, Reserve Artisan Ales\, then jump on a trolley to go to Opie’s Bar and Grill. We will then jump back on the trolley to get to Bar 65 and end the night with our Annual Carol-oke Contest! Buy tickets below and for any questions call 309-343-1194! Happy Holly Days from the Young Professionals Network and the Galesburg Chamber of Commerce! https://www.facebook.com/events/1136929333694888/?ref=newsfeed
URL:https://977wmoi.com/event/young-professionals-network-fa-la-holiday-party/
END:VEVENT
BEGIN:VEVENT
DTSTART;TZID=America/Chicago:20221216T173000
DTEND;TZID=America/Chicago:20221216T203000
DTSTAMP:20260425T132632
CREATED:20221212T201308Z
LAST-MODIFIED:20221212T201308Z
UID:419954-1671211800-1671222600@977wmoi.com
SUMMARY:6th Annual Winter Wonderland Kids Event
DESCRIPTION:The Knox County YMCA and Ascent Church are teaming up for this annual event! Drop off your children at the Knox County YMCA Family Branch location\, or come as a family\, for a fun-filled night with pizza\, hot cocoa\, cookies\, Santa\, inflatables\, holiday crafts\, games\, and more! This is for children aged 4 to 12 years old. Child watch is open for those 6 weeks to 3 years old. This event is free. More details at http://knoxymca.org.
URL:https://977wmoi.com/event/6th-annual-winter-wonderland-kids-event/
END:VEVENT
END:VCALENDAR