BEGIN:VCALENDAR
VERSION:2.0
PRODID:-//Prairie Communications, LLC - ECPv6.15.20//NONSGML v1.0//EN
CALSCALE:GREGORIAN
METHOD:PUBLISH
X-WR-CALNAME:Prairie Communications, LLC
X-ORIGINAL-URL:https://977wmoi.com
X-WR-CALDESC:Events for Prairie Communications, LLC
REFRESH-INTERVAL;VALUE=DURATION:PT1H
X-Robots-Tag:noindex
X-PUBLISHED-TTL:PT1H
BEGIN:VTIMEZONE
TZID:America/Chicago
BEGIN:DAYLIGHT
TZOFFSETFROM:-0600
TZOFFSETTO:-0500
TZNAME:CDT
DTSTART:20220313T080000
END:DAYLIGHT
BEGIN:STANDARD
TZOFFSETFROM:-0500
TZOFFSETTO:-0600
TZNAME:CST
DTSTART:20221106T070000
END:STANDARD
BEGIN:DAYLIGHT
TZOFFSETFROM:-0600
TZOFFSETTO:-0500
TZNAME:CDT
DTSTART:20230312T080000
END:DAYLIGHT
BEGIN:STANDARD
TZOFFSETFROM:-0500
TZOFFSETTO:-0600
TZNAME:CST
DTSTART:20231105T070000
END:STANDARD
BEGIN:DAYLIGHT
TZOFFSETFROM:-0600
TZOFFSETTO:-0500
TZNAME:CDT
DTSTART:20240310T080000
END:DAYLIGHT
BEGIN:STANDARD
TZOFFSETFROM:-0500
TZOFFSETTO:-0600
TZNAME:CST
DTSTART:20241103T070000
END:STANDARD
END:VTIMEZONE
BEGIN:VEVENT
DTSTART;TZID=America/Chicago:20230113T090000
DTEND;TZID=America/Chicago:20230113T110000
DTSTAMP:20260425T154541
CREATED:20221229T141702Z
LAST-MODIFIED:20221229T141702Z
UID:420606-1673600400-1673607600@977wmoi.com
SUMMARY:Annual First Responder Breakfast
DESCRIPTION:In appreciation for all First Responders\, join Legacy Estates of Monmouth\, 1200 West Broadway\, for breakfast. Serving biscuits and gravy\, bacon\, scrambled eggs\, coffee\, and juice.
URL:https://977wmoi.com/event/annual-first-responder-breakfast/
END:VEVENT
BEGIN:VEVENT
DTSTART;TZID=America/Chicago:20230113T173000
DTEND;TZID=America/Chicago:20230113T213000
DTSTAMP:20260425T154541
CREATED:20230109T165131Z
LAST-MODIFIED:20230109T165131Z
UID:421032-1673631000-1673645400@977wmoi.com
SUMMARY:Monmouth-Roseville Girls Basketball Fundraiser
DESCRIPTION:Trivia Night at the Monmouth Country Club beginning at 6 p.m.  Contact Stephanie McVey for more information.\nThe Junior Class will also be selling Walking Tacos for the After-Prom fundraiser.  Teams are $100 each with up to 10 Members per team.\nThe money will be used for new warm-ups for the Girls Basketball Team
URL:https://977wmoi.com/event/monmouth-roseville-girls-basketball-fundraiser/
END:VEVENT
BEGIN:VEVENT
DTSTART;TZID=America/Chicago:20230113T190000
DTEND;TZID=America/Chicago:20230113T190000
DTSTAMP:20260425T154541
CREATED:20230111T204903Z
LAST-MODIFIED:20230111T204903Z
UID:421222-1673636400-1673636400@977wmoi.com
SUMMARY:The MiguelZenon Quartet
DESCRIPTION:The Knox Jazz Year presents the Jerome Mirza Residency featuring The MigualZenon Quartet at The Orpheum Theater in Galesburg. Admission is free.
URL:https://977wmoi.com/event/the-miguelzenon-quartet/
END:VEVENT
END:VCALENDAR