BEGIN:VCALENDAR
VERSION:2.0
PRODID:-//Prairie Communications, LLC - ECPv6.15.20//NONSGML v1.0//EN
CALSCALE:GREGORIAN
METHOD:PUBLISH
X-WR-CALNAME:Prairie Communications, LLC
X-ORIGINAL-URL:https://977wmoi.com
X-WR-CALDESC:Events for Prairie Communications, LLC
REFRESH-INTERVAL;VALUE=DURATION:PT1H
X-Robots-Tag:noindex
X-PUBLISHED-TTL:PT1H
BEGIN:VTIMEZONE
TZID:America/Chicago
BEGIN:DAYLIGHT
TZOFFSETFROM:-0600
TZOFFSETTO:-0500
TZNAME:CDT
DTSTART:20220313T080000
END:DAYLIGHT
BEGIN:STANDARD
TZOFFSETFROM:-0500
TZOFFSETTO:-0600
TZNAME:CST
DTSTART:20221106T070000
END:STANDARD
BEGIN:DAYLIGHT
TZOFFSETFROM:-0600
TZOFFSETTO:-0500
TZNAME:CDT
DTSTART:20230312T080000
END:DAYLIGHT
BEGIN:STANDARD
TZOFFSETFROM:-0500
TZOFFSETTO:-0600
TZNAME:CST
DTSTART:20231105T070000
END:STANDARD
BEGIN:DAYLIGHT
TZOFFSETFROM:-0600
TZOFFSETTO:-0500
TZNAME:CDT
DTSTART:20240310T080000
END:DAYLIGHT
BEGIN:STANDARD
TZOFFSETFROM:-0500
TZOFFSETTO:-0600
TZNAME:CST
DTSTART:20241103T070000
END:STANDARD
END:VTIMEZONE
BEGIN:VEVENT
DTSTART;TZID=America/Chicago:20230115T113000
DTEND;TZID=America/Chicago:20230115T130000
DTSTAMP:20260425T134925
CREATED:20230103T181710Z
LAST-MODIFIED:20230103T181710Z
UID:420790-1673782200-1673787600@977wmoi.com
SUMMARY:Community Soup Dinner
DESCRIPTION:Melt Away the Winter Community Soup Dinner will be held Sunday\, January 15\, 2023 at Westminster Presbyterian Church in Kirkwood from 11:30 to 1pm for a free will donation. All proceeds will support local missions. Carry outs available.
URL:https://977wmoi.com/event/community-soup-dinner/
END:VEVENT
BEGIN:VEVENT
DTSTART;TZID=America/Chicago:20230115T113000
DTEND;TZID=America/Chicago:20230115T130000
DTSTAMP:20260425T134925
CREATED:20230109T171145Z
LAST-MODIFIED:20230109T171145Z
UID:421049-1673782200-1673787600@977wmoi.com
SUMMARY:Community Soup Dinner Westminster Presbyterian Church Kirkwood January 15th
DESCRIPTION:11:30 a.m. to 1:00 p.m. free will donation with proceeds benefitting a local mission.  Carry Outs Avaialable
URL:https://977wmoi.com/event/community-soup-dinner-westminster-presbyterian-church-kirkwood-january-15th/
END:VEVENT
BEGIN:VEVENT
DTSTART;TZID=America/Chicago:20230115T113000
DTEND;TZID=America/Chicago:20230115T130000
DTSTAMP:20260425T134925
CREATED:20230111T205029Z
LAST-MODIFIED:20230111T205029Z
UID:421224-1673782200-1673787600@977wmoi.com
SUMMARY:Community Soup Dinner
DESCRIPTION:Melt away the winter during a community Soup Dinner at the Westminister Presbyterian Church in Kirkwood. Free will donation. Proceeds benefit local missions. Carry Outs available.
URL:https://977wmoi.com/event/community-soup-dinner-2/
END:VEVENT
BEGIN:VEVENT
DTSTART;TZID=America/Chicago:20230115T160000
DTEND;TZID=America/Chicago:20230115T170000
DTSTAMP:20260425T134925
CREATED:20230109T170334Z
LAST-MODIFIED:20230109T170403Z
UID:421043-1673798400-1673802000@977wmoi.com
SUMMARY:Open Gym Basketball at Hawthorne Gym All Ages
DESCRIPTION:Cost is $4.00 and is from 4-5:30 p.m. with full court games for all ages. Children under 15 must be accompanied by an adult.
URL:https://977wmoi.com/event/open-gym-basketball-at-hawthorne-gym-all-ages/
END:VEVENT
END:VCALENDAR