BEGIN:VCALENDAR
VERSION:2.0
PRODID:-//Prairie Communications, LLC - ECPv6.15.20//NONSGML v1.0//EN
CALSCALE:GREGORIAN
METHOD:PUBLISH
X-WR-CALNAME:Prairie Communications, LLC
X-ORIGINAL-URL:https://977wmoi.com
X-WR-CALDESC:Events for Prairie Communications, LLC
REFRESH-INTERVAL;VALUE=DURATION:PT1H
X-Robots-Tag:noindex
X-PUBLISHED-TTL:PT1H
BEGIN:VTIMEZONE
TZID:America/Chicago
BEGIN:DAYLIGHT
TZOFFSETFROM:-0600
TZOFFSETTO:-0500
TZNAME:CDT
DTSTART:20220313T080000
END:DAYLIGHT
BEGIN:STANDARD
TZOFFSETFROM:-0500
TZOFFSETTO:-0600
TZNAME:CST
DTSTART:20221106T070000
END:STANDARD
BEGIN:DAYLIGHT
TZOFFSETFROM:-0600
TZOFFSETTO:-0500
TZNAME:CDT
DTSTART:20230312T080000
END:DAYLIGHT
BEGIN:STANDARD
TZOFFSETFROM:-0500
TZOFFSETTO:-0600
TZNAME:CST
DTSTART:20231105T070000
END:STANDARD
BEGIN:DAYLIGHT
TZOFFSETFROM:-0600
TZOFFSETTO:-0500
TZNAME:CDT
DTSTART:20240310T080000
END:DAYLIGHT
BEGIN:STANDARD
TZOFFSETFROM:-0500
TZOFFSETTO:-0600
TZNAME:CST
DTSTART:20241103T070000
END:STANDARD
END:VTIMEZONE
BEGIN:VEVENT
DTSTART;TZID=America/Chicago:20230217T173000
DTEND;TZID=America/Chicago:20230218T220000
DTSTAMP:20260422T051734
CREATED:20230109T161536Z
LAST-MODIFIED:20230109T161536Z
UID:421018-1676655000-1676757600@977wmoi.com
SUMMARY:BCA Presents A Red Carpet Murder February 17th and 18th
DESCRIPTION:6:00 P.m. at the BCA Gallery\nTickets $30 includes dinner\, dessert\, drinks and death\nRSVP if you dare at 309 734 3033
URL:https://977wmoi.com/event/bca-presents-a-red-carpet-murder-february-17th-and-18th/
END:VEVENT
BEGIN:VEVENT
DTSTART;TZID=America/Chicago:20230218T100000
DTEND;TZID=America/Chicago:20230218T100000
DTSTAMP:20260422T051734
CREATED:20230130T164508Z
LAST-MODIFIED:20230130T164508Z
UID:422091-1676714400-1676714400@977wmoi.com
SUMMARY:Family Movie at the Henderson County Library
DESCRIPTION:Family movie held on the 3rd Saturday of each month. “Night at the Museum: Battle of the Smithsonian” will be shown.
URL:https://977wmoi.com/event/family-movie-at-the-henderson-county-library/
END:VEVENT
BEGIN:VEVENT
DTSTART;TZID=America/Chicago:20230218T110000
DTEND;TZID=America/Chicago:20230218T130000
DTSTAMP:20260422T051734
CREATED:20230216T140749Z
LAST-MODIFIED:20230216T140749Z
UID:423117-1676718000-1676725200@977wmoi.com
SUMMARY:Monmouth American Legion Burger Fry
DESCRIPTION:The Monmouth-Roseville Junior Class will be working for tips to raise money for After Prom.
URL:https://977wmoi.com/event/monmouth-american-legion-burger-fry/
END:VEVENT
BEGIN:VEVENT
DTSTART;TZID=America/Chicago:20230218T120000
DTEND;TZID=America/Chicago:20230218T120000
DTSTAMP:20260422T051734
CREATED:20230130T165344Z
LAST-MODIFIED:20230130T165344Z
UID:422101-1676721600-1676721600@977wmoi.com
SUMMARY:Strom Center Potluck Lunch
DESCRIPTION:Strom Center in Monmouth will host at potluck lunch. Plates\, silverware\, cups\, will be furnished. Bring a food dish to share. Following the meal\, BINGO will be enjoyed.
URL:https://977wmoi.com/event/strom-center-potluck-lunch/
END:VEVENT
BEGIN:VEVENT
DTSTART;TZID=America/Chicago:20230218T140000
DTEND;TZID=America/Chicago:20230218T180000
DTSTAMP:20260422T051734
CREATED:20230117T200232Z
LAST-MODIFIED:20230117T200232Z
UID:421491-1676728800-1676743200@977wmoi.com
SUMMARY:FREE Microchip Clinic
DESCRIPTION:Freedom Ride Animal Rescue will be hosting another FREE Microchip Clinic Saturday February 18th\, 2023 from 2pm-6pm at Pet Supplies Plus in Galesburg\, IL. Dogs & cats from any county welcome! Microchipping is a quick and safe way to protect your pet; if a pet is found they can be taken to any vets office or animal organization and scanned for a microchip. Microchipping your animals can help reunite your family if a pet is lost. The microchips used have free lifetime online registration and information updating. No need to pre-register for this event\, just show up between 2pm-6pm.
URL:https://977wmoi.com/event/free-microchip-clinic-2/
END:VEVENT
BEGIN:VEVENT
DTSTART;TZID=America/Chicago:20230218T160000
DTEND;TZID=America/Chicago:20230218T200000
DTSTAMP:20260422T051734
CREATED:20230203T142511Z
LAST-MODIFIED:20230203T142511Z
UID:422421-1676736000-1676750400@977wmoi.com
SUMMARY:Fundraising Dinner in Galesburg to Benefit Memorial Scholarship Fund for Deputy Nick Weist
DESCRIPTION:A fundraising dinner to benefit the Deputy Nick Weist Memorial Scholarship Fund will be held Saturday\, February 18 from 4 to 8 p.m. at Tres Café at 1135 Lincoln Street in Galesburg. The event is sponsored by Fraternal Order of Police (FOP) Spoon River Valley Lodge 427 and Tres Cafe. \nThe February 18 benefit will include a $10 chicken and noodle dinner with both eat-in and carryout service available. A silent auction and a 50-50 drawing will also be held. A portion of the proceeds will go toward the scholarship fund established for Knox County Sheriff’s Deputy Nick Weist\, who was killed in the line of duty last year\, and another portion of the funds raised will help the Illinois FOP Disaster Response Unit\, which is used to assist police departments or individual officers that are experiencing emergencies.
URL:https://977wmoi.com/event/fundraising-dinner-in-galesburg-to-benefit-memorial-scholarship-fund-for-deputy-nick-weist/
END:VEVENT
BEGIN:VEVENT
DTSTART;TZID=America/Chicago:20230218T170000
DTEND;TZID=America/Chicago:20230218T170000
DTSTAMP:20260422T051734
CREATED:20230111T205730Z
LAST-MODIFIED:20230111T205730Z
UID:421228-1676739600-1676739600@977wmoi.com
SUMMARY:Tri-County Cattlemen Annual Banquet
DESCRIPTION:Annual event will be held at the Western Illinois University Grand Ballroom. Social hour will begin at 5 pm followed by dinner at 6pm\, a program from keynote speaker Kevin Ochsner\, announcement and honor of the 2022 scholarship winners\, and a live and silent auction. Tickets and more information can be found online at http://tricountycattlemen.com/banquet.
URL:https://977wmoi.com/event/tri-county-cattlemen-annual-banquet/
END:VEVENT
BEGIN:VEVENT
DTSTART;TZID=America/Chicago:20230218T170000
DTEND;TZID=America/Chicago:20230218T220000
DTSTAMP:20260422T051734
CREATED:20230109T165721Z
LAST-MODIFIED:20230109T165721Z
UID:421036-1676739600-1676757600@977wmoi.com
SUMMARY:Tri-County Cattlemen Annual Banquet February 18th at Western Illinois University
DESCRIPTION:Event is at the Grand Ballroom on the campus of WIU with social hour beginning at 5 and dinner at 6 p.m. Scholarship winners will be honored\, live and silent auction will be held after dinner and they will honor the 2023 Beef Backer. Tickets are available at tricountycattlemen.com/banquet.
URL:https://977wmoi.com/event/tri-county-cattlemen-annual-banquet-february-18th-at-western-illinois-university/
END:VEVENT
BEGIN:VEVENT
DTSTART;TZID=America/Chicago:20230218T180000
DTEND;TZID=America/Chicago:20230218T180000
DTSTAMP:20260422T051734
CREATED:20230111T194616Z
LAST-MODIFIED:20230111T194616Z
UID:421220-1676743200-1676743200@977wmoi.com
SUMMARY:A Red Carpet Murder at the BCA
DESCRIPTION:It’s a party to die for at the Buchanan Center for the Arts inside the BCA Gallery. Tickets are $30 and include dinner\, dessert\, drinks\, and death. RSVP for tickets at 309-734-3033.
URL:https://977wmoi.com/event/a-red-carpet-murder-at-the-bca-2/
END:VEVENT
BEGIN:VEVENT
DTSTART;TZID=America/Chicago:20230218T180000
DTEND;TZID=America/Chicago:20230218T200000
DTSTAMP:20260422T051734
CREATED:20230124T140040Z
LAST-MODIFIED:20230124T170647Z
UID:421783-1676743200-1676750400@977wmoi.com
SUMMARY:Warren County YMCA Father/Daughter Dance
DESCRIPTION:Fathers\, Brothers\, Grandpas\, Uncles\, Cousins… are you ready!? The time has come! Registration for the 2023 Father/Daughter Dance is now OPEN!! The theme this year is: American Girl. There will be everything from games\, crafts\, dancing\, refreshments\, & MORE! Even an American Girl Doll GIVEAWAY. \n\n\nWhere: Warren County YMCA\nWhen: February 18th\, 2023\nTime: 6:00pm-8:00pm\nCost: $30 per chaperone\n$40 per chaperone at the door
URL:https://977wmoi.com/event/warren-county-ymca-father-daughter-dance-2/
END:VEVENT
END:VCALENDAR