BEGIN:VCALENDAR
VERSION:2.0
PRODID:-//Prairie Communications, LLC - ECPv6.15.20//NONSGML v1.0//EN
CALSCALE:GREGORIAN
METHOD:PUBLISH
X-WR-CALNAME:Prairie Communications, LLC
X-ORIGINAL-URL:https://977wmoi.com
X-WR-CALDESC:Events for Prairie Communications, LLC
REFRESH-INTERVAL;VALUE=DURATION:PT1H
X-Robots-Tag:noindex
X-PUBLISHED-TTL:PT1H
BEGIN:VTIMEZONE
TZID:America/Chicago
BEGIN:DAYLIGHT
TZOFFSETFROM:-0600
TZOFFSETTO:-0500
TZNAME:CDT
DTSTART:20220313T080000
END:DAYLIGHT
BEGIN:STANDARD
TZOFFSETFROM:-0500
TZOFFSETTO:-0600
TZNAME:CST
DTSTART:20221106T070000
END:STANDARD
BEGIN:DAYLIGHT
TZOFFSETFROM:-0600
TZOFFSETTO:-0500
TZNAME:CDT
DTSTART:20230312T080000
END:DAYLIGHT
BEGIN:STANDARD
TZOFFSETFROM:-0500
TZOFFSETTO:-0600
TZNAME:CST
DTSTART:20231105T070000
END:STANDARD
BEGIN:DAYLIGHT
TZOFFSETFROM:-0600
TZOFFSETTO:-0500
TZNAME:CDT
DTSTART:20240310T080000
END:DAYLIGHT
BEGIN:STANDARD
TZOFFSETFROM:-0500
TZOFFSETTO:-0600
TZNAME:CST
DTSTART:20241103T070000
END:STANDARD
END:VTIMEZONE
BEGIN:VEVENT
DTSTART;TZID=America/Chicago:20230222T120000
DTEND;TZID=America/Chicago:20230222T140000
DTSTAMP:20260425T060005
CREATED:20230127T193714Z
LAST-MODIFIED:20230127T193714Z
UID:422026-1677067200-1677074400@977wmoi.com
SUMMARY:WHFB Nitrogen Strip Trial Meeting
DESCRIPTION:Since 2019\, Warren-Henderson Farm Bureau (FB) has been evaluating many aspects of nitrogen (N) management practices\, specifically the source and rate of N application for corn. The goal of this project has been to identify N source and application rates that produce highest profitability while providing sufficient N for plant uptake. As the project wraps up\, Warren-Henderson FB has extensive soil and corn tissue test data\, yield measurements\, and profit calculations to share with area producers. To review this data\, a meeting will be held on February 22nd at the W-H Farm Bureau auditorium in Monmouth (1000 N Main St.) from 12:00-2:00pm. A keynote presentation will be provided by Dr. Connor Sible. Dr. Sible is advised by Dr. Fred Below in the Crop Physiology Lab at the University of Illinois at Urbana-Champaign. His research program focuses on high yield corn and soybean systems. During the meeting\, he will provide growers with information about optimizing Nutrient Use Efficiency (NUE) without impacting yield. There is no cost to attend this meeting\, please RSVP to W-HFB at 309-734-9401 or whfb@whfarmbureau.org by February 17th. Lunch will be provided.
URL:https://977wmoi.com/event/whfb-nitrogen-strip-trial-meeting/
END:VEVENT
BEGIN:VEVENT
DTSTART;TZID=America/Chicago:20230222T130000
DTEND;TZID=America/Chicago:20230222T130000
DTSTAMP:20260425T060005
CREATED:20230130T164107Z
LAST-MODIFIED:20230130T164107Z
UID:422085-1677070800-1677070800@977wmoi.com
SUMMARY:Adult Movie Matinee at the Henderson County Library
DESCRIPTION:Meg Ryan month. “Hanging Up” will be shown.
URL:https://977wmoi.com/event/adult-movie-matinee-at-the-henderson-county-library-4/
END:VEVENT
BEGIN:VEVENT
DTSTART;TZID=America/Chicago:20230222T130000
DTEND;TZID=America/Chicago:20230222T130000
DTSTAMP:20260425T060005
CREATED:20230130T164732Z
LAST-MODIFIED:20230130T164732Z
UID:422095-1677070800-1677070800@977wmoi.com
SUMMARY:BINGO at Strom Center in Oquawka
DESCRIPTION:Each person allowed up to 4 cards for FREE. Each additional card is 25 cents. Refreshments will be available throughout the afternoon.
URL:https://977wmoi.com/event/bingo-at-strom-center-in-oquawka-8/
END:VEVENT
END:VCALENDAR