BEGIN:VCALENDAR
VERSION:2.0
PRODID:-//Prairie Communications, LLC - ECPv6.15.20//NONSGML v1.0//EN
CALSCALE:GREGORIAN
METHOD:PUBLISH
X-ORIGINAL-URL:https://977wmoi.com
X-WR-CALDESC:Events for Prairie Communications, LLC
REFRESH-INTERVAL;VALUE=DURATION:PT1H
X-Robots-Tag:noindex
X-PUBLISHED-TTL:PT1H
BEGIN:VTIMEZONE
TZID:America/Chicago
BEGIN:DAYLIGHT
TZOFFSETFROM:-0600
TZOFFSETTO:-0500
TZNAME:CDT
DTSTART:20220313T080000
END:DAYLIGHT
BEGIN:STANDARD
TZOFFSETFROM:-0500
TZOFFSETTO:-0600
TZNAME:CST
DTSTART:20221106T070000
END:STANDARD
BEGIN:DAYLIGHT
TZOFFSETFROM:-0600
TZOFFSETTO:-0500
TZNAME:CDT
DTSTART:20230312T080000
END:DAYLIGHT
BEGIN:STANDARD
TZOFFSETFROM:-0500
TZOFFSETTO:-0600
TZNAME:CST
DTSTART:20231105T070000
END:STANDARD
BEGIN:DAYLIGHT
TZOFFSETFROM:-0600
TZOFFSETTO:-0500
TZNAME:CDT
DTSTART:20240310T080000
END:DAYLIGHT
BEGIN:STANDARD
TZOFFSETFROM:-0500
TZOFFSETTO:-0600
TZNAME:CST
DTSTART:20241103T070000
END:STANDARD
END:VTIMEZONE
BEGIN:VEVENT
DTSTART;VALUE=DATE:20230224
DTEND;VALUE=DATE:20230227
DTSTAMP:20260420T124714
CREATED:20220829T194850Z
LAST-MODIFIED:20220829T194850Z
UID:413794-1677196800-1677455999@977wmoi.com
SUMMARY:Candida
DESCRIPTION:Monmouth College Theatre production. Held at Minor Theatre at Haldeman-Thiessen Center. Shows are February 24th through 26th. 7:30 pm times for Friday and Saturday. 2 pm show time Sunday.
URL:https://977wmoi.com/event/candida/
END:VEVENT
BEGIN:VEVENT
DTSTART;TZID=America/Chicago:20230225T091500
DTEND;TZID=America/Chicago:20230225T123000
DTSTAMP:20260420T124714
CREATED:20230130T211929Z
LAST-MODIFIED:20230130T211929Z
UID:422147-1677316500-1677328200@977wmoi.com
SUMMARY:Teachers Caring for Teachers at the BCA
DESCRIPTION:Art and sustainable self-care brunch at the Buchanan Center for the Arts will host a teachers caring for teachers event in the BCA Gallery. This free event is to honor and support educational professional through a series of engaging sessions by learning techniques for meaningful self-care and experience hands-on activities.
URL:https://977wmoi.com/event/teachers-caring-for-teachers-at-the-bca/
END:VEVENT
BEGIN:VEVENT
DTSTART;TZID=America/Chicago:20230225T160000
DTEND;TZID=America/Chicago:20230225T190000
DTSTAMP:20260420T124714
CREATED:20230130T165216Z
LAST-MODIFIED:20230130T165216Z
UID:422099-1677340800-1677351600@977wmoi.com
SUMMARY:Raritan Volunteer Fireman Pancake Supper
DESCRIPTION:Event will be held at St. Pat’s Community Center in rural Raritan.
URL:https://977wmoi.com/event/raritan-volunteer-fireman-pancake-supper/
END:VEVENT
BEGIN:VEVENT
DTSTART;TZID=America/Chicago:20230225T180000
DTEND;TZID=America/Chicago:20230225T180000
DTSTAMP:20260420T124714
CREATED:20230113T141743Z
LAST-MODIFIED:20230113T141743Z
UID:421305-1677348000-1677348000@977wmoi.com
SUMMARY:Henderson County Fair Queen Pageant Trivia Night
DESCRIPTION:Join at Mama’ Place for a fun night of trivia to support to 2023 Henderson County Fair Queen Pageant!\nRegistration will begin at 6 with trivia starting at 6:30.\nThe cost is $10 per person with up to 10 people on a team.\nMessage one of the directors\, committee members or reach out on Facebook to reserve a spot for your team. Reserving a spot is NOT mandatory but it will guarantee you a table.
URL:https://977wmoi.com/event/henderson-county-fair-queen-pageant-trivia-night/
END:VEVENT
BEGIN:VEVENT
DTSTART;TZID=America/Chicago:20230225T180000
DTEND;TZID=America/Chicago:20230225T210000
DTSTAMP:20260420T124714
CREATED:20230120T142643Z
LAST-MODIFIED:20230120T142643Z
UID:421660-1677348000-1677358800@977wmoi.com
SUMMARY:M-R Titans Sports Boosters 25th Annual Fundraiser/Raffle
DESCRIPTION:Raffle tickets are available for purchase now. You do not need to be present to win. A silent auction will also take place during the event at Meks on Main in Monmouth.
URL:https://977wmoi.com/event/m-r-titans-sports-boosters-25th-annual-fundraiser-raffle/
END:VEVENT
END:VCALENDAR