BEGIN:VCALENDAR
VERSION:2.0
PRODID:-//Prairie Communications, LLC - ECPv6.15.20//NONSGML v1.0//EN
CALSCALE:GREGORIAN
METHOD:PUBLISH
X-WR-CALNAME:Prairie Communications, LLC
X-ORIGINAL-URL:https://977wmoi.com
X-WR-CALDESC:Events for Prairie Communications, LLC
REFRESH-INTERVAL;VALUE=DURATION:PT1H
X-Robots-Tag:noindex
X-PUBLISHED-TTL:PT1H
BEGIN:VTIMEZONE
TZID:America/Chicago
BEGIN:DAYLIGHT
TZOFFSETFROM:-0600
TZOFFSETTO:-0500
TZNAME:CDT
DTSTART:20230312T080000
END:DAYLIGHT
BEGIN:STANDARD
TZOFFSETFROM:-0500
TZOFFSETTO:-0600
TZNAME:CST
DTSTART:20231105T070000
END:STANDARD
BEGIN:DAYLIGHT
TZOFFSETFROM:-0600
TZOFFSETTO:-0500
TZNAME:CDT
DTSTART:20240310T080000
END:DAYLIGHT
BEGIN:STANDARD
TZOFFSETFROM:-0500
TZOFFSETTO:-0600
TZNAME:CST
DTSTART:20241103T070000
END:STANDARD
BEGIN:DAYLIGHT
TZOFFSETFROM:-0600
TZOFFSETTO:-0500
TZNAME:CDT
DTSTART:20250309T080000
END:DAYLIGHT
BEGIN:STANDARD
TZOFFSETFROM:-0500
TZOFFSETTO:-0600
TZNAME:CST
DTSTART:20251102T070000
END:STANDARD
END:VTIMEZONE
BEGIN:VEVENT
DTSTART;VALUE=DATE:20241210
DTEND;VALUE=DATE:20241211
DTSTAMP:20260425T205845
CREATED:20241111T204054Z
LAST-MODIFIED:20241111T204054Z
UID:457377-1733788800-1733875199@977wmoi.com
SUMMARY:University of Illinois Extension Farm Estate Planning Seminars
DESCRIPTION:Planning for the future of your farm isn’t just about crops and livestock; it’s about ensuring your legacy and protecting the values your farm represents. To help families navigate the complexities of farm estate planning\, the University of Illinois Extension will host free educational programs: \nDecember 10th\, 9:30 AM – 11:30 AM\, Knox Ag Center\, 180 S Soangetaha Rd.\, Galesburg\, IL 61401\nDecember 10th\, 2:00-4:00PM\, McDonough County Fairgrounds\, 3022 West Jackson\, Macomb\, IL 61455
URL:https://977wmoi.com/event/university-of-illinois-extension-farm-estate-planning-seminars/
END:VEVENT
BEGIN:VEVENT
DTSTART;VALUE=DATE:20241210
DTEND;VALUE=DATE:20241213
DTSTAMP:20260425T205845
CREATED:20241209T170741Z
LAST-MODIFIED:20241209T170742Z
UID:458577-1733788800-1734047999@977wmoi.com
SUMMARY:Looking for Christmas Cards?
DESCRIPTION:Bridgeway is taking orders through December 13th for handmade Christmas cards\, designed by Bridgeway clients. Proceeds will go towards a greenhouse and Christmas gifts for clients. 6 cards at $10. 12 cards are $18 and 24 cards are $35. Email Alyssa Hart at alyssaha@bway.org to order.
URL:https://977wmoi.com/event/looking-for-christmas-cards/
END:VEVENT
BEGIN:VEVENT
DTSTART;TZID=America/Chicago:20241210T093000
DTEND;TZID=America/Chicago:20241210T163000
DTSTAMP:20260425T205845
CREATED:20241127T163444Z
LAST-MODIFIED:20241127T193344Z
UID:458195-1733823000-1733848200@977wmoi.com
SUMMARY:Planning Farm Succession Workshops
DESCRIPTION:Planning for the future of your farm isn’t just about crops and livestock; it’s about ensuring your legacy and protecting the values your farm represents. To help families navigate the complexities of farm estate planning\, the University of Illinois Extension will host a free educational program on \n\nDecember 10th\, 9:30 AM – 11:30 AM\, Knox Ag Center\, 180 S Soangetaha Rd.\, Galesburg\, IL 61401\nDecember 10th\, 2:00-4:00PM\, McDonough County Fairgrounds\, 3022 West Jackson\, Macomb\, IL 61455\n\nLed by experienced Extension Educator Kevin Brooks. \nThis interactive workshop will equip farmers and landowners with the essential knowledge and tools needed to make informed decisions about their property’s future. Attendees will gain valuable insight on: \n\nDeveloping a comprehensive estate plan: Understanding legal documents\, land transfer options\, and strategies for asset allocation.\nTax implications and financial planning: Exploring tax benefits\, minimizing liabilities\, and ensuring financial stability for future generations.\nFamily communication and succession planning: Facilitating open conversations with family members\, identifying potential conflicts\, and establishing a smooth transition process.\nBuilding a resilient farm business: Incorporating farm management practices and financial strategies to strengthen the farm’s long-term viability.
URL:https://977wmoi.com/event/planning-farm-succession-workshops/
END:VEVENT
END:VCALENDAR