BEGIN:VCALENDAR
VERSION:2.0
PRODID:-//Prairie Communications, LLC - ECPv6.15.20//NONSGML v1.0//EN
CALSCALE:GREGORIAN
METHOD:PUBLISH
X-WR-CALNAME:Prairie Communications, LLC
X-ORIGINAL-URL:https://977wmoi.com
X-WR-CALDESC:Events for Prairie Communications, LLC
REFRESH-INTERVAL;VALUE=DURATION:PT1H
X-Robots-Tag:noindex
X-PUBLISHED-TTL:PT1H
BEGIN:VTIMEZONE
TZID:America/Chicago
BEGIN:DAYLIGHT
TZOFFSETFROM:-0600
TZOFFSETTO:-0500
TZNAME:CDT
DTSTART:20250309T080000
END:DAYLIGHT
BEGIN:STANDARD
TZOFFSETFROM:-0500
TZOFFSETTO:-0600
TZNAME:CST
DTSTART:20251102T070000
END:STANDARD
BEGIN:DAYLIGHT
TZOFFSETFROM:-0600
TZOFFSETTO:-0500
TZNAME:CDT
DTSTART:20260308T080000
END:DAYLIGHT
BEGIN:STANDARD
TZOFFSETFROM:-0500
TZOFFSETTO:-0600
TZNAME:CST
DTSTART:20261101T070000
END:STANDARD
BEGIN:DAYLIGHT
TZOFFSETFROM:-0600
TZOFFSETTO:-0500
TZNAME:CDT
DTSTART:20270314T080000
END:DAYLIGHT
BEGIN:STANDARD
TZOFFSETFROM:-0500
TZOFFSETTO:-0600
TZNAME:CST
DTSTART:20271107T070000
END:STANDARD
END:VTIMEZONE
BEGIN:VEVENT
DTSTART;VALUE=DATE:20260417
DTEND;VALUE=DATE:20260420
DTSTAMP:20260422T140210
CREATED:20260319T140304Z
LAST-MODIFIED:20260319T140304Z
UID:481637-1776384000-1776643199@977wmoi.com
SUMMARY:'Farce of Nature' Comes to Prairie Players
DESCRIPTION:Everyone is invited into the woods as Prairie Players presents\, Farce of Nature. This frantic\, Southern-fried comedy written by Jones Hope Wooten and directed by Mary Ellen Millem is about the struggling Wilburn family at their Arkansas fishing lodge\, the Reel ‘Em Inn. Performances are Fridays\, April 17 and 24\, and Saturdays\, April 18 and 25\, at 7:30 P.M. There will also be matinee performances on Sundays\, April 19 and 26\, at 2 P.M. Tickets are $16.00 for adults and $10.00 for students (plus online processing fees). Performances are at Prairie Players Civic Theatre\, 160 S. Seminary Street\, Galesburg.
URL:https://977wmoi.com/event/farce-of-nature-comes-to-prairie-players/
END:VEVENT
END:VCALENDAR