BEGIN:VCALENDAR
VERSION:2.0
PRODID:-//Prairie Communications, LLC - ECPv6.15.20//NONSGML v1.0//EN
CALSCALE:GREGORIAN
METHOD:PUBLISH
X-WR-CALNAME:Prairie Communications, LLC
X-ORIGINAL-URL:https://977wmoi.com
X-WR-CALDESC:Events for Prairie Communications, LLC
REFRESH-INTERVAL;VALUE=DURATION:PT1H
X-Robots-Tag:noindex
X-PUBLISHED-TTL:PT1H
BEGIN:VTIMEZONE
TZID:America/Chicago
BEGIN:DAYLIGHT
TZOFFSETFROM:-0600
TZOFFSETTO:-0500
TZNAME:CDT
DTSTART:20250309T080000
END:DAYLIGHT
BEGIN:STANDARD
TZOFFSETFROM:-0500
TZOFFSETTO:-0600
TZNAME:CST
DTSTART:20251102T070000
END:STANDARD
BEGIN:DAYLIGHT
TZOFFSETFROM:-0600
TZOFFSETTO:-0500
TZNAME:CDT
DTSTART:20260308T080000
END:DAYLIGHT
BEGIN:STANDARD
TZOFFSETFROM:-0500
TZOFFSETTO:-0600
TZNAME:CST
DTSTART:20261101T070000
END:STANDARD
BEGIN:DAYLIGHT
TZOFFSETFROM:-0600
TZOFFSETTO:-0500
TZNAME:CDT
DTSTART:20270314T080000
END:DAYLIGHT
BEGIN:STANDARD
TZOFFSETFROM:-0500
TZOFFSETTO:-0600
TZNAME:CST
DTSTART:20271107T070000
END:STANDARD
END:VTIMEZONE
BEGIN:VEVENT
DTSTART;VALUE=DATE:20260420
DTEND;VALUE=DATE:20260501
DTSTAMP:20260421T055746
CREATED:20260313T143658Z
LAST-MODIFIED:20260313T143658Z
UID:481320-1776643200-1777593599@977wmoi.com
SUMMARY:Discounted Labs at the Warren County Health Department
DESCRIPTION:From April 20th through April 30th\, the Warren County Health Department will be offering Discounted Labs for $85\, which includes a Full Lipid Panel\, Hemoglobin A1c\, Comprehensive Metabolic Panel\, and Complete Blood County. PSA Screenings also available for $45\, Vitamin D for $45\, and Vitamin B12 for $25. This lab work is done by appointment only. Call Kira at 309-734-1314\, extension 3. Clients will need to fast for these labs. Bring cash or check for payment and a copy of your results will be mailed to you and can be shared with your primary provider.
URL:https://977wmoi.com/event/discounted-labs-at-the-warren-county-health-department-4/
END:VEVENT
BEGIN:VEVENT
DTSTART;TZID=America/Chicago:20260421T170000
DTEND;TZID=America/Chicago:20260421T170000
DTSTAMP:20260421T055746
CREATED:20260402T132633Z
LAST-MODIFIED:20260402T133150Z
UID:482350-1776790800-1776790800@977wmoi.com
SUMMARY:Jamieson Community Center Homeownership Workshop
DESCRIPTION:Real Cost of Homeownership workshops\, presented by Consumer Credit Counseling Service of Northern Illinois\, are held Tuesday\, April 21 at 5:00 p.m. or Wednesday\, April 29 at 10:00 a.m. at Jamieson Community Center\, 1025 S. 2nd St.\, Monmouth. There is no cost to attend. To reserve a spot\, call 309-734-4251 or visit www.jamiesoncommunitycenter.org/housingprogram. Workshop attendance is the first step in qualifying to purchase a home through the joint partnership with JCC and Pattee Foundation.
URL:https://977wmoi.com/event/jamieson-community-center-homeownership-workshop/
END:VEVENT
BEGIN:VEVENT
DTSTART;TZID=America/Chicago:20260421T173000
DTEND;TZID=America/Chicago:20260421T173000
DTSTAMP:20260421T055746
CREATED:20260305T144507Z
LAST-MODIFIED:20260305T144507Z
UID:480903-1776792600-1776792600@977wmoi.com
SUMMARY:Fancy Nancy Tea Party Night 1
DESCRIPTION:The Henderson County Public Library cordially invites you to their Fancy Nancy Tea Party at The Barn at Fairview Acres outside Biggsville. Be sure to wear your fanciest ensemble and arrive early for the photo booth\, the chance to decorate a crown\, and grab a snack. Doors open at 5:30 pm. Tea begins at 6:30 pm. Cost is $5 per person. Space is limited so please register by calling 309-627-2450.
URL:https://977wmoi.com/event/fancy-nancy-tea-party-night-1/
END:VEVENT
END:VCALENDAR