BEGIN:VCALENDAR
VERSION:2.0
PRODID:-//Prairie Communications, LLC - ECPv6.15.20//NONSGML v1.0//EN
CALSCALE:GREGORIAN
METHOD:PUBLISH
X-WR-CALNAME:Prairie Communications, LLC
X-ORIGINAL-URL:https://977wmoi.com
X-WR-CALDESC:Events for Prairie Communications, LLC
REFRESH-INTERVAL;VALUE=DURATION:PT1H
X-Robots-Tag:noindex
X-PUBLISHED-TTL:PT1H
BEGIN:VTIMEZONE
TZID:America/Chicago
BEGIN:DAYLIGHT
TZOFFSETFROM:-0600
TZOFFSETTO:-0500
TZNAME:CDT
DTSTART:20250309T080000
END:DAYLIGHT
BEGIN:STANDARD
TZOFFSETFROM:-0500
TZOFFSETTO:-0600
TZNAME:CST
DTSTART:20251102T070000
END:STANDARD
BEGIN:DAYLIGHT
TZOFFSETFROM:-0600
TZOFFSETTO:-0500
TZNAME:CDT
DTSTART:20260308T080000
END:DAYLIGHT
BEGIN:STANDARD
TZOFFSETFROM:-0500
TZOFFSETTO:-0600
TZNAME:CST
DTSTART:20261101T070000
END:STANDARD
BEGIN:DAYLIGHT
TZOFFSETFROM:-0600
TZOFFSETTO:-0500
TZNAME:CDT
DTSTART:20270314T080000
END:DAYLIGHT
BEGIN:STANDARD
TZOFFSETFROM:-0500
TZOFFSETTO:-0600
TZNAME:CST
DTSTART:20271107T070000
END:STANDARD
END:VTIMEZONE
BEGIN:VEVENT
DTSTART;VALUE=DATE:20260420
DTEND;VALUE=DATE:20260501
DTSTAMP:20260424T031008
CREATED:20260313T143658Z
LAST-MODIFIED:20260313T143658Z
UID:481320-1776643200-1777593599@977wmoi.com
SUMMARY:Discounted Labs at the Warren County Health Department
DESCRIPTION:From April 20th through April 30th\, the Warren County Health Department will be offering Discounted Labs for $85\, which includes a Full Lipid Panel\, Hemoglobin A1c\, Comprehensive Metabolic Panel\, and Complete Blood County. PSA Screenings also available for $45\, Vitamin D for $45\, and Vitamin B12 for $25. This lab work is done by appointment only. Call Kira at 309-734-1314\, extension 3. Clients will need to fast for these labs. Bring cash or check for payment and a copy of your results will be mailed to you and can be shared with your primary provider.
URL:https://977wmoi.com/event/discounted-labs-at-the-warren-county-health-department-4/
END:VEVENT
BEGIN:VEVENT
DTSTART;VALUE=DATE:20260424
DTEND;VALUE=DATE:20260427
DTSTAMP:20260424T031008
CREATED:20260319T140512Z
LAST-MODIFIED:20260319T140512Z
UID:481639-1776988800-1777247999@977wmoi.com
SUMMARY:'Farce of Nature' Comes to Prairie Players
DESCRIPTION:Everyone is invited into the woods as Prairie Players presents\, Farce of Nature. This frantic\, Southern-fried comedy written by Jones Hope Wooten and directed by Mary Ellen Millem is about the struggling Wilburn family at their Arkansas fishing lodge\, the Reel ‘Em Inn. Performances are Friday\, April 24\, and Saturday\, April 25\, at 7:30 P.M. There will also be matinee performances on Sunday\, April 26\, at 2 P.M. Tickets are $16.00 for adults and $10.00 for students (plus online processing fees). Performances are at Prairie Players Civic Theatre\, 160 S. Seminary Street\, Galesburg.
URL:https://977wmoi.com/event/farce-of-nature-comes-to-prairie-players-2/
END:VEVENT
BEGIN:VEVENT
DTSTART;TZID=America/Chicago:20260424T070000
DTEND;TZID=America/Chicago:20260424T210000
DTSTAMP:20260424T031008
CREATED:20260105T144040Z
LAST-MODIFIED:20260105T144040Z
UID:477874-1777014000-1777064400@977wmoi.com
SUMMARY:Sandburg Art Institute of Chicago Trip
DESCRIPTION:Join Sandburg for a day trip to the Art Institute of Chicago. Cost is $45\, which includes the $40 bus ticket and $5 admin fee\, museum admission isn’t included and must be obtained separately. Bus will leave from the E Parking Lot on the Sandburg campus in Galesburg. For more information\, contact Sandburg at 309-345-3501.
URL:https://977wmoi.com/event/sandburg-art-institute-of-chicago-trip/
END:VEVENT
BEGIN:VEVENT
DTSTART;TZID=America/Chicago:20260424T110000
DTEND;TZID=America/Chicago:20260424T110000
DTSTAMP:20260424T031008
CREATED:20260326T202038Z
LAST-MODIFIED:20260326T202038Z
UID:482070-1777028400-1777028400@977wmoi.com
SUMMARY:JCC Senior Nutrition: Bites & Brain Teasers
DESCRIPTION:Those 60 and older in Henderson\, Mercer\, or Warren Counties are invited to the Roseville Community Center for a tasty meal\, which will be served at 11:00 am\, and then challenge your brain with puzzles or create a custom bookmark. On the menu: chicken alfredo\, broccoli\, cauliflower\, and fruit cocktail\, or potato bar. A suggested donation of $3 is asked for the meal.
URL:https://977wmoi.com/event/jcc-senior-nutrition-bites-brain-teasers/
END:VEVENT
BEGIN:VEVENT
DTSTART;TZID=America/Chicago:20260424T113000
DTEND;TZID=America/Chicago:20260424T113000
DTSTAMP:20260424T031008
CREATED:20260326T201757Z
LAST-MODIFIED:20260326T201757Z
UID:482068-1777030200-1777030200@977wmoi.com
SUMMARY:JCC Senior Nutrition: Lunch & Paper to Petals
DESCRIPTION:Those 60 and older in Henderson\, Mercer\, or Warren Counties are invited to Strom Center in Monmouth for a tasty meal\, which will be served at 11:30 am\, and then create cheerful flowers during a hands-on activity. On the menu: chicken alfredo\, broccoli\, cauliflower\, and fruit cocktail\, or potato bar. A suggested donation of $3 is asked for the meal.
URL:https://977wmoi.com/event/jcc-senior-nutrition-lunch-paper-to-petals/
END:VEVENT
BEGIN:VEVENT
DTSTART;TZID=America/Chicago:20260424T163000
DTEND;TZID=America/Chicago:20260424T183000
DTSTAMP:20260424T031008
CREATED:20260304T185249Z
LAST-MODIFIED:20260306T145426Z
UID:480873-1777048200-1777055400@977wmoi.com
SUMMARY:ICS Holy Smokes BBQ Fundraiser
DESCRIPTION:All are invited for the Immaculate Conception School Holy Smokes BBQ\, Drive Thru Only at 115 North B Street\, featuring Eddie B’s pulled pork\, plus baked beans\, coleslaw\, cornbread\, and chips. Meals are $10.
URL:https://977wmoi.com/event/ics-holy-smokes-bbq-fundraiser/
END:VEVENT
END:VCALENDAR