BEGIN:VCALENDAR
VERSION:2.0
PRODID:-//Prairie Communications, LLC - ECPv6.15.20//NONSGML v1.0//EN
CALSCALE:GREGORIAN
METHOD:PUBLISH
X-WR-CALNAME:Prairie Communications, LLC
X-ORIGINAL-URL:https://977wmoi.com
X-WR-CALDESC:Events for Prairie Communications, LLC
REFRESH-INTERVAL;VALUE=DURATION:PT1H
X-Robots-Tag:noindex
X-PUBLISHED-TTL:PT1H
BEGIN:VTIMEZONE
TZID:UTC
BEGIN:STANDARD
TZOFFSETFROM:+0000
TZOFFSETTO:+0000
TZNAME:UTC
DTSTART:20180101T000000
END:STANDARD
END:VTIMEZONE
BEGIN:VEVENT
DTSTART;TZID=UTC:20190710T140000
DTEND;TZID=UTC:20190710T180000
DTSTAMP:20260425T231933
CREATED:20190624T183304Z
LAST-MODIFIED:20190624T183304Z
UID:366630-1562767200-1562781600@977wmoi.com
SUMMARY:Blood Drive
DESCRIPTION:At the First Christian Church\, 105 Dwight Street in Kewanee.
URL:https://977wmoi.com/event/blood-drive-4/
END:VEVENT
BEGIN:VEVENT
DTSTART;TZID=UTC:20190710T130000
DTEND;TZID=UTC:20190710T180000
DTSTAMP:20260425T231933
CREATED:20190624T184028Z
LAST-MODIFIED:20190624T184028Z
UID:366644-1562763600-1562781600@977wmoi.com
SUMMARY:Blood Drive
DESCRIPTION:At the Knox Agri Center 180 S Soangetaha Road in Galesburg.
URL:https://977wmoi.com/event/blood-drive-11/
END:VEVENT
BEGIN:VEVENT
DTSTART;TZID=UTC:20190710T130000
DTEND;TZID=UTC:20190710T150000
DTSTAMP:20260425T231933
CREATED:20190701T210441Z
LAST-MODIFIED:20190701T210517Z
UID:366879-1562763600-1562770800@977wmoi.com
SUMMARY:BINGO at Henderson Senior Center
DESCRIPTION:Located at Schuler Street in Oquawka. Snacks and drink will be served. No charge to play 4 cards. Additional cards are 25 cents each.
URL:https://977wmoi.com/event/bingo-at-henderson-senior-center/
END:VEVENT
BEGIN:VEVENT
DTSTART;TZID=UTC:20190710T090000
DTEND;TZID=UTC:20190710T120000
DTSTAMP:20260425T231933
CREATED:20190619T004657Z
LAST-MODIFIED:20190619T004728Z
UID:366584-1562749200-1562760000@977wmoi.com
SUMMARY:OSF Holy Family Medical Center Blood Drive
DESCRIPTION:OSF Holy Family Medical Center in Monmouth will host a community blood drive at 1000 W Harlem\, inside the OSF Wellness Classroom. Please use the Rehab and Specialty Clinics North Entrance.
URL:https://977wmoi.com/event/osf-holy-family-medical-center-blood-drive/
END:VEVENT
BEGIN:VEVENT
DTSTART;VALUE=DATE:20190710
DTEND;VALUE=DATE:20190711
DTSTAMP:20260425T231933
CREATED:20190624T212933Z
LAST-MODIFIED:20190624T212933Z
UID:366683-1562716800-1562803199@977wmoi.com
SUMMARY:Knox County Fair
DESCRIPTION:STOCK CAR RACES – 6:30 HOT LAPS ($12 GRANDSTAND\, $30 PIT)\nAMUSEMENT RIDES – 5-10PM (ARMBANDS – $15)\nCOMPEER BUILDING BAND – BACKSTABBIN’ BETTY
URL:https://977wmoi.com/event/knox-county-fair-3/
END:VEVENT
BEGIN:VEVENT
DTSTART;TZID=UTC:20190709T130000
DTEND;TZID=UTC:20190709T130000
DTSTAMP:20260425T231933
CREATED:20190701T204152Z
LAST-MODIFIED:20190701T204152Z
UID:366863-1562677200-1562677200@977wmoi.com
SUMMARY:BINGO at Strom Center in Monmouth
DESCRIPTION:Refreshments available. Cost is 25 cents per card.
URL:https://977wmoi.com/event/bingo-at-strom-center-in-monmouth/
END:VEVENT
BEGIN:VEVENT
DTSTART;VALUE=DATE:20190709
DTEND;VALUE=DATE:20190710
DTSTAMP:20260425T231933
CREATED:20190624T212835Z
LAST-MODIFIED:20190624T212835Z
UID:366681-1562630400-1562716799@977wmoi.com
SUMMARY:Knox County Fair
DESCRIPTION:TRACTOR & TRUCK PULLS – 6:30 ($12 GRANDSTAND\, $20 PIT)\nAMUSEMENT RIDES – 5-10PM (ARMBANDS – $15)\nCOMPEER BUILDING BAND – SHAWN KISTLER (DRY)
URL:https://977wmoi.com/event/knox-county-fair-2/
END:VEVENT
BEGIN:VEVENT
DTSTART;TZID=UTC:20190708T173000
DTEND;TZID=UTC:20190708T173000
DTSTAMP:20260425T231933
CREATED:20190624T212735Z
LAST-MODIFIED:20190624T212735Z
UID:366679-1562607000-1562607000@977wmoi.com
SUMMARY:Knox County Fair
DESCRIPTION:HORSE RACES – 5:30
URL:https://977wmoi.com/event/knox-county-fair/
END:VEVENT
BEGIN:VEVENT
DTSTART;TZID=UTC:20190708T160000
DTEND;TZID=UTC:20190708T160000
DTSTAMP:20260425T231933
CREATED:20190701T204933Z
LAST-MODIFIED:20190701T204933Z
UID:366869-1562601600-1562601600@977wmoi.com
SUMMARY:Parkinson's Support Group
DESCRIPTION:The Warren County Parkinson’s Support Group will meet in the Rocksteady room at the Warren County YMCA. The program will be presented by Jennifer Ohashi DPT on The Benefits of Exercise and Physical Therapy for Parkinson’s patients. For more information\, contact Marcia Parrish at 309-221-7907.
URL:https://977wmoi.com/event/parkinsons-support-group-3/
END:VEVENT
BEGIN:VEVENT
DTSTART;TZID=UTC:20190705T120000
DTEND;TZID=UTC:20190705T180000
DTSTAMP:20260425T231933
CREATED:20190624T183054Z
LAST-MODIFIED:20190624T183054Z
UID:366626-1562328000-1562349600@977wmoi.com
SUMMARY:Blood Drive
DESCRIPTION:At First United Methodist Church South Campus Building\, 302 N State  Street in Geneseo.
URL:https://977wmoi.com/event/blood-drive-2/
END:VEVENT
BEGIN:VEVENT
DTSTART;TZID=UTC:20190705T090000
DTEND;TZID=UTC:20190705T130000
DTSTAMP:20260425T231933
CREATED:20190624T183927Z
LAST-MODIFIED:20190624T183927Z
UID:366642-1562317200-1562331600@977wmoi.com
SUMMARY:Blood Drive
DESCRIPTION:At the Galesburg Faith United Methodist Church\, 876 E Knox Street in Galesburg.
URL:https://977wmoi.com/event/blood-drive-10/
END:VEVENT
BEGIN:VEVENT
DTSTART;TZID=UTC:20190704T110000
DTEND;TZID=UTC:20190704T130000
DTSTAMP:20260425T231933
CREATED:20190701T205853Z
LAST-MODIFIED:20190701T205853Z
UID:366875-1562238000-1562245200@977wmoi.com
SUMMARY:Annual Historical Society BBQ Lunch
DESCRIPTION:The Henderson County Historical Society’s Annual BBQ will be held at St. Pat’s Community Center\, northeast of Raritan. Pork chops or chicken plus sides and desserts\, drinks. Take out available. Free will donation.
URL:https://977wmoi.com/event/annual-historical-society-bbq-lunch/
END:VEVENT
BEGIN:VEVENT
DTSTART;TZID=UTC:20190704T070000
DTEND;TZID=UTC:20190704T103000
DTSTAMP:20260425T231933
CREATED:20190628T234633Z
LAST-MODIFIED:20190628T234633Z
UID:366800-1562223600-1562236200@977wmoi.com
SUMMARY:4th of July Fly-In Breakfast
DESCRIPTION:The 53rd Anniversary presented by the Monmouth Flying Club\, located at the Monmouth Airport-C66. Tickets for adults are $7 in advance\, $8 at the door. For children tickets are $5 in advance and $6 at the door.
URL:https://977wmoi.com/event/4th-of-july-fly-in-breakfast/
END:VEVENT
BEGIN:VEVENT
DTSTART;TZID=UTC:20190703T210000
DTEND;TZID=UTC:20190703T210000
DTSTAMP:20260425T231933
CREATED:20190701T205642Z
LAST-MODIFIED:20190701T205642Z
UID:366873-1562187600-1562187600@977wmoi.com
SUMMARY:Raritan Independence Day Celebration
DESCRIPTION:Fireworks will be on display at dusk on Moore Farm\, 3 and a half miles south of Raritan. Food available on site.
URL:https://977wmoi.com/event/raritan-independence-day-celebration/
END:VEVENT
BEGIN:VEVENT
DTSTART;TZID=UTC:20190702T100000
DTEND;TZID=UTC:20190702T140000
DTSTAMP:20260425T231933
CREATED:20190624T183802Z
LAST-MODIFIED:20190624T183802Z
UID:366640-1562061600-1562076000@977wmoi.com
SUMMARY:Blood Drive
DESCRIPTION:At the Knox Agri Center\, 180 S Soangetaha Road in Galesburg.
URL:https://977wmoi.com/event/blood-drive-9/
END:VEVENT
BEGIN:VEVENT
DTSTART;TZID=UTC:20190702T073000
DTEND;TZID=UTC:20190702T083000
DTSTAMP:20260425T231933
CREATED:20190617T183158Z
LAST-MODIFIED:20190617T183158Z
UID:366537-1562052600-1562056200@977wmoi.com
SUMMARY:Galesburg Chamber Membership 101
DESCRIPTION:Tips to get the most out of your chamber membership! Held in the Galesburg Area Chamber of Commerce Boardroom. Free to all interested.
URL:https://977wmoi.com/event/galesburg-chamber-membership-101/
END:VEVENT
BEGIN:VEVENT
DTSTART;TZID=UTC:20190701T120000
DTEND;TZID=UTC:20190701T180000
DTSTAMP:20260425T231933
CREATED:20190624T183559Z
LAST-MODIFIED:20190624T183559Z
UID:366636-1561982400-1562004000@977wmoi.com
SUMMARY:Blood Drive
DESCRIPTION:At St John’s Church\, Route 17 in Woodhull.
URL:https://977wmoi.com/event/blood-drive-7/
END:VEVENT
BEGIN:VEVENT
DTSTART;TZID=UTC:20190629T110000
DTEND;TZID=UTC:20190629T110000
DTSTAMP:20260425T231933
CREATED:20190618T003011Z
LAST-MODIFIED:20190618T003011Z
UID:366555-1561806000-1561806000@977wmoi.com
SUMMARY:West Central FFA Chapter Tractor Pull
DESCRIPTION:In Oquawka\, IL. Mini rods pulling first with everything to follow. Food will be provided on grounds.
URL:https://977wmoi.com/event/west-central-ffa-chapter-tractor-pull/
END:VEVENT
BEGIN:VEVENT
DTSTART;TZID=UTC:20190629T100000
DTEND;TZID=UTC:20190629T100000
DTSTAMP:20260425T231933
CREATED:20190624T214947Z
LAST-MODIFIED:20190624T214947Z
UID:366691-1561802400-1561802400@977wmoi.com
SUMMARY:Barbeque Fundraiser
DESCRIPTION:Hosted by St. James AME Church\, 900 S 3rd Street in Monmouth. Rib dinner is $10. Chicken dinner is $8. Hotdog\, brats\, and polish dinners are $7. Hamburger dinner is $6. All dinners include baked beans\, potato salad\, corn on the cob\, dessert\, and drink.
URL:https://977wmoi.com/event/barbeque-fundraiser/
END:VEVENT
BEGIN:VEVENT
DTSTART;TZID=UTC:20190629T070000
DTEND;TZID=UTC:20190629T070000
DTSTAMP:20260425T231933
CREATED:20190619T183026Z
LAST-MODIFIED:20190619T183026Z
UID:366589-1561791600-1561791600@977wmoi.com
SUMMARY:Ryde for Ryder
DESCRIPTION:3rd annual group Ryde for Ryder. Registration begins at 7am. Shotgun start at 8am. 13M\, 26M\, and 50M loop options. $25 includes T-Shirt and refreshments. To register\, email kim@mbwi.com.
URL:https://977wmoi.com/event/ryde-for-ryder/
END:VEVENT
BEGIN:VEVENT
DTSTART;VALUE=DATE:20190629
DTEND;VALUE=DATE:20190630
DTSTAMP:20260425T231933
CREATED:20190625T194528Z
LAST-MODIFIED:20190625T194528Z
UID:366722-1561766400-1561852799@977wmoi.com
SUMMARY:Kirkwood Days Block Party
DESCRIPTION:6 to 10 kirkwood fire station scrambled eggs\, biscuit gravy free will donation\n7 to ? Citywide yard sales\n9 to noon. Kids face painting at library\n11 to 2. Big Bucks BBQ at 135 w chestnut
URL:https://977wmoi.com/event/kirkwood-days-block-party/
END:VEVENT
BEGIN:VEVENT
DTSTART;TZID=UTC:20190628T140000
DTEND;TZID=UTC:20190628T180000
DTSTAMP:20260425T231933
CREATED:20190624T184410Z
LAST-MODIFIED:20190624T184410Z
UID:366651-1561730400-1561744800@977wmoi.com
SUMMARY:Blood Drive
DESCRIPTION:At the New Windsor Presbyterian Church\, 4th and Walnut Box 245 in New Windsor.
URL:https://977wmoi.com/event/blood-drive-13/
END:VEVENT
BEGIN:VEVENT
DTSTART;TZID=UTC:20190627T170000
DTEND;TZID=UTC:20190627T190000
DTSTAMP:20260425T231933
CREATED:20190617T183025Z
LAST-MODIFIED:20190617T183025Z
UID:366535-1561654800-1561662000@977wmoi.com
SUMMARY:Business After Hours
DESCRIPTION:Hosted by the Galesburg Area Chamber of Commerce. Will be held at The Kensington\, 311 E Simmons Street in Galesburg.
URL:https://977wmoi.com/event/business-after-hours/
END:VEVENT
BEGIN:VEVENT
DTSTART;TZID=UTC:20190626T163000
DTEND;TZID=UTC:20190626T183000
DTSTAMP:20260425T231933
CREATED:20190415T182515Z
LAST-MODIFIED:20190415T182515Z
UID:365484-1561566600-1561573800@977wmoi.com
SUMMARY:Parent Information from the ROE
DESCRIPTION:For caregivers of junior high and high school students. The ROE #33 with support from the United Way Heart of Illinois of Peoria will be sharing Healthy Mind Healthy Neighborhoods: Self-Regulation\, Decision-Making\, Self-Awareness\, Building Relationships\, and Social Awareness. At Sidetrax Bar and Grill\, 441 East Main Street in Galesburg.
URL:https://977wmoi.com/event/parent-information-from-the-roe-3/
END:VEVENT
BEGIN:VEVENT
DTSTART;TZID=UTC:20190626T130000
DTEND;TZID=UTC:20190626T180000
DTSTAMP:20260425T231933
CREATED:20190624T183710Z
LAST-MODIFIED:20190624T183710Z
UID:366638-1561554000-1561572000@977wmoi.com
SUMMARY:Blood Drive
DESCRIPTION:At the Knox Agri Center\, 180 S Soangetaha Road in Galesburg.
URL:https://977wmoi.com/event/blood-drive-8/
END:VEVENT
BEGIN:VEVENT
DTSTART;TZID=UTC:20190625T173000
DTEND;TZID=UTC:20190625T173000
DTSTAMP:20260425T231933
CREATED:20190607T193208Z
LAST-MODIFIED:20190607T193208Z
UID:366441-1561483800-1561483800@977wmoi.com
SUMMARY:Warren-Henderson Farm Bureau Annual Meeting
DESCRIPTION:To be held at the VFW in Monmouth\, 830 N G Street. Registration begins at 5:30 with dinner being served at 6pm. Dinner will be provided by the Tri-County Cattlemen and M & E Catering. Entertainment will be Tim Cavanaugh\, a comedian from Chicago. A live and silent auction will also take place. Reservations need to be made by June 15th. For more information\, contact the Farm Bureau at 309-734-9401.
URL:https://977wmoi.com/event/warren-henderson-farm-bureau-annual-meeting/
END:VEVENT
BEGIN:VEVENT
DTSTART;TZID=UTC:20190623T110000
DTEND;TZID=UTC:20190623T150000
DTSTAMP:20260425T231933
CREATED:20190617T184034Z
LAST-MODIFIED:20190617T184034Z
UID:366545-1561287600-1561302000@977wmoi.com
SUMMARY:Lincoln & The Railroad
DESCRIPTION:Free admission. To be held at the Prairie Players Civic Theater\, 160 S Seminary Street in Galesburg. There will  be an exhibit open 11am to 3pm\, live music\, and prize giveaways.
URL:https://977wmoi.com/event/lincoln-the-railroad-2/
END:VEVENT
BEGIN:VEVENT
DTSTART;TZID=UTC:20190622T130000
DTEND;TZID=UTC:20190622T160000
DTSTAMP:20260425T231933
CREATED:20190617T183400Z
LAST-MODIFIED:20190617T183400Z
UID:366539-1561208400-1561219200@977wmoi.com
SUMMARY:Railroad Days at Discovery Depot
DESCRIPTION:Jump on board of their BNSF caboose. free to public all day long. Build your own model train for $2 with admission. Special guest appearance by Abraham Lincoln.
URL:https://977wmoi.com/event/railroad-days-at-discovery-depot/
END:VEVENT
BEGIN:VEVENT
DTSTART;TZID=UTC:20190622T110000
DTEND;TZID=UTC:20190622T160000
DTSTAMP:20260425T231933
CREATED:20190617T183924Z
LAST-MODIFIED:20190617T183924Z
UID:366543-1561201200-1561219200@977wmoi.com
SUMMARY:Lincoln & The Railroad
DESCRIPTION:Free admission. To be held at the Prairie Players Civic Theater\, 160 S Seminary Street in Galesburg. Live performances at 11am\, 12pm\, 2pm\, and 3pm. There will also be an exhibit open 10am to 4pm\, live music\, and prize giveaways.
URL:https://977wmoi.com/event/lincoln-the-railroad/
END:VEVENT
BEGIN:VEVENT
DTSTART;TZID=UTC:20190622T100000
DTEND;TZID=UTC:20190623T150000
DTSTAMP:20260425T231933
CREATED:20190617T183629Z
LAST-MODIFIED:20190617T183629Z
UID:366541-1561197600-1561302000@977wmoi.com
SUMMARY:"The Great War...Galesburg's Sammies" Tram Tour
DESCRIPTION:Tickets are $4. Tours are 10am to 3pm on the hour both days. Part of Railroad Days\, located at Colton Park in front of the depot.
URL:https://977wmoi.com/event/the-great-war-galesburgs-sammies-tram-tour/
END:VEVENT
END:VCALENDAR